Workbook
Name Print_Title: #REF!
Name titlee3: #REF!
Name Titles_Printer: #REF!

Sheet Baganuur
A1: БАГАНУУР ДҮҮРГИЙН ХҮН АМЫН ТОО /2026.01.01/
B2: =B7+B13+B19+B26+B27+B28+B29 -> 10821
A3: Нас | B3: Багануур дүүрэг | E3: 1-р хороо | H3: 2-р хороо | K3: 3-р хороо | N3: 4-р хороо | Q3: 5-р хороо
B4: бүгд | C4: эр | D4: эм | E4: бүгд | F4: эр | G4: эм | H4: бүгд | I4: эр | J4: эм | K4: бүгд | L4: эр | M4: эм | N4: бүгд | O4: эр | P4: эм | Q4: бүгд | R4: эр | S4: эм
A5: Өрх | B5: =E5+H5+K5+N5+Q5 -> 8855 | E5: 2622 | H5: 240 | K5: 2306 | N5: 1816 | Q5: 1871
A6: ХҮН АМ | B6: =B7+B13+B19+B25+B31+B37+B43+B49+B55+B61+B67+B73+B79+B85+B91+B97+B103+B109+B115+B121+B127 -> 28949 | C6: =C7+C13+C19+C25+C31+C37+C43+C49+C55+C61+C67+C73+C79+C85+C91+C97+C103+C109+C115+C121+C127 -> 14153 | D6: =D7+D13+D19+D25+D31+D37+D43+D49+D55+D61+D67+D73+D79+D85+D91+D97+D103+D109+D115+D121+D127 -> 14796 | E6: =E7+E13+E19+E25+E31+E37+E43+E49+E55+E61+E67+E73+E79+E85+E91+E97+E103+E109+E115+E121+E127 -> 8516 | F6: =F7+F13+F19+F25+F31+F37+F43+F49+F55+F61+F67+F73+F79+F85+F91+F97+F103+F109+F115+F121+F127 -> 4088 | G6: =G7+G13+G19+G25+G31+G37+G43+G49+G55+G61+G67+G73+G79+G85+G91+G97+G103+G109+G115+G121+G127 -> 4428 | H6: =H7+H13+H19+H25+H31+H37+H43+H49+H55+H61+H67+H73+H79+H85+H91+H97+H103+H109+H115+H121+H127 -> 699 | I6: =I7+I13+I19+I25+I31+I37+I43+I49+I55+I61+I67+I73+I79+I85+I91+I97+I103+I109+I115+I121+I127 -> 357 | ... S6: =S7+S13+S19+S25+S31+S37+S43+S49+S55+S61+S67+S73+S79+S85+S91+S97+S103+S109+S115+S121+S127 -> 3054
A7: 0-4 | B7: =C7+D7 -> 2516 | C7: =F7+I7+L7+O7+R7 -> 1282 | D7: =G7+J7+M7+P7+S7 -> 1234 | E7: =F7+G7 -> 645 | F7: 307 | G7: 338 | H7: =I7+J7 -> 49 | I7: 32 | J7: 17 | K7: =L7+M7 -> 652 | L7: 333 | M7: 319 | N7: =O7+P7 -> 607 | O7: 317 | P7: 290 | Q7: =R7+S7 -> 563 | R7: 293 | S7: 270
A8: 0 | B8: =C8+D8 -> 455 | C8: =F8+I8+L8+O8+R8 -> 230 | D8: =G8+J8+M8+P8+S8 -> 225 | E8: =F8+G8 -> 110 | F8: 54 | G8: 56 | H8: =I8+J8 -> 7 | I8: 5 | J8: 2 | K8: =L8+M8 -> 107 | L8: 53 | M8: 54 | N8: =O8+P8 -> 132 | O8: 71 | P8: 61 | Q8: =R8+S8 -> 99 | R8: 47 | S8: 52
A9: 1 | B9: =C9+D9 -> 455 | C9: =F9+I9+L9+O9+R9 -> 241 | D9: =G9+J9+M9+P9+S9 -> 214 | E9: =F9+G9 -> 127 | F9: 64 | G9: 63 | H9: =I9+J9 -> 6 | I9: 6 | J9: 0 | K9: =L9+M9 -> 114 | L9: 59 | M9: 55 | N9: =O9+P9 -> 102 | O9: 54 | P9: 48 | Q9: =R9+S9 -> 106 | R9: 58 | S9: 48
A10: 2 | B10: =C10+D10 -> 515 | C10: =F10+I10+L10+O10+R10 -> 269 | D10: =G10+J10+M10+P10+S10 -> 246 | E10: =F10+G10 -> 132 | F10: 67 | G10: 65 | H10: =I10+J10 -> 10 | I10: 6 | J10: 4 | K10: =L10+M10 -> 130 | L10: 66 | M10: 64 | N10: =O10+P10 -> 116 | O10: 64 | P10: 52 | Q10: =R10+S10 -> 127 | R10: 66 | S10: 61
A11: 3 | B11: =C11+D11 -> 532 | C11: =F11+I11+L11+O11+R11 -> 272 | D11: =G11+J11+M11+P11+S11 -> 260 | E11: =F11+G11 -> 130 | F11: 57 | G11: 73 | H11: =I11+J11 -> 12 | I11: 9 | J11: 3 | K11: =L11+M11 -> 153 | L11: 81 | M11: 72 | N11: =O11+P11 -> 121 | O11: 60 | P11: 61 | Q11: =R11+S11 -> 116 | R11: 65 | S11: 51
A12: 4 | B12: =C12+D12 -> 559 | C12: =F12+I12+L12+O12+R12 -> 270 | D12: =G12+J12+M12+P12+S12 -> 289 | E12: =F12+G12 -> 146 | F12: 65 | G12: 81 | H12: =I12+J12 -> 14 | I12: 6 | J12: 8 | K12: =L12+M12 -> 148 | L12: 74 | M12: 74 | N12: =O12+P12 -> 136 | O12: 68 | P12: 68 | Q12: =R12+S12 -> 115 | R12: 57 | S12: 58
A13: 5-9 | B13: =C13+D13 -> 2907 | C13: =F13+I13+L13+O13+R13 -> 1504 | D13: =G13+J13+M13+P13+S13 -> 1403 | E13: =F13+G13 -> 875 | F13: 439 | G13: 436 | H13: =I13+J13 -> 56 | I13: 28 | J13: 28 | K13: =L13+M13 -> 785 | L13: 408 | M13: 377 | N13: =O13+P13 -> 611 | O13: 311 | P13: 300 | Q13: =R13+S13 -> 580 | R13: 318 | S13: 262
A14: 5 | B14: =C14+D14 -> 564 | C14: =F14+I14+L14+O14+R14 -> 271 | D14: =G14+J14+M14+P14+S14 -> 293 | E14: =F14+G14 -> 161 | F14: 92 | G14: 69 | H14: =I14+J14 -> 10 | I14: 3 | J14: 7 | K14: =L14+M14 -> 154 | L14: 72 | M14: 82 | N14: =O14+P14 -> 114 | O14: 43 | P14: 71 | Q14: =R14+S14 -> 125 | R14: 61 | S14: 64
A15: 6 | B15: =C15+D15 -> 602 | C15: =F15+I15+L15+O15+R15 -> 320 | D15: =G15+J15+M15+P15+S15 -> 282 | E15: =F15+G15 -> 180 | F15: 81 | G15: 99 | H15: =I15+J15 -> 14 | I15: 9 | J15: 5 | K15: =L15+M15 -> 146 | L15: 78 | M15: 68 | N15: =O15+P15 -> 139 | O15: 81 | P15: 58 | Q15: =R15+S15 -> 123 | R15: 71 | S15: 52
A16: 7 | B16: =C16+D16 -> 631 | C16: =F16+I16+L16+O16+R16 -> 328 | D16: =G16+J16+M16+P16+S16 -> 303 | E16: =F16+G16 -> 199 | F16: 96 | G16: 103 | H16: =I16+J16 -> 12 | I16: 3 | J16: 9 | K16: =L16+M16 -> 178 | L16: 93 | M16: 85 | N16: =O16+P16 -> 120 | O16: 65 | P16: 55 | Q16: =R16+S16 -> 122 | R16: 71 | S16: 51
A17: 8 | B17: =C17+D17 -> 552 | C17: =F17+I17+L17+O17+R17 -> 292 | D17: =G17+J17+M17+P17+S17 -> 260 | E17: =F17+G17 -> 159 | F17: 83 | G17: 76 | H17: =I17+J17 -> 11 | I17: 7 | J17: 4 | K17: =L17+M17 -> 141 | L17: 75 | M17: 66 | N17: =O17+P17 -> 132 | O17: 69 | P17: 63 | Q17: =R17+S17 -> 109 | R17: 58 | S17: 51
A18: 9 | B18: =C18+D18 -> 558 | C18: =F18+I18+L18+O18+R18 -> 293 | D18: =G18+J18+M18+P18+S18 -> 265 | E18: =F18+G18 -> 176 | F18: 87 | G18: 89 | H18: =I18+J18 -> 9 | I18: 6 | J18: 3 | K18: =L18+M18 -> 166 | L18: 90 | M18: 76 | N18: =O18+P18 -> 106 | O18: 53 | P18: 53 | Q18: =R18+S18 -> 101 | R18: 57 | S18: 44
A19: 10-14 | B19: =C19+D19 -> 3197 | C19: =F19+I19+L19+O19+R19 -> 1607 | D19: =G19+J19+M19+P19+S19 -> 1590 | E19: =F19+G19 -> 983 | F19: 509 | G19: 474 | H19: =I19+J19 -> 62 | I19: 34 | J19: 28 | K19: =L19+M19 -> 825 | L19: 404 | M19: 421 | N19: =O19+P19 -> 652 | O19: 330 | P19: 322 | Q19: =R19+S19 -> 675 | R19: 330 | S19: 345
A20: 10 | B20: =C20+D20 -> 601 | C20: =F20+I20+L20+O20+R20 -> 301 | D20: =G20+J20+M20+P20+S20 -> 300 | E20: =F20+G20 -> 208 | F20: 111 | G20: 97 | H20: =I20+J20 -> 10 | I20: 7 | J20: 3 | K20: =L20+M20 -> 135 | L20: 69 | M20: 66 | N20: =O20+P20 -> 133 | O20: 61 | P20: 72 | Q20: =R20+S20 -> 115 | R20: 53 | S20: 62
A21: 11 | B21: =C21+D21 -> 665 | C21: =F21+I21+L21+O21+R21 -> 346 | D21: =G21+J21+M21+P21+S21 -> 319 | E21: =F21+G21 -> 211 | F21: 117 | G21: 94 | H21: =I21+J21 -> 12 | I21: 8 | J21: 4 | K21: =L21+M21 -> 168 | L21: 89 | M21: 79 | N21: =O21+P21 -> 137 | O21: 68 | P21: 69 | Q21: =R21+S21 -> 137 | R21: 64 | S21: 73
A22: 12 | B22: =C22+D22 -> 704 | C22: =F22+I22+L22+O22+R22 -> 360 | D22: =G22+J22+M22+P22+S22 -> 344 | E22: =F22+G22 -> 212 | F22: 113 | G22: 99 | H22: =I22+J22 -> 13 | I22: 6 | J22: 7 | K22: =L22+M22 -> 179 | L22: 81 | M22: 98 | N22: =O22+P22 -> 140 | O22: 71 | P22: 69 | Q22: =R22+S22 -> 160 | R22: 89 | S22: 71
A23: 13 | B23: =C23+D23 -> 634 | C23: =F23+I23+L23+O23+R23 -> 309 | D23: =G23+J23+M23+P23+S23 -> 325 | E23: =F23+G23 -> 182 | F23: 89 | G23: 93 | H23: =I23+J23 -> 10 | I23: 4 | J23: 6 | K23: =L23+M23 -> 172 | L23: 83 | M23: 89 | N23: =O23+P23 -> 132 | O23: 72 | P23: 60 | Q23: =R23+S23 -> 138 | R23: 61 | S23: 77
A24: 14 | B24: =C24+D24 -> 593 | C24: =F24+I24+L24+O24+R24 -> 291 | D24: =G24+J24+M24+P24+S24 -> 302 | E24: =F24+G24 -> 170 | F24: 79 | G24: 91 | H24: =I24+J24 -> 17 | I24: 9 | J24: 8 | K24: =L24+M24 -> 171 | L24: 82 | M24: 89 | N24: =O24+P24 -> 110 | O24: 58 | P24: 52 | Q24: =R24+S24 -> 125 | R24: 63 | S24: 62
A25: 15-19 | B25: =C25+D25 -> 2554 | C25: =F25+I25+L25+O25+R25 -> 1324 | D25: =G25+J25+M25+P25+S25 -> 1230 | E25: =F25+G25 -> 780 | F25: 391 | G25: 389 | H25: =I25+J25 -> 61 | I25: 31 | J25: 30 | K25: =L25+M25 -> 643 | L25: 324 | M25: 319 | N25: =O25+P25 -> 533 | O25: 280 | P25: 253 | Q25: =R25+S25 -> 537 | R25: 298 | S25: 239
A26: 15 | B26: =C26+D26 -> 548 | C26: =F26+I26+L26+O26+R26 -> 299 | D26: =G26+J26+M26+P26+S26 -> 249 | E26: =F26+G26 -> 175 | F26: 92 | G26: 83 | H26: =I26+J26 -> 9 | I26: 6 | J26: 3 | K26: =L26+M26 -> 137 | L26: 69 | M26: 68 | N26: =O26+P26 -> 116 | O26: 65 | P26: 51 | Q26: =R26+S26 -> 111 | R26: 67 | S26: 44
A27: 16 | B27: =C27+D27 -> 626 | C27: =F27+I27+L27+O27+R27 -> 319 | D27: =G27+J27+M27+P27+S27 -> 307 | E27: =F27+G27 -> 192 | F27: 90 | G27: 102 | H27: =I27+J27 -> 22 | I27: 11 | J27: 11 | K27: =L27+M27 -> 160 | L27: 86 | M27: 74 | N27: =O27+P27 -> 133 | O27: 68 | P27: 65 | Q27: =R27+S27 -> 119 | R27: 64 | S27: 55
A28: 17 | B28: =C28+D28 -> 571 | C28: =F28+I28+L28+O28+R28 -> 287 | D28: =G28+J28+M28+P28+S28 -> 284 | E28: =F28+G28 -> 186 | F28: 95 | G28: 91 | H28: =I28+J28 -> 15 | I28: 7 | J28: 8 | K28: =L28+M28 -> 145 | L28: 68 | M28: 77 | N28: =O28+P28 -> 109 | O28: 53 | P28: 56 | Q28: =R28+S28 -> 116 | R28: 64 | S28: 52
A29: 18 | B29: =C29+D29 -> 456 | C29: =F29+I29+L29+O29+R29 -> 227 | D29: =G29+J29+M29+P29+S29 -> 229 | E29: =F29+G29 -> 144 | F29: 75 | G29: 69 | H29: =I29+J29 -> 10 | I29: 3 | J29: 7 | K29: =L29+M29 -> 110 | L29: 47 | M29: 63 | N29: =O29+P29 -> 84 | O29: 48 | P29: 36 | Q29: =R29+S29 -> 108 | R29: 54 | S29: 54
A30: 19 | B30: =C30+D30 -> 353 | C30: =F30+I30+L30+O30+R30 -> 192 | D30: =G30+J30+M30+P30+S30 -> 161 | E30: =F30+G30 -> 83 | F30: 39 | G30: 44 | H30: =I30+J30 -> 5 | I30: 4 | J30: 1 | K30: =L30+M30 -> 91 | L30: 54 | M30: 37 | N30: =O30+P30 -> 91 | O30: 46 | P30: 45 | Q30: =R30+S30 -> 83 | R30: 49 | S30: 34
A31: 20-24 | B31: =C31+D31 -> 1642 | C31: =F31+I31+L31+O31+R31 -> 866 | D31: =G31+J31+M31+P31+S31 -> 776 | E31: =F31+G31 -> 455 | F31: 235 | G31: 220 | H31: =I31+J31 -> 39 | I31: 21 | J31: 18 | K31: =L31+M31 -> 376 | L31: 204 | M31: 172 | N31: =O31+P31 -> 345 | O31: 170 | P31: 175 | Q31: =R31+S31 -> 427 | R31: 236 | S31: 191
A32: 20 | B32: =C32+D32 -> 327 | C32: =F32+I32+L32+O32+R32 -> 165 | D32: =G32+J32+M32+P32+S32 -> 162 | E32: =F32+G32 -> 85 | F32: 36 | G32: 49 | H32: =I32+J32 -> 11 | I32: 5 | J32: 6 | K32: =L32+M32 -> 81 | L32: 49 | M32: 32 | N32: =O32+P32 -> 79 | O32: 33 | P32: 46 | Q32: =R32+S32 -> 71 | R32: 42 | S32: 29
A33: 21 | B33: =C33+D33 -> 344 | C33: =F33+I33+L33+O33+R33 -> 179 | D33: =G33+J33+M33+P33+S33 -> 165 | E33: =F33+G33 -> 101 | F33: 51 | G33: 50 | H33: =I33+J33 -> 8 | I33: 2 | J33: 6 | K33: =L33+M33 -> 80 | L33: 41 | M33: 39 | N33: =O33+P33 -> 59 | O33: 31 | P33: 28 | Q33: =R33+S33 -> 96 | R33: 54 | S33: 42
A34: 22 | B34: =C34+D34 -> 309 | C34: =F34+I34+L34+O34+R34 -> 159 | D34: =G34+J34+M34+P34+S34 -> 150 | E34: =F34+G34 -> 90 | F34: 52 | G34: 38 | H34: =I34+J34 -> 3 | I34: 1 | J34: 2 | K34: =L34+M34 -> 61 | L34: 33 | M34: 28 | N34: =O34+P34 -> 69 | O34: 33 | P34: 36 | Q34: =R34+S34 -> 86 | R34: 40 | S34: 46
A35: 23 | B35: =C35+D35 -> 324 | C35: =F35+I35+L35+O35+R35 -> 176 | D35: =G35+J35+M35+P35+S35 -> 148 | E35: =F35+G35 -> 87 | F35: 48 | G35: 39 | H35: =I35+J35 -> 9 | I35: 6 | J35: 3 | K35: =L35+M35 -> 76 | L35: 35 | M35: 41 | N35: =O35+P35 -> 67 | O35: 39 | P35: 28 | Q35: =R35+S35 -> 85 | R35: 48 | S35: 37
A36: 24 | B36: =C36+D36 -> 338 | C36: =F36+I36+L36+O36+R36 -> 187 | D36: =G36+J36+M36+P36+S36 -> 151 | E36: =F36+G36 -> 92 | F36: 48 | G36: 44 | H36: =I36+J36 -> 8 | I36: 7 | J36: 1 | K36: =L36+M36 -> 78 | L36: 46 | M36: 32 | N36: =O36+P36 -> 71 | O36: 34 | P36: 37 | Q36: =R36+S36 -> 89 | R36: 52 | S36: 37
A37: 25-29 | B37: =C37+D37 -> 1742 | C37: =F37+I37+L37+O37+R37 -> 902 | D37: =G37+J37+M37+P37+S37 -> 840 | E37: =F37+G37 -> 466 | F37: 237 | G37: 229 | H37: =I37+J37 -> 44 | I37: 23 | J37: 21 | K37: =L37+M37 -> 467 | L37: 230 | M37: 237 | N37: =O37+P37 -> 368 | O37: 198 | P37: 170 | Q37: =R37+S37 -> 397 | R37: 214 | S37: 183
A38: 25 | B38: =C38+D38 -> 369 | C38: =F38+I38+L38+O38+R38 -> 209 | D38: =G38+J38+M38+P38+S38 -> 160 | E38: =F38+G38 -> 106 | F38: 62 | G38: 44 | H38: =I38+J38 -> 9 | I38: 6 | J38: 3 | K38: =L38+M38 -> 87 | L38: 48 | M38: 39 | N38: =O38+P38 -> 81 | O38: 48 | P38: 33 | Q38: =R38+S38 -> 86 | R38: 45 | S38: 41
A39: 26 | B39: =C39+D39 -> 339 | C39: =F39+I39+L39+O39+R39 -> 168 | D39: =G39+J39+M39+P39+S39 -> 171 | E39: =F39+G39 -> 103 | F39: 52 | G39: 51 | H39: =I39+J39 -> 10 | I39: 5 | J39: 5 | K39: =L39+M39 -> 83 | L39: 33 | M39: 50 | N39: =O39+P39 -> 70 | O39: 37 | P39: 33 | Q39: =R39+S39 -> 73 | R39: 41 | S39: 32
A40: 27 | B40: =C40+D40 -> 369 | C40: =F40+I40+L40+O40+R40 -> 199 | D40: =G40+J40+M40+P40+S40 -> 170 | E40: =F40+G40 -> 84 | F40: 45 | G40: 39 | H40: =I40+J40 -> 12 | I40: 5 | J40: 7 | K40: =L40+M40 -> 97 | L40: 55 | M40: 42 | N40: =O40+P40 -> 95 | O40: 51 | P40: 44 | Q40: =R40+S40 -> 81 | R40: 43 | S40: 38
A41: 28 | B41: =C41+D41 -> 324 | C41: =F41+I41+L41+O41+R41 -> 161 | D41: =G41+J41+M41+P41+S41 -> 163 | E41: =F41+G41 -> 86 | F41: 36 | G41: 50 | H41: =I41+J41 -> 8 | I41: 6 | J41: 2 | K41: =L41+M41 -> 102 | L41: 48 | M41: 54 | N41: =O41+P41 -> 54 | O41: 29 | P41: 25 | Q41: =R41+S41 -> 74 | R41: 42 | S41: 32
A42: 29 | B42: =C42+D42 -> 341 | C42: =F42+I42+L42+O42+R42 -> 165 | D42: =G42+J42+M42+P42+S42 -> 176 | E42: =F42+G42 -> 87 | F42: 42 | G42: 45 | H42: =I42+J42 -> 5 | I42: 1 | J42: 4 | K42: =L42+M42 -> 98 | L42: 46 | M42: 52 | N42: =O42+P42 -> 68 | O42: 33 | P42: 35 | Q42: =R42+S42 -> 83 | R42: 43 | S42: 40
A43: 30-34 | B43: =C43+D43 -> 2001 | C43: =F43+I43+L43+O43+R43 -> 983 | D43: =G43+J43+M43+P43+S43 -> 1018 | E43: =F43+G43 -> 557 | F43: 284 | G43: 273 | H43: =I43+J43 -> 43 | I43: 24 | J43: 19 | K43: =L43+M43 -> 542 | L43: 265 | M43: 277 | N43: =O43+P43 -> 431 | O43: 204 | P43: 227 | Q43: =R43+S43 -> 428 | R43: 206 | S43: 222
A44: 30 | B44: =C44+D44 -> 363 | C44: =F44+I44+L44+O44+R44 -> 176 | D44: =G44+J44+M44+P44+S44 -> 187 | E44: =F44+G44 -> 96 | F44: 48 | G44: 48 | H44: =I44+J44 -> 7 | I44: 2 | J44: 5 | K44: =L44+M44 -> 87 | L44: 44 | M44: 43 | N44: =O44+P44 -> 96 | O44: 47 | P44: 49 | Q44: =R44+S44 -> 77 | R44: 35 | S44: 42
A45: 31 | B45: =C45+D45 -> 375 | C45: =F45+I45+L45+O45+R45 -> 182 | D45: =G45+J45+M45+P45+S45 -> 193 | E45: =F45+G45 -> 92 | F45: 48 | G45: 44 | H45: =I45+J45 -> 10 | I45: 6 | J45: 4 | K45: =L45+M45 -> 108 | L45: 50 | M45: 58 | N45: =O45+P45 -> 86 | O45: 44 | P45: 42 | Q45: =R45+S45 -> 79 | R45: 34 | S45: 45
A46: 32 | B46: =C46+D46 -> 380 | C46: =F46+I46+L46+O46+R46 -> 187 | D46: =G46+J46+M46+P46+S46 -> 193 | E46: =F46+G46 -> 116 | F46: 55 | G46: 61 | H46: =I46+J46 -> 9 | I46: 5 | J46: 4 | K46: =L46+M46 -> 101 | L46: 50 | M46: 51 | N46: =O46+P46 -> 68 | O46: 28 | P46: 40 | Q46: =R46+S46 -> 86 | R46: 49 | S46: 37
A47: 33 | B47: =C47+D47 -> 420 | C47: =F47+I47+L47+O47+R47 -> 216 | D47: =G47+J47+M47+P47+S47 -> 204 | E47: =F47+G47 -> 111 | F47: 59 | G47: 52 | H47: =I47+J47 -> 12 | I47: 8 | J47: 4 | K47: =L47+M47 -> 120 | L47: 66 | M47: 54 | N47: =O47+P47 -> 87 | O47: 41 | P47: 46 | Q47: =R47+S47 -> 90 | R47: 42 | S47: 48
A48: 34 | B48: =C48+D48 -> 463 | C48: =F48+I48+L48+O48+R48 -> 222 | D48: =G48+J48+M48+P48+S48 -> 241 | E48: =F48+G48 -> 142 | F48: 74 | G48: 68 | H48: =I48+J48 -> 5 | I48: 3 | J48: 2 | K48: =L48+M48 -> 126 | L48: 55 | M48: 71 | N48: =O48+P48 -> 94 | O48: 44 | P48: 50 | Q48: =R48+S48 -> 96 | R48: 46 | S48: 50
A49: 35-39 | B49: =C49+D49 -> 2251 | C49: =F49+I49+L49+O49+R49 -> 1157 | D49: =G49+J49+M49+P49+S49 -> 1094 | E49: =F49+G49 -> 697 | F49: 345 | G49: 352 | H49: =I49+J49 -> 50 | I49: 34 | J49: 16 | K49: =L49+M49 -> 596 | L49: 293 | M49: 303 | N49: =O49+P49 -> 432 | O49: 224 | P49: 208 | Q49: =R49+S49 -> 476 | R49: 261 | S49: 215
A50: 35 | B50: =C50+D50 -> 483 | C50: =F50+I50+L50+O50+R50 -> 243 | D50: =G50+J50+M50+P50+S50 -> 240 | E50: =F50+G50 -> 150 | F50: 69 | G50: 81 | H50: =I50+J50 -> 15 | I50: 11 | J50: 4 | K50: =L50+M50 -> 131 | L50: 68 | M50: 63 | N50: =O50+P50 -> 82 | O50: 41 | P50: 41 | Q50: =R50+S50 -> 105 | R50: 54 | S50: 51
A51: 36 | B51: =C51+D51 -> 477 | C51: =F51+I51+L51+O51+R51 -> 235 | D51: =G51+J51+M51+P51+S51 -> 242 | E51: =F51+G51 -> 139 | F51: 60 | G51: 79 | H51: =I51+J51 -> 8 | I51: 5 | J51: 3 | K51: =L51+M51 -> 136 | L51: 61 | M51: 75 | N51: =O51+P51 -> 90 | O51: 52 | P51: 38 | Q51: =R51+S51 -> 104 | R51: 57 | S51: 47
A52: 37 | B52: =C52+D52 -> 458 | C52: =F52+I52+L52+O52+R52 -> 233 | D52: =G52+J52+M52+P52+S52 -> 225 | E52: =F52+G52 -> 143 | F52: 79 | G52: 64 | H52: =I52+J52 -> 11 | I52: 7 | J52: 4 | K52: =L52+M52 -> 122 | L52: 59 | M52: 63 | N52: =O52+P52 -> 94 | O52: 41 | P52: 53 | Q52: =R52+S52 -> 88 | R52: 47 | S52: 41
A53: 38 | B53: =C53+D53 -> 415 | C53: =F53+I53+L53+O53+R53 -> 221 | D53: =G53+J53+M53+P53+S53 -> 194 | E53: =F53+G53 -> 134 | F53: 64 | G53: 70 | H53: =I53+J53 -> 8 | I53: 6 | J53: 2 | K53: =L53+M53 -> 106 | L53: 52 | M53: 54 | N53: =O53+P53 -> 85 | O53: 51 | P53: 34 | Q53: =R53+S53 -> 82 | R53: 48 | S53: 34
A54: 39 | B54: =C54+D54 -> 418 | C54: =F54+I54+L54+O54+R54 -> 225 | D54: =G54+J54+M54+P54+S54 -> 193 | E54: =F54+G54 -> 131 | F54: 73 | G54: 58 | H54: =I54+J54 -> 8 | I54: 5 | J54: 3 | K54: =L54+M54 -> 101 | L54: 53 | M54: 48 | N54: =O54+P54 -> 81 | O54: 39 | P54: 42 | Q54: =R54+S54 -> 97 | R54: 55 | S54: 42
A55: 40-44 | B55: =C55+D55 -> 1892 | C55: =F55+I55+L55+O55+R55 -> 870 | D55: =G55+J55+M55+P55+S55 -> 1022 | E55: =F55+G55 -> 583 | F55: 272 | G55: 311 | H55: =I55+J55 -> 48 | I55: 20 | J55: 28 | K55: =L55+M55 -> 497 | L55: 212 | M55: 285 | N55: =O55+P55 -> 374 | O55: 177 | P55: 197 | Q55: =R55+S55 -> 390 | R55: 189 | S55: 201
A56: 40 | B56: =C56+D56 -> 408 | C56: =F56+I56+L56+O56+R56 -> 193 | D56: =G56+J56+M56+P56+S56 -> 215 | E56: =F56+G56 -> 129 | F56: 63 | G56: 66 | H56: =I56+J56 -> 6 | I56: 2 | J56: 4 | K56: =L56+M56 -> 110 | L56: 47 | M56: 63 | N56: =O56+P56 -> 86 | O56: 39 | P56: 47 | Q56: =R56+S56 -> 77 | R56: 42 | S56: 35
A57: 41 | B57: =C57+D57 -> 404 | C57: =F57+I57+L57+O57+R57 -> 178 | D57: =G57+J57+M57+P57+S57 -> 226 | E57: =F57+G57 -> 125 | F57: 50 | G57: 75 | H57: =I57+J57 -> 6 | I57: 2 | J57: 4 | K57: =L57+M57 -> 113 | L57: 46 | M57: 67 | N57: =O57+P57 -> 72 | O57: 35 | P57: 37 | Q57: =R57+S57 -> 88 | R57: 45 | S57: 43
A58: 42 | B58: =C58+D58 -> 351 | C58: =F58+I58+L58+O58+R58 -> 164 | D58: =G58+J58+M58+P58+S58 -> 187 | E58: =F58+G58 -> 100 | F58: 51 | G58: 49 | H58: =I58+J58 -> 11 | I58: 5 | J58: 6 | K58: =L58+M58 -> 88 | L58: 38 | M58: 50 | N58: =O58+P58 -> 77 | O58: 38 | P58: 39 | Q58: =R58+S58 -> 75 | R58: 32 | S58: 43
A59: 43 | B59: =C59+D59 -> 366 | C59: =F59+I59+L59+O59+R59 -> 166 | D59: =G59+J59+M59+P59+S59 -> 200 | E59: =F59+G59 -> 116 | F59: 54 | G59: 62 | H59: =I59+J59 -> 7 | I59: 5 | J59: 2 | K59: =L59+M59 -> 89 | L59: 34 | M59: 55 | N59: =O59+P59 -> 78 | O59: 37 | P59: 41 | Q59: =R59+S59 -> 76 | R59: 36 | S59: 40
A60: 44 | B60: =C60+D60 -> 363 | C60: =F60+I60+L60+O60+R60 -> 169 | D60: =G60+J60+M60+P60+S60 -> 194 | E60: =F60+G60 -> 113 | F60: 54 | G60: 59 | H60: =I60+J60 -> 18 | I60: 6 | J60: 12 | K60: =L60+M60 -> 97 | L60: 47 | M60: 50 | N60: =O60+P60 -> 61 | O60: 28 | P60: 33 | Q60: =R60+S60 -> 74 | R60: 34 | S60: 40
A61: 45-49 | B61: =C61+D61 -> 1673 | C61: =F61+I61+L61+O61+R61 -> 773 | D61: =G61+J61+M61+P61+S61 -> 900 | E61: =F61+G61 -> 546 | F61: 253 | G61: 293 | H61: =I61+J61 -> 43 | I61: 17 | J61: 26 | K61: =L61+M61 -> 438 | L61: 200 | M61: 238 | N61: =O61+P61 -> 306 | O61: 145 | P61: 161 | Q61: =R61+S61 -> 340 | R61: 158 | S61: 182
A62: 45 | B62: =C62+D62 -> 372 | C62: =F62+I62+L62+O62+R62 -> 183 | D62: =G62+J62+M62+P62+S62 -> 189 | E62: =F62+G62 -> 125 | F62: 63 | G62: 62 | H62: =I62+J62 -> 13 | I62: 4 | J62: 9 | K62: =L62+M62 -> 100 | L62: 50 | M62: 50 | N62: =O62+P62 -> 61 | O62: 30 | P62: 31 | Q62: =R62+S62 -> 73 | R62: 36 | S62: 37
A63: 46 | B63: =C63+D63 -> 327 | C63: =F63+I63+L63+O63+R63 -> 153 | D63: =G63+J63+M63+P63+S63 -> 174 | E63: =F63+G63 -> 97 | F63: 41 | G63: 56 | H63: =I63+J63 -> 10 | I63: 5 | J63: 5 | K63: =L63+M63 -> 93 | L63: 44 | M63: 49 | N63: =O63+P63 -> 64 | O63: 31 | P63: 33 | Q63: =R63+S63 -> 63 | R63: 32 | S63: 31
A64: 47 | B64: =C64+D64 -> 358 | C64: =F64+I64+L64+O64+R64 -> 158 | D64: =G64+J64+M64+P64+S64 -> 200 | E64: =F64+G64 -> 123 | F64: 55 | G64: 68 | H64: =I64+J64 -> 8 | I64: 3 | J64: 5 | K64: =L64+M64 -> 93 | L64: 38 | M64: 55 | N64: =O64+P64 -> 59 | O64: 31 | P64: 28 | Q64: =R64+S64 -> 75 | R64: 31 | S64: 44
A65: 48 | B65: =C65+D65 -> 305 | C65: =F65+I65+L65+O65+R65 -> 130 | D65: =G65+J65+M65+P65+S65 -> 175 | E65: =F65+G65 -> 101 | F65: 43 | G65: 58 | H65: =I65+J65 -> 6 | I65: 1 | J65: 5 | K65: =L65+M65 -> 85 | L65: 37 | M65: 48 | N65: =O65+P65 -> 52 | O65: 21 | P65: 31 | Q65: =R65+S65 -> 61 | R65: 28 | S65: 33
A66: 49 | B66: =C66+D66 -> 311 | C66: =F66+I66+L66+O66+R66 -> 149 | D66: =G66+J66+M66+P66+S66 -> 162 | E66: =F66+G66 -> 100 | F66: 51 | G66: 49 | H66: =I66+J66 -> 6 | I66: 4 | J66: 2 | K66: =L66+M66 -> 67 | L66: 31 | M66: 36 | N66: =O66+P66 -> 70 | O66: 32 | P66: 38 | Q66: =R66+S66 -> 68 | R66: 31 | S66: 37
A67: 50-54 | B67: =C67+D67 -> 1625 | C67: =F67+I67+L67+O67+R67 -> 766 | D67: =G67+J67+M67+P67+S67 -> 859 | E67: =F67+G67 -> 458 | F67: 209 | G67: 249 | H67: =I67+J67 -> 41 | I67: 26 | J67: 15 | K67: =L67+M67 -> 472 | L67: 231 | M67: 241 | N67: =O67+P67 -> 308 | O67: 142 | P67: 166 | Q67: =R67+S67 -> 346 | R67: 158 | S67: 188
A68: 50 | B68: =C68+D68 -> 315 | C68: =F68+I68+L68+O68+R68 -> 147 | D68: =G68+J68+M68+P68+S68 -> 168 | E68: =F68+G68 -> 97 | F68: 39 | G68: 58 | H68: =I68+J68 -> 9 | I68: 8 | J68: 1 | K68: =L68+M68 -> 79 | L68: 41 | M68: 38 | N68: =O68+P68 -> 49 | O68: 20 | P68: 29 | Q68: =R68+S68 -> 81 | R68: 39 | S68: 42
A69: 51 | B69: =C69+D69 -> 336 | C69: =F69+I69+L69+O69+R69 -> 170 | D69: =G69+J69+M69+P69+S69 -> 166 | E69: =F69+G69 -> 98 | F69: 49 | G69: 49 | H69: =I69+J69 -> 7 | I69: 6 | J69: 1 | K69: =L69+M69 -> 91 | L69: 49 | M69: 42 | N69: =O69+P69 -> 65 | O69: 31 | P69: 34 | Q69: =R69+S69 -> 75 | R69: 35 | S69: 40
A70: 52 | B70: =C70+D70 -> 322 | C70: =F70+I70+L70+O70+R70 -> 154 | D70: =G70+J70+M70+P70+S70 -> 168 | E70: =F70+G70 -> 93 | F70: 40 | G70: 53 | H70: =I70+J70 -> 9 | I70: 4 | J70: 5 | K70: =L70+M70 -> 100 | L70: 48 | M70: 52 | N70: =O70+P70 -> 63 | O70: 36 | P70: 27 | Q70: =R70+S70 -> 57 | R70: 26 | S70: 31
A71: 53 | B71: =C71+D71 -> 325 | C71: =F71+I71+L71+O71+R71 -> 141 | D71: =G71+J71+M71+P71+S71 -> 184 | E71: =F71+G71 -> 85 | F71: 41 | G71: 44 | H71: =I71+J71 -> 9 | I71: 6 | J71: 3 | K71: =L71+M71 -> 94 | L71: 44 | M71: 50 | N71: =O71+P71 -> 72 | O71: 27 | P71: 45 | Q71: =R71+S71 -> 65 | R71: 23 | S71: 42
A72: 54 | B72: =C72+D72 -> 327 | C72: =F72+I72+L72+O72+R72 -> 154 | D72: =G72+J72+M72+P72+S72 -> 173 | E72: =F72+G72 -> 85 | F72: 40 | G72: 45 | H72: =I72+J72 -> 7 | I72: 2 | J72: 5 | K72: =L72+M72 -> 108 | L72: 49 | M72: 59 | N72: =O72+P72 -> 59 | O72: 28 | P72: 31 | Q72: =R72+S72 -> 68 | R72: 35 | S72: 33
A73: 55-59 | B73: =C73+D73 -> 1570 | C73: =F73+I73+L73+O73+R73 -> 700 | D73: =G73+J73+M73+P73+S73 -> 870 | E73: =F73+G73 -> 463 | F73: 203 | G73: 260 | H73: =I73+J73 -> 34 | I73: 17 | J73: 17 | K73: =L73+M73 -> 486 | L73: 223 | M73: 263 | N73: =O73+P73 -> 280 | O73: 126 | P73: 154 | Q73: =R73+S73 -> 307 | R73: 131 | S73: 176
A74: 55 | B74: =C74+D74 -> 309 | C74: =F74+I74+L74+O74+R74 -> 128 | D74: =G74+J74+M74+P74+S74 -> 181 | E74: =F74+G74 -> 90 | F74: 38 | G74: 52 | H74: =I74+J74 -> 4 | I74: 3 | J74: 1 | K74: =L74+M74 -> 92 | L74: 38 | M74: 54 | N74: =O74+P74 -> 58 | O74: 26 | P74: 32 | Q74: =R74+S74 -> 65 | R74: 23 | S74: 42
A75: 56 | B75: =C75+D75 -> 319 | C75: =F75+I75+L75+O75+R75 -> 140 | D75: =G75+J75+M75+P75+S75 -> 179 | E75: =F75+G75 -> 96 | F75: 41 | G75: 55 | H75: =I75+J75 -> 6 | I75: 4 | J75: 2 | K75: =L75+M75 -> 105 | L75: 45 | M75: 60 | N75: =O75+P75 -> 51 | O75: 26 | P75: 25 | Q75: =R75+S75 -> 61 | R75: 24 | S75: 37
A76: 57 | B76: =C76+D76 -> 309 | C76: =F76+I76+L76+O76+R76 -> 137 | D76: =G76+J76+M76+P76+S76 -> 172 | E76: =F76+G76 -> 87 | F76: 38 | G76: 49 | H76: =I76+J76 -> 7 | I76: 3 | J76: 4 | K76: =L76+M76 -> 98 | L76: 50 | M76: 48 | N76: =O76+P76 -> 57 | O76: 23 | P76: 34 | Q76: =R76+S76 -> 60 | R76: 23 | S76: 37
A77: 58 | B77: =C77+D77 -> 329 | C77: =F77+I77+L77+O77+R77 -> 158 | D77: =G77+J77+M77+P77+S77 -> 171 | E77: =F77+G77 -> 99 | F77: 47 | G77: 52 | H77: =I77+J77 -> 8 | I77: 3 | J77: 5 | K77: =L77+M77 -> 93 | L77: 44 | M77: 49 | N77: =O77+P77 -> 60 | O77: 32 | P77: 28 | Q77: =R77+S77 -> 69 | R77: 32 | S77: 37
A78: 59 | B78: =C78+D78 -> 304 | C78: =F78+I78+L78+O78+R78 -> 137 | D78: =G78+J78+M78+P78+S78 -> 167 | E78: =F78+G78 -> 91 | F78: 39 | G78: 52 | H78: =I78+J78 -> 9 | I78: 4 | J78: 5 | K78: =L78+M78 -> 98 | L78: 46 | M78: 52 | N78: =O78+P78 -> 54 | O78: 19 | P78: 35 | Q78: =R78+S78 -> 52 | R78: 29 | S78: 23
A79: 60-64 | B79: =C79+D79 -> 1387 | C79: =F79+I79+L79+O79+R79 -> 621 | D79: =G79+J79+M79+P79+S79 -> 766 | E79: =F79+G79 -> 385 | F79: 174 | G79: 211 | H79: =I79+J79 -> 39 | I79: 18 | J79: 21 | K79: =L79+M79 -> 397 | L79: 181 | M79: 216 | N79: =O79+P79 -> 273 | O79: 118 | P79: 155 | Q79: =R79+S79 -> 293 | R79: 130 | S79: 163
A80: 60 | B80: =C80+D80 -> 316 | C80: =F80+I80+L80+O80+R80 -> 143 | D80: =G80+J80+M80+P80+S80 -> 173 | E80: =F80+G80 -> 96 | F80: 47 | G80: 49 | H80: =I80+J80 -> 9 | I80: 4 | J80: 5 | K80: =L80+M80 -> 88 | L80: 35 | M80: 53 | N80: =O80+P80 -> 59 | O80: 27 | P80: 32 | Q80: =R80+S80 -> 64 | R80: 30 | S80: 34
A81: 61 | B81: =C81+D81 -> 311 | C81: =F81+I81+L81+O81+R81 -> 143 | D81: =G81+J81+M81+P81+S81 -> 168 | E81: =F81+G81 -> 84 | F81: 34 | G81: 50 | H81: =I81+J81 -> 7 | I81: 3 | J81: 4 | K81: =L81+M81 -> 93 | L81: 47 | M81: 46 | N81: =O81+P81 -> 54 | O81: 27 | P81: 27 | Q81: =R81+S81 -> 73 | R81: 32 | S81: 41
A82: 62 | B82: =C82+D82 -> 281 | C82: =F82+I82+L82+O82+R82 -> 132 | D82: =G82+J82+M82+P82+S82 -> 149 | E82: =F82+G82 -> 82 | F82: 37 | G82: 45 | H82: =I82+J82 -> 6 | I82: 3 | J82: 3 | K82: =L82+M82 -> 80 | L82: 36 | M82: 44 | N82: =O82+P82 -> 57 | O82: 31 | P82: 26 | Q82: =R82+S82 -> 56 | R82: 25 | S82: 31
A83: 63 | B83: =C83+D83 -> 264 | C83: =F83+I83+L83+O83+R83 -> 114 | D83: =G83+J83+M83+P83+S83 -> 150 | E83: =F83+G83 -> 69 | F83: 32 | G83: 37 | H83: =I83+J83 -> 8 | I83: 4 | J83: 4 | K83: =L83+M83 -> 74 | L83: 37 | M83: 37 | N83: =O83+P83 -> 56 | O83: 18 | P83: 38 | Q83: =R83+S83 -> 57 | R83: 23 | S83: 34
A84: 64 | B84: =C84+D84 -> 215 | C84: =F84+I84+L84+O84+R84 -> 89 | D84: =G84+J84+M84+P84+S84 -> 126 | E84: =F84+G84 -> 54 | F84: 24 | G84: 30 | H84: =I84+J84 -> 9 | I84: 4 | J84: 5 | K84: =L84+M84 -> 62 | L84: 26 | M84: 36 | N84: =O84+P84 -> 47 | O84: 15 | P84: 32 | Q84: =R84+S84 -> 43 | R84: 20 | S84: 23
A85: 65-69 | B85: =C85+D85 -> 922 | C85: =F85+I85+L85+O85+R85 -> 401 | D85: =G85+J85+M85+P85+S85 -> 521 | E85: =F85+G85 -> 273 | F85: 111 | G85: 162 | H85: =I85+J85 -> 34 | I85: 11 | J85: 23 | K85: =L85+M85 -> 241 | L85: 104 | M85: 137 | N85: =O85+P85 -> 185 | O85: 90 | P85: 95 | Q85: =R85+S85 -> 189 | R85: 85 | S85: 104
A86: 65 | B86: =C86+D86 -> 240 | C86: =F86+I86+L86+O86+R86 -> 106 | D86: =G86+J86+M86+P86+S86 -> 134 | E86: =F86+G86 -> 68 | F86: 27 | G86: 41 | H86: =I86+J86 -> 7 | I86: 2 | J86: 5 | K86: =L86+M86 -> 68 | L86: 32 | M86: 36 | N86: =O86+P86 -> 51 | O86: 25 | P86: 26 | Q86: =R86+S86 -> 46 | R86: 20 | S86: 26
A87: 66 | B87: =C87+D87 -> 199 | C87: =F87+I87+L87+O87+R87 -> 97 | D87: =G87+J87+M87+P87+S87 -> 102 | E87: =F87+G87 -> 72 | F87: 39 | G87: 33 | H87: =I87+J87 -> 8 | I87: 3 | J87: 5 | K87: =L87+M87 -> 44 | L87: 20 | M87: 24 | N87: =O87+P87 -> 34 | O87: 17 | P87: 17 | Q87: =R87+S87 -> 41 | R87: 18 | S87: 23
A88: 67 | B88: =C88+D88 -> 184 | C88: =F88+I88+L88+O88+R88 -> 72 | D88: =G88+J88+M88+P88+S88 -> 112 | E88: =F88+G88 -> 50 | F88: 19 | G88: 31 | H88: =I88+J88 -> 8 | I88: 3 | J88: 5 | K88: =L88+M88 -> 46 | L88: 16 | M88: 30 | N88: =O88+P88 -> 36 | O88: 17 | P88: 19 | Q88: =R88+S88 -> 44 | R88: 17 | S88: 27
A89: 68 | B89: =C89+D89 -> 161 | C89: =F89+I89+L89+O89+R89 -> 76 | D89: =G89+J89+M89+P89+S89 -> 85 | E89: =F89+G89 -> 49 | F89: 17 | G89: 32 | H89: =I89+J89 -> 3 | I89: 1 | J89: 2 | K89: =L89+M89 -> 39 | L89: 21 | M89: 18 | N89: =O89+P89 -> 33 | O89: 15 | P89: 18 | Q89: =R89+S89 -> 37 | R89: 22 | S89: 15
A90: 69 | B90: =C90+D90 -> 138 | C90: =F90+I90+L90+O90+R90 -> 50 | D90: =G90+J90+M90+P90+S90 -> 88 | E90: =F90+G90 -> 34 | F90: 9 | G90: 25 | H90: =I90+J90 -> 8 | I90: 2 | J90: 6 | K90: =L90+M90 -> 44 | L90: 15 | M90: 29 | N90: =O90+P90 -> 31 | O90: 16 | P90: 15 | Q90: =R90+S90 -> 21 | R90: 8 | S90: 13
A91: 70-74 | B91: =C91+D91 -> 477 | C91: =F91+I91+L91+O91+R91 -> 192 | D91: =G91+J91+M91+P91+S91 -> 285 | E91: =F91+G91 -> 146 | F91: 53 | G91: 93 | H91: =I91+J91 -> 22 | I91: 11 | J91: 11 | K91: =L91+M91 -> 125 | L91: 55 | M91: 70 | N91: =O91+P91 -> 94 | O91: 32 | P91: 62 | Q91: =R91+S91 -> 90 | R91: 41 | S91: 49
A92: 70 | B92: =C92+D92 -> 122 | C92: =F92+I92+L92+O92+R92 -> 47 | D92: =G92+J92+M92+P92+S92 -> 75 | E92: =F92+G92 -> 41 | F92: 16 | G92: 25 | H92: =I92+J92 -> 5 | I92: 1 | J92: 4 | K92: =L92+M92 -> 31 | L92: 14 | M92: 17 | N92: =O92+P92 -> 24 | O92: 7 | P92: 17 | Q92: =R92+S92 -> 21 | R92: 9 | S92: 12
A93: 71 | B93: =C93+D93 -> 92 | C93: =F93+I93+L93+O93+R93 -> 39 | D93: =G93+J93+M93+P93+S93 -> 53 | E93: =F93+G93 -> 32 | F93: 9 | G93: 23 | H93: =I93+J93 -> 3 | I93: 2 | J93: 1 | K93: =L93+M93 -> 27 | L93: 13 | M93: 14 | N93: =O93+P93 -> 19 | O93: 8 | P93: 11 | Q93: =R93+S93 -> 11 | R93: 7 | S93: 4
A94: 72 | B94: =C94+D94 -> 107 | C94: =F94+I94+L94+O94+R94 -> 41 | D94: =G94+J94+M94+P94+S94 -> 66 | E94: =F94+G94 -> 30 | F94: 10 | G94: 20 | H94: =I94+J94 -> 5 | I94: 3 | J94: 2 | K94: =L94+M94 -> 26 | L94: 9 | M94: 17 | N94: =O94+P94 -> 23 | O94: 8 | P94: 15 | Q94: =R94+S94 -> 23 | R94: 11 | S94: 12
A95: 73 | B95: =C95+D95 -> 91 | C95: =F95+I95+L95+O95+R95 -> 37 | D95: =G95+J95+M95+P95+S95 -> 54 | E95: =F95+G95 -> 24 | F95: 10 | G95: 14 | H95: =I95+J95 -> 8 | I95: 5 | J95: 3 | K95: =L95+M95 -> 20 | L95: 8 | M95: 12 | N95: =O95+P95 -> 19 | O95: 6 | P95: 13 | Q95: =R95+S95 -> 20 | R95: 8 | S95: 12
A96: 74 | B96: =C96+D96 -> 65 | C96: =F96+I96+L96+O96+R96 -> 28 | D96: =G96+J96+M96+P96+S96 -> 37 | E96: =F96+G96 -> 19 | F96: 8 | G96: 11 | H96: =I96+J96 -> 1 | I96: 0 | J96: 1 | K96: =L96+M96 -> 21 | L96: 11 | M96: 10 | N96: =O96+P96 -> 9 | O96: 3 | P96: 6 | Q96: =R96+S96 -> 15 | R96: 6 | S96: 9
A97: 75-79 | B97: =C97+D97 -> 297 | C97: =F97+I97+L97+O97+R97 -> 111 | D97: =G97+J97+M97+P97+S97 -> 186 | E97: =F97+G97 -> 104 | F97: 35 | G97: 69 | H97: =I97+J97 -> 15 | I97: 6 | J97: 9 | K97: =L97+M97 -> 64 | L97: 22 | M97: 42 | N97: =O97+P97 -> 57 | O97: 23 | P97: 34 | Q97: =R97+S97 -> 57 | R97: 25 | S97: 32
A98: 75 | B98: =C98+D98 -> 92 | C98: =F98+I98+L98+O98+R98 -> 34 | D98: =G98+J98+M98+P98+S98 -> 58 | E98: =F98+G98 -> 36 | F98: 12 | G98: 24 | H98: =I98+J98 -> 6 | I98: 2 | J98: 4 | K98: =L98+M98 -> 22 | L98: 6 | M98: 16 | N98: =O98+P98 -> 17 | O98: 7 | P98: 10 | Q98: =R98+S98 -> 11 | R98: 7 | S98: 4
A99: 76 | B99: =C99+D99 -> 58 | C99: =F99+I99+L99+O99+R99 -> 22 | D99: =G99+J99+M99+P99+S99 -> 36 | E99: =F99+G99 -> 19 | F99: 4 | G99: 15 | H99: =I99+J99 -> 5 | I99: 4 | J99: 1 | K99: =L99+M99 -> 11 | L99: 3 | M99: 8 | N99: =O99+P99 -> 12 | O99: 5 | P99: 7 | Q99: =R99+S99 -> 11 | R99: 6 | S99: 5
A100: 77 | B100: =C100+D100 -> 56 | C100: =F100+I100+L100+O100+R100 -> 15 | D100: =G100+J100+M100+P100+S100 -> 41 | E100: =F100+G100 -> 17 | F100: 5 | G100: 12 | H100: =I100+J100 -> 2 | I100: 0 | J100: 2 | K100: =L100+M100 -> 10 | L100: 3 | M100: 7 | N100: =O100+P100 -> 12 | O100: 2 | P100: 10 | Q100: =R100+S100 -> 15 | R100: 5 | S100: 10
...

Sheet Bagahangai
A1: БАГАХАНГАЙ ДҮҮРГИЙН ХҮН АМЫН ТОО /2026.01.01/
B2: =B7+B13+B19+B26+B27+B28+B29 -> 1553
A3: Нас | B3: Багахангай дүүрэг | E3: 1-р хороо | H3: 2-р хороо
B4: бүгд | C4: эр | D4: эм | E4: бүгд | F4: эр | G4: эм | H4: бүгд | I4: эр | J4: эм
A5: Өрх | B5: =E5+H5 -> 1272 | E5: 763 | H5: 509
A6: ХҮН АМ | B6: =B7+B13+B19+B25+B31+B37+B43+B49+B55+B61+B67+B73+B79+B85+B91+B97+B103+B109+B115+B121+B127 -> 4249 | C6: =C7+C13+C19+C25+C31+C37+C43+C49+C55+C61+C67+C73+C79+C85+C91+C97+C103+C109+C115+C121+C127 -> 2180 | D6: =D7+D13+D19+D25+D31+D37+D43+D49+D55+D61+D67+D73+D79+D85+D91+D97+D103+D109+D115+D121+D127 -> 2069 | E6: =E7+E13+E19+E25+E31+E37+E43+E49+E55+E61+E67+E73+E79+E85+E91+E97+E103+E109+E115+E121+E127 -> 2571 | F6: =F7+F13+F19+F25+F31+F37+F43+F49+F55+F61+F67+F73+F79+F85+F91+F97+F103+F109+F115+F121+F127 -> 1329 | G6: =G7+G13+G19+G25+G31+G37+G43+G49+G55+G61+G67+G73+G79+G85+G91+G97+G103+G109+G115+G121+G127 -> 1242 | H6: =H7+H13+H19+H25+H31+H37+H43+H49+H55+H61+H67+H73+H79+H85+H91+H97+H103+H109+H115+H121+H127 -> 1678 | I6: =I7+I13+I19+I25+I31+I37+I43+I49+I55+I61+I67+I73+I79+I85+I91+I97+I103+I109+I115+I121+I127 -> 851 | J6: =J7+J13+J19+J25+J31+J37+J43+J49+J55+J61+J67+J73+J79+J85+J91+J97+J103+J109+J115+J121+J127 -> 827
A7: 0-4 | B7: =C7+D7 -> 384 | C7: =F7+I7 -> 204 | D7: =G7+J7 -> 180 | E7: =F7+G7 -> 256 | F7: 142 | G7: 114 | H7: =I7+J7 -> 128 | I7: 62 | J7: 66
A8: 0 | B8: =C8+D8 -> 75 | C8: =F8+I8 -> 43 | D8: =G8+J8 -> 32 | E8: =F8+G8 -> 51 | F8: 28 | G8: 23 | H8: =I8+J8 -> 24 | I8: 15 | J8: 9
A9: 1 | B9: =C9+D9 -> 79 | C9: =F9+I9 -> 41 | D9: =G9+J9 -> 38 | E9: =F9+G9 -> 55 | F9: 30 | G9: 25 | H9: =I9+J9 -> 24 | I9: 11 | J9: 13
A10: 2 | B10: =C10+D10 -> 63 | C10: =F10+I10 -> 26 | D10: =G10+J10 -> 37 | E10: =F10+G10 -> 42 | F10: 19 | G10: 23 | H10: =I10+J10 -> 21 | I10: 7 | J10: 14
A11: 3 | B11: =C11+D11 -> 79 | C11: =F11+I11 -> 45 | D11: =G11+J11 -> 34 | E11: =F11+G11 -> 51 | F11: 31 | G11: 20 | H11: =I11+J11 -> 28 | I11: 14 | J11: 14
A12: 4 | B12: =C12+D12 -> 88 | C12: =F12+I12 -> 49 | D12: =G12+J12 -> 39 | E12: =F12+G12 -> 57 | F12: 34 | G12: 23 | H12: =I12+J12 -> 31 | I12: 15 | J12: 16
A13: 5-9 | B13: =C13+D13 -> 457 | C13: =F13+I13 -> 219 | D13: =G13+J13 -> 238 | E13: =F13+G13 -> 267 | F13: 125 | G13: 142 | H13: =I13+J13 -> 190 | I13: 94 | J13: 96
A14: 5 | B14: =C14+D14 -> 88 | C14: =F14+I14 -> 40 | D14: =G14+J14 -> 48 | E14: =F14+G14 -> 50 | F14: 19 | G14: 31 | H14: =I14+J14 -> 38 | I14: 21 | J14: 17
A15: 6 | B15: =C15+D15 -> 91 | C15: =F15+I15 -> 41 | D15: =G15+J15 -> 50 | E15: =F15+G15 -> 53 | F15: 24 | G15: 29 | H15: =I15+J15 -> 38 | I15: 17 | J15: 21
A16: 7 | B16: =C16+D16 -> 98 | C16: =F16+I16 -> 46 | D16: =G16+J16 -> 52 | E16: =F16+G16 -> 62 | F16: 29 | G16: 33 | H16: =I16+J16 -> 36 | I16: 17 | J16: 19
A17: 8 | B17: =C17+D17 -> 93 | C17: =F17+I17 -> 47 | D17: =G17+J17 -> 46 | E17: =F17+G17 -> 46 | F17: 24 | G17: 22 | H17: =I17+J17 -> 47 | I17: 23 | J17: 24
A18: 9 | B18: =C18+D18 -> 87 | C18: =F18+I18 -> 45 | D18: =G18+J18 -> 42 | E18: =F18+G18 -> 56 | F18: 29 | G18: 27 | H18: =I18+J18 -> 31 | I18: 16 | J18: 15
A19: 10-14 | B19: =C19+D19 -> 440 | C19: =F19+I19 -> 220 | D19: =G19+J19 -> 220 | E19: =F19+G19 -> 273 | F19: 139 | G19: 134 | H19: =I19+J19 -> 167 | I19: 81 | J19: 86
A20: 10 | B20: =C20+D20 -> 85 | C20: =F20+I20 -> 41 | D20: =G20+J20 -> 44 | E20: =F20+G20 -> 53 | F20: 30 | G20: 23 | H20: =I20+J20 -> 32 | I20: 11 | J20: 21
A21: 11 | B21: =C21+D21 -> 99 | C21: =F21+I21 -> 51 | D21: =G21+J21 -> 48 | E21: =F21+G21 -> 60 | F21: 29 | G21: 31 | H21: =I21+J21 -> 39 | I21: 22 | J21: 17
A22: 12 | B22: =C22+D22 -> 93 | C22: =F22+I22 -> 48 | D22: =G22+J22 -> 45 | E22: =F22+G22 -> 62 | F22: 32 | G22: 30 | H22: =I22+J22 -> 31 | I22: 16 | J22: 15
A23: 13 | B23: =C23+D23 -> 81 | C23: =F23+I23 -> 39 | D23: =G23+J23 -> 42 | E23: =F23+G23 -> 54 | F23: 28 | G23: 26 | H23: =I23+J23 -> 27 | I23: 11 | J23: 16
A24: 14 | B24: =C24+D24 -> 82 | C24: =F24+I24 -> 41 | D24: =G24+J24 -> 41 | E24: =F24+G24 -> 44 | F24: 20 | G24: 24 | H24: =I24+J24 -> 38 | I24: 21 | J24: 17
A25: 15-19 | B25: =C25+D25 -> 329 | C25: =F25+I25 -> 189 | D25: =G25+J25 -> 140 | E25: =F25+G25 -> 193 | F25: 111 | G25: 82 | H25: =I25+J25 -> 136 | I25: 78 | J25: 58
A26: 15 | B26: =C26+D26 -> 73 | C26: =F26+I26 -> 43 | D26: =G26+J26 -> 30 | E26: =F26+G26 -> 43 | F26: 24 | G26: 19 | H26: =I26+J26 -> 30 | I26: 19 | J26: 11
A27: 16 | B27: =C27+D27 -> 67 | C27: =F27+I27 -> 33 | D27: =G27+J27 -> 34 | E27: =F27+G27 -> 45 | F27: 23 | G27: 22 | H27: =I27+J27 -> 22 | I27: 10 | J27: 12
A28: 17 | B28: =C28+D28 -> 73 | C28: =F28+I28 -> 43 | D28: =G28+J28 -> 30 | E28: =F28+G28 -> 46 | F28: 26 | G28: 20 | H28: =I28+J28 -> 27 | I28: 17 | J28: 10
A29: 18 | B29: =C29+D29 -> 59 | C29: =F29+I29 -> 35 | D29: =G29+J29 -> 24 | E29: =F29+G29 -> 32 | F29: 19 | G29: 13 | H29: =I29+J29 -> 27 | I29: 16 | J29: 11
A30: 19 | B30: =C30+D30 -> 57 | C30: =F30+I30 -> 35 | D30: =G30+J30 -> 22 | E30: =F30+G30 -> 27 | F30: 19 | G30: 8 | H30: =I30+J30 -> 30 | I30: 16 | J30: 14
A31: 20-24 | B31: =C31+D31 -> 234 | C31: =F31+I31 -> 129 | D31: =G31+J31 -> 105 | E31: =F31+G31 -> 137 | F31: 71 | G31: 66 | H31: =I31+J31 -> 97 | I31: 58 | J31: 39
A32: 20 | B32: =C32+D32 -> 48 | C32: =F32+I32 -> 25 | D32: =G32+J32 -> 23 | E32: =F32+G32 -> 29 | F32: 13 | G32: 16 | H32: =I32+J32 -> 19 | I32: 12 | J32: 7
A33: 21 | B33: =C33+D33 -> 49 | C33: =F33+I33 -> 30 | D33: =G33+J33 -> 19 | E33: =F33+G33 -> 31 | F33: 17 | G33: 14 | H33: =I33+J33 -> 18 | I33: 13 | J33: 5
A34: 22 | B34: =C34+D34 -> 41 | C34: =F34+I34 -> 23 | D34: =G34+J34 -> 18 | E34: =F34+G34 -> 20 | F34: 10 | G34: 10 | H34: =I34+J34 -> 21 | I34: 13 | J34: 8
A35: 23 | B35: =C35+D35 -> 45 | C35: =F35+I35 -> 26 | D35: =G35+J35 -> 19 | E35: =F35+G35 -> 25 | F35: 14 | G35: 11 | H35: =I35+J35 -> 20 | I35: 12 | J35: 8
A36: 24 | B36: =C36+D36 -> 51 | C36: =F36+I36 -> 25 | D36: =G36+J36 -> 26 | E36: =F36+G36 -> 32 | F36: 17 | G36: 15 | H36: =I36+J36 -> 19 | I36: 8 | J36: 11
A37: 25-29 | B37: =C37+D37 -> 268 | C37: =F37+I37 -> 147 | D37: =G37+J37 -> 121 | E37: =F37+G37 -> 160 | F37: 83 | G37: 77 | H37: =I37+J37 -> 108 | I37: 64 | J37: 44
A38: 25 | B38: =C38+D38 -> 63 | C38: =F38+I38 -> 35 | D38: =G38+J38 -> 28 | E38: =F38+G38 -> 33 | F38: 15 | G38: 18 | H38: =I38+J38 -> 30 | I38: 20 | J38: 10
A39: 26 | B39: =C39+D39 -> 64 | C39: =F39+I39 -> 37 | D39: =G39+J39 -> 27 | E39: =F39+G39 -> 41 | F39: 24 | G39: 17 | H39: =I39+J39 -> 23 | I39: 13 | J39: 10
A40: 27 | B40: =C40+D40 -> 54 | C40: =F40+I40 -> 27 | D40: =G40+J40 -> 27 | E40: =F40+G40 -> 33 | F40: 13 | G40: 20 | H40: =I40+J40 -> 21 | I40: 14 | J40: 7
A41: 28 | B41: =C41+D41 -> 42 | C41: =F41+I41 -> 27 | D41: =G41+J41 -> 15 | E41: =F41+G41 -> 25 | F41: 16 | G41: 9 | H41: =I41+J41 -> 17 | I41: 11 | J41: 6
A42: 29 | B42: =C42+D42 -> 45 | C42: =F42+I42 -> 21 | D42: =G42+J42 -> 24 | E42: =F42+G42 -> 28 | F42: 15 | G42: 13 | H42: =I42+J42 -> 17 | I42: 6 | J42: 11
A43: 30-34 | B43: =C43+D43 -> 352 | C43: =F43+I43 -> 183 | D43: =G43+J43 -> 169 | E43: =F43+G43 -> 216 | F43: 114 | G43: 102 | H43: =I43+J43 -> 136 | I43: 69 | J43: 67
A44: 30 | B44: =C44+D44 -> 69 | C44: =F44+I44 -> 22 | D44: =G44+J44 -> 47 | E44: =F44+G44 -> 38 | F44: 10 | G44: 28 | H44: =I44+J44 -> 31 | I44: 12 | J44: 19
A45: 31 | B45: =C45+D45 -> 61 | C45: =F45+I45 -> 35 | D45: =G45+J45 -> 26 | E45: =F45+G45 -> 38 | F45: 24 | G45: 14 | H45: =I45+J45 -> 23 | I45: 11 | J45: 12
A46: 32 | B46: =C46+D46 -> 59 | C46: =F46+I46 -> 35 | D46: =G46+J46 -> 24 | E46: =F46+G46 -> 33 | F46: 21 | G46: 12 | H46: =I46+J46 -> 26 | I46: 14 | J46: 12
A47: 33 | B47: =C47+D47 -> 85 | C47: =F47+I47 -> 48 | D47: =G47+J47 -> 37 | E47: =F47+G47 -> 56 | F47: 31 | G47: 25 | H47: =I47+J47 -> 29 | I47: 17 | J47: 12
A48: 34 | B48: =C48+D48 -> 78 | C48: =F48+I48 -> 43 | D48: =G48+J48 -> 35 | E48: =F48+G48 -> 51 | F48: 28 | G48: 23 | H48: =I48+J48 -> 27 | I48: 15 | J48: 12
A49: 35-39 | B49: =C49+D49 -> 351 | C49: =F49+I49 -> 196 | D49: =G49+J49 -> 155 | E49: =F49+G49 -> 232 | F49: 131 | G49: 101 | H49: =I49+J49 -> 119 | I49: 65 | J49: 54
A50: 35 | B50: =C50+D50 -> 71 | C50: =F50+I50 -> 46 | D50: =G50+J50 -> 25 | E50: =F50+G50 -> 45 | F50: 32 | G50: 13 | H50: =I50+J50 -> 26 | I50: 14 | J50: 12
A51: 36 | B51: =C51+D51 -> 67 | C51: =F51+I51 -> 35 | D51: =G51+J51 -> 32 | E51: =F51+G51 -> 44 | F51: 26 | G51: 18 | H51: =I51+J51 -> 23 | I51: 9 | J51: 14
A52: 37 | B52: =C52+D52 -> 81 | C52: =F52+I52 -> 47 | D52: =G52+J52 -> 34 | E52: =F52+G52 -> 57 | F52: 31 | G52: 26 | H52: =I52+J52 -> 24 | I52: 16 | J52: 8
A53: 38 | B53: =C53+D53 -> 69 | C53: =F53+I53 -> 35 | D53: =G53+J53 -> 34 | E53: =F53+G53 -> 43 | F53: 19 | G53: 24 | H53: =I53+J53 -> 26 | I53: 16 | J53: 10
A54: 39 | B54: =C54+D54 -> 63 | C54: =F54+I54 -> 33 | D54: =G54+J54 -> 30 | E54: =F54+G54 -> 43 | F54: 23 | G54: 20 | H54: =I54+J54 -> 20 | I54: 10 | J54: 10
A55: 40-44 | B55: =C55+D55 -> 267 | C55: =F55+I55 -> 148 | D55: =G55+J55 -> 119 | E55: =F55+G55 -> 171 | F55: 96 | G55: 75 | H55: =I55+J55 -> 96 | I55: 52 | J55: 44
A56: 40 | B56: =C56+D56 -> 58 | C56: =F56+I56 -> 36 | D56: =G56+J56 -> 22 | E56: =F56+G56 -> 36 | F56: 25 | G56: 11 | H56: =I56+J56 -> 22 | I56: 11 | J56: 11
A57: 41 | B57: =C57+D57 -> 59 | C57: =F57+I57 -> 36 | D57: =G57+J57 -> 23 | E57: =F57+G57 -> 37 | F57: 23 | G57: 14 | H57: =I57+J57 -> 22 | I57: 13 | J57: 9
A58: 42 | B58: =C58+D58 -> 50 | C58: =F58+I58 -> 28 | D58: =G58+J58 -> 22 | E58: =F58+G58 -> 31 | F58: 17 | G58: 14 | H58: =I58+J58 -> 19 | I58: 11 | J58: 8
A59: 43 | B59: =C59+D59 -> 50 | C59: =F59+I59 -> 24 | D59: =G59+J59 -> 26 | E59: =F59+G59 -> 36 | F59: 17 | G59: 19 | H59: =I59+J59 -> 14 | I59: 7 | J59: 7
A60: 44 | B60: =C60+D60 -> 50 | C60: =F60+I60 -> 24 | D60: =G60+J60 -> 26 | E60: =F60+G60 -> 31 | F60: 14 | G60: 17 | H60: =I60+J60 -> 19 | I60: 10 | J60: 9
A61: 45-49 | B61: =C61+D61 -> 250 | C61: =F61+I61 -> 119 | D61: =G61+J61 -> 131 | E61: =F61+G61 -> 155 | F61: 73 | G61: 82 | H61: =I61+J61 -> 95 | I61: 46 | J61: 49
A62: 45 | B62: =C62+D62 -> 56 | C62: =F62+I62 -> 23 | D62: =G62+J62 -> 33 | E62: =F62+G62 -> 37 | F62: 13 | G62: 24 | H62: =I62+J62 -> 19 | I62: 10 | J62: 9
A63: 46 | B63: =C63+D63 -> 46 | C63: =F63+I63 -> 20 | D63: =G63+J63 -> 26 | E63: =F63+G63 -> 27 | F63: 12 | G63: 15 | H63: =I63+J63 -> 19 | I63: 8 | J63: 11
A64: 47 | B64: =C64+D64 -> 59 | C64: =F64+I64 -> 34 | D64: =G64+J64 -> 25 | E64: =F64+G64 -> 38 | F64: 20 | G64: 18 | H64: =I64+J64 -> 21 | I64: 14 | J64: 7
A65: 48 | B65: =C65+D65 -> 41 | C65: =F65+I65 -> 18 | D65: =G65+J65 -> 23 | E65: =F65+G65 -> 19 | F65: 9 | G65: 10 | H65: =I65+J65 -> 22 | I65: 9 | J65: 13
A66: 49 | B66: =C66+D66 -> 48 | C66: =F66+I66 -> 24 | D66: =G66+J66 -> 24 | E66: =F66+G66 -> 34 | F66: 19 | G66: 15 | H66: =I66+J66 -> 14 | I66: 5 | J66: 9
A67: 50-54 | B67: =C67+D67 -> 237 | C67: =F67+I67 -> 125 | D67: =G67+J67 -> 112 | E67: =F67+G67 -> 130 | F67: 71 | G67: 59 | H67: =I67+J67 -> 107 | I67: 54 | J67: 53
A68: 50 | B68: =C68+D68 -> 51 | C68: =F68+I68 -> 29 | D68: =G68+J68 -> 22 | E68: =F68+G68 -> 27 | F68: 16 | G68: 11 | H68: =I68+J68 -> 24 | I68: 13 | J68: 11
A69: 51 | B69: =C69+D69 -> 46 | C69: =F69+I69 -> 25 | D69: =G69+J69 -> 21 | E69: =F69+G69 -> 26 | F69: 14 | G69: 12 | H69: =I69+J69 -> 20 | I69: 11 | J69: 9
A70: 52 | B70: =C70+D70 -> 59 | C70: =F70+I70 -> 31 | D70: =G70+J70 -> 28 | E70: =F70+G70 -> 29 | F70: 17 | G70: 12 | H70: =I70+J70 -> 30 | I70: 14 | J70: 16
A71: 53 | B71: =C71+D71 -> 37 | C71: =F71+I71 -> 18 | D71: =G71+J71 -> 19 | E71: =F71+G71 -> 20 | F71: 10 | G71: 10 | H71: =I71+J71 -> 17 | I71: 8 | J71: 9
A72: 54 | B72: =C72+D72 -> 44 | C72: =F72+I72 -> 22 | D72: =G72+J72 -> 22 | E72: =F72+G72 -> 28 | F72: 14 | G72: 14 | H72: =I72+J72 -> 16 | I72: 8 | J72: 8
A73: 55-59 | B73: =C73+D73 -> 205 | C73: =F73+I73 -> 110 | D73: =G73+J73 -> 95 | E73: =F73+G73 -> 107 | F73: 61 | G73: 46 | H73: =I73+J73 -> 98 | I73: 49 | J73: 49
A74: 55 | B74: =C74+D74 -> 42 | C74: =F74+I74 -> 25 | D74: =G74+J74 -> 17 | E74: =F74+G74 -> 16 | F74: 10 | G74: 6 | H74: =I74+J74 -> 26 | I74: 15 | J74: 11
A75: 56 | B75: =C75+D75 -> 41 | C75: =F75+I75 -> 21 | D75: =G75+J75 -> 20 | E75: =F75+G75 -> 20 | F75: 10 | G75: 10 | H75: =I75+J75 -> 21 | I75: 11 | J75: 10
A76: 57 | B76: =C76+D76 -> 45 | C76: =F76+I76 -> 23 | D76: =G76+J76 -> 22 | E76: =F76+G76 -> 21 | F76: 13 | G76: 8 | H76: =I76+J76 -> 24 | I76: 10 | J76: 14
A77: 58 | B77: =C77+D77 -> 38 | C77: =F77+I77 -> 21 | D77: =G77+J77 -> 17 | E77: =F77+G77 -> 22 | F77: 14 | G77: 8 | H77: =I77+J77 -> 16 | I77: 7 | J77: 9
A78: 59 | B78: =C78+D78 -> 39 | C78: =F78+I78 -> 20 | D78: =G78+J78 -> 19 | E78: =F78+G78 -> 28 | F78: 14 | G78: 14 | H78: =I78+J78 -> 11 | I78: 6 | J78: 5
A79: 60-64 | B79: =C79+D79 -> 169 | C79: =F79+I79 -> 77 | D79: =G79+J79 -> 92 | E79: =F79+G79 -> 96 | F79: 48 | G79: 48 | H79: =I79+J79 -> 73 | I79: 29 | J79: 44
A80: 60 | B80: =C80+D80 -> 40 | C80: =F80+I80 -> 17 | D80: =G80+J80 -> 23 | E80: =F80+G80 -> 27 | F80: 11 | G80: 16 | H80: =I80+J80 -> 13 | I80: 6 | J80: 7
A81: 61 | B81: =C81+D81 -> 34 | C81: =F81+I81 -> 15 | D81: =G81+J81 -> 19 | E81: =F81+G81 -> 18 | F81: 10 | G81: 8 | H81: =I81+J81 -> 16 | I81: 5 | J81: 11
A82: 62 | B82: =C82+D82 -> 39 | C82: =F82+I82 -> 16 | D82: =G82+J82 -> 23 | E82: =F82+G82 -> 18 | F82: 9 | G82: 9 | H82: =I82+J82 -> 21 | I82: 7 | J82: 14
A83: 63 | B83: =C83+D83 -> 33 | C83: =F83+I83 -> 19 | D83: =G83+J83 -> 14 | E83: =F83+G83 -> 20 | F83: 10 | G83: 10 | H83: =I83+J83 -> 13 | I83: 9 | J83: 4
A84: 64 | B84: =C84+D84 -> 23 | C84: =F84+I84 -> 10 | D84: =G84+J84 -> 13 | E84: =F84+G84 -> 13 | F84: 8 | G84: 5 | H84: =I84+J84 -> 10 | I84: 2 | J84: 8
A85: 65-69 | B85: =C85+D85 -> 130 | C85: =F85+I85 -> 43 | D85: =G85+J85 -> 87 | E85: =F85+G85 -> 73 | F85: 21 | G85: 52 | H85: =I85+J85 -> 57 | I85: 22 | J85: 35
A86: 65 | B86: =C86+D86 -> 23 | C86: =F86+I86 -> 8 | D86: =G86+J86 -> 15 | E86: =F86+G86 -> 17 | F86: 8 | G86: 9 | H86: =I86+J86 -> 6 | I86: 0 | J86: 6
A87: 66 | B87: =C87+D87 -> 30 | C87: =F87+I87 -> 11 | D87: =G87+J87 -> 19 | E87: =F87+G87 -> 14 | F87: 5 | G87: 9 | H87: =I87+J87 -> 16 | I87: 6 | J87: 10
A88: 67 | B88: =C88+D88 -> 27 | C88: =F88+I88 -> 8 | D88: =G88+J88 -> 19 | E88: =F88+G88 -> 16 | F88: 3 | G88: 13 | H88: =I88+J88 -> 11 | I88: 5 | J88: 6
A89: 68 | B89: =C89+D89 -> 26 | C89: =F89+I89 -> 6 | D89: =G89+J89 -> 20 | E89: =F89+G89 -> 15 | F89: 1 | G89: 14 | H89: =I89+J89 -> 11 | I89: 5 | J89: 6
A90: 69 | B90: =C90+D90 -> 24 | C90: =F90+I90 -> 10 | D90: =G90+J90 -> 14 | E90: =F90+G90 -> 11 | F90: 4 | G90: 7 | H90: =I90+J90 -> 13 | I90: 6 | J90: 7
A91: 70-74 | B91: =C91+D91 -> 83 | C91: =F91+I91 -> 36 | D91: =G91+J91 -> 47 | E91: =F91+G91 -> 52 | F91: 22 | G91: 30 | H91: =I91+J91 -> 31 | I91: 14 | J91: 17
A92: 70 | B92: =C92+D92 -> 21 | C92: =F92+I92 -> 11 | D92: =G92+J92 -> 10 | E92: =F92+G92 -> 11 | F92: 6 | G92: 5 | H92: =I92+J92 -> 10 | I92: 5 | J92: 5
A93: 71 | B93: =C93+D93 -> 22 | C93: =F93+I93 -> 7 | D93: =G93+J93 -> 15 | E93: =F93+G93 -> 18 | F93: 5 | G93: 13 | H93: =I93+J93 -> 4 | I93: 2 | J93: 2
A94: 72 | B94: =C94+D94 -> 15 | C94: =F94+I94 -> 7 | D94: =G94+J94 -> 8 | E94: =F94+G94 -> 6 | F94: 3 | G94: 3 | H94: =I94+J94 -> 9 | I94: 4 | J94: 5
A95: 73 | B95: =C95+D95 -> 14 | C95: =F95+I95 -> 6 | D95: =G95+J95 -> 8 | E95: =F95+G95 -> 10 | F95: 6 | G95: 4 | H95: =I95+J95 -> 4 | I95: 0 | J95: 4
A96: 74 | B96: =C96+D96 -> 11 | C96: =F96+I96 -> 5 | D96: =G96+J96 -> 6 | E96: =F96+G96 -> 7 | F96: 2 | G96: 5 | H96: =I96+J96 -> 4 | I96: 3 | J96: 1
A97: 75-79 | B97: =C97+D97 -> 42 | C97: =F97+I97 -> 17 | D97: =G97+J97 -> 25 | E97: =F97+G97 -> 24 | F97: 11 | G97: 13 | H97: =I97+J97 -> 18 | I97: 6 | J97: 12
A98: 75 | B98: =C98+D98 -> 11 | C98: =F98+I98 -> 6 | D98: =G98+J98 -> 5 | E98: =F98+G98 -> 6 | F98: 4 | G98: 2 | H98: =I98+J98 -> 5 | I98: 2 | J98: 3
A99: 76 | B99: =C99+D99 -> 9 | C99: =F99+I99 -> 2 | D99: =G99+J99 -> 7 | E99: =F99+G99 -> 6 | F99: 2 | G99: 4 | H99: =I99+J99 -> 3 | I99: 0 | J99: 3
A100: 77 | B100: =C100+D100 -> 4 | C100: =F100+I100 -> 0 | D100: =G100+J100 -> 4 | E100: =F100+G100 -> 2 | F100: 0 | G100: 2 | H100: =I100+J100 -> 2 | I100: 0 | J100: 2
...

Sheet Bayangol
A1: БАЯНГОЛ ДҮҮРГИЙН ХҮН АМЫН ТОО /2026.01.01/
B2: =B7+B13+B19+B26+B27+B28+B29 -> 98574
A3: Нас | B3: Баянгол дүүрэг | E3: 1-р хороо | H3: 2-р хороо | K3: 3-р хороо | N3: 4-р хороо | Q3: 5-р хороо | T3: 6-р хороо | W3: 7-р хороо | Z3: 8-р хороо | AC3: 9-р хороо | AF3: 10-р хороо | AI3: 11-р хороо | AL3: 12-р хороо | AO3: 13-р хороо | AR3: 14-р хороо | AU3: 15-р хороо | AX3: 16-р хороо | BA3: 17-р хороо | BD3: 18-р хороо | BG3: 19-р хороо | BJ3: 20-р хороо | BM3: 21-р хороо | BP3: 22-р хороо | BS3: 23-р хороо | BV3: 24-р хороо | BY3: 25-р хороо | CB3: 26-р хороо | CE3: 27-р хороо | CH3: 28-р хороо | CK3: 29-р хороо | CN3: 30-р хороо | CQ3: 31-р хороо | CT3: 32-р хороо | CW3: 33-р хороо | CZ3: 34-р хороо
B4: Бүгд | C4: Эр | D4: Эм | E4: Бүгд | F4: Эр | G4: Эм | H4: Бүгд | I4: Эр | J4: Эм | K4: Бүгд | L4: Эр | M4: Эм | N4: Бүгд | O4: Эр | P4: Эм | Q4: Бүгд | R4: Эр | S4: Эм | T4: Бүгд | U4: Эр | V4: Эм | W4: Бүгд | X4: Эр | Y4: Эм | Z4: Бүгд | AA4: Эр | AB4: Эм | AC4: Бүгд | AD4: Эр | AE4: Эм | AF4: Бүгд | AG4: Эр | AH4: Эм | AI4: Бүгд | AJ4: Эр | AK4: Эм | AL4: Бүгд | AM4: Эр | AN4: Эм | AO4: Бүгд | AP4: Эр | AQ4: Эм | AR4: Бүгд | AS4: Эр | AT4: Эм | AU4: Бүгд | AV4: Эр | AW4: Эм | AX4: Бүгд | AY4: Эр | AZ4: Эм | BA4: Бүгд | BB4: Эр | BC4: Эм | BD4: Бүгд | BE4: Эр | BF4: Эм | BG4: Бүгд | BH4: Эр | BI4: Эм | BJ4: Бүгд | BK4: Эр | BL4: Эм | BM4: Бүгд | BN4: Эр | BO4: Эм | BP4: Бүгд | BQ4: Эр | BR4: Эм | BS4: Бүгд | BT4: Эр | BU4: Эм | BV4: Бүгд | BW4: Эр | BX4: Эм | BY4: Бүгд | BZ4: Эр | CA4: Эм | CB4: Бүгд | CC4: Эр | CD4: Эм | CE4: Бүгд | CF4: Эр | CG4: Эм | CH4: Бүгд | CI4: Эр | CJ4: Эм | CK4: Бүгд | CL4: Эр | CM4: Эм | CN4: Бүгд | CO4: Эр | CP4: Эм | CQ4: Бүгд | CR4: Эр | CS4: Эм | CT4: Бүгд | CU4: Эр | CV4: Эм | CW4: Бүгд | CX4: Эр | CY4: Эм | CZ4: Бүгд | DA4: Эр | DB4: Эм
A5: Өрх | B5: =E5+H5+K5+N5+Q5+T5+W5+Z5+AC5+AF5+AI5+AL5+AO5+AR5+AU5+AX5+BA5+BD5+BG5+BJ5+BM5+BP5+BS5+BV5+BY5+CB5+CE5+CH5+CK5+CN5+CQ5+CT5+CW5+CZ5 -> 71792 | E5: 2638 | H5: 2612 | K5: 2030 | N5: 1923 | Q5: 2309 | T5: 3037 | W5: 1809 | Z5: 2148 | AC5: 2556 | AF5: 2103 | AI5: 1733 | AL5: 1542 | AO5: 1195 | AR5: 1157 | AU5: 1210 | AX5: 1469 | BA5: 2167 | BD5: 2694 | BG5: 1909 | BJ5: 984 | BM5: 2052 | BP5: 1888 | BS5: 1679 | BV5: 4699 | BY5: 2109 | CB5: 5147 | CE5: 1489 | CH5: 2039 | CK5: 2725 | CN5: 1767 | CQ5: 1846 | CT5: 1988 | CW5: 1918 | CZ5: 1221
A6: ХҮН АМ | B6: =E6+H6+K6+N6+Q6+T6+W6+Z6+AC6+AF6+AI6+AL6+AO6+AR6+AU6+AX6+BA6+BD6+BG6+BJ6+BM6+BP6+BS6+BV6+BY6+CB6+CE6+CH6+CK6+CN6+CQ6+CT6+CW6+CZ6 -> 254710 | C6: =F6+I6+L6+O6+R6+U6+X6+AA6+AD6+AG6+AJ6+AM6+AP6+AS6+AV6+AY6+BB6+BE6+BH6+BK6+BN6+BQ6+BT6+BW6+BZ6+CC6+CF6+CI6+CL6+CO6+CR6+CU6+CX6+DA6 -> 120522 | D6: =G6+J6+M6+P6+S6+V6+Y6+AB6+AE6+AH6+AK6+AN6+AQ6+AT6+AW6+AZ6+BC6+BF6+BI6+BL6+BO6+BR6+BU6+BX6+CA6+CD6+CG6+CJ6+CM6+CP6+CS6+CV6+CY6+DB6 -> 134188 | E6: =E7+E13+E19+E25+E31+E37+E43+E49+E55+E61+E67+E73+E79+E85+E91+E97+E103+E109+E115+E121+E127 -> 9265 | F6: =F7+F13+F19+F25+F31+F37+F43+F49+F55+F61+F67+F73+F79+F85+F91+F97+F103+F109+F115+F121+F127 -> 4316 | G6: =G7+G13+G19+G25+G31+G37+G43+G49+G55+G61+G67+G73+G79+G85+G91+G97+G103+G109+G115+G121+G127 -> 4949 | H6: =H7+H13+H19+H25+H31+H37+H43+H49+H55+H61+H67+H73+H79+H85+H91+H97+H103+H109+H115+H121+H127 -> 9256 | I6: =I7+I13+I19+I25+I31+I37+I43+I49+I55+I61+I67+I73+I79+I85+I91+I97+I103+I109+I115+I121+I127 -> 4299 | J6: =J7+J13+J19+J25+J31+J37+J43+J49+J55+J61+J67+J73+J79+J85+J91+J97+J103+J109+J115+J121+J127 -> 4957 | K6: =K7+K13+K19+K25+K31+K37+K43+K49+K55+K61+K67+K73+K79+K85+K91+K97+K103+K109+K115+K121+K127 -> 7327 | L6: =L7+L13+L19+L25+L31+L37+L43+L49+L55+L61+L67+L73+L79+L85+L91+L97+L103+L109+L115+L121+L127 -> 3471 | ... DB6: =DB7+DB13+DB19+DB25+DB31+DB37+DB43+DB49+DB55+DB61+DB67+DB73+DB79+DB85+DB91+DB97+DB103+DB109+DB115+DB121+DB127 -> 2321
A7: 0-4 | B7: =C7+D7 -> 22077 | C7: =F7+I7+L7+O7+R7+U7+X7+AA7+AD7+AG7+AJ7+AM7+AP7+AS7+AV7+AY7+BB7+BE7+BH7+BK7+BN7+BQ7+BT7+BW7+BZ7+CC7+CF7+CI7+CL7+CO7+CR7+CU7+CX7+DA7 -> 11337 | D7: =G7+J7+M7+P7+S7+V7+Y7+AB7+AE7+AH7+AK7+AN7+AQ7+AT7+AW7+AZ7+BC7+BF7+BI7+BL7+BO7+BR7+BU7+BX7+CA7+CD7+CG7+CJ7+CM7+CP7+CS7+CV7+CY7+DB7 -> 10740 | E7: =F7+G7 -> 674 | F7: 338 | G7: 336 | H7: =I7+J7 -> 779 | I7: 381 | J7: 398 | K7: =L7+M7 -> 514 | L7: 272 | M7: 242 | N7: =O7+P7 -> 551 | O7: 288 | P7: 263 | Q7: =R7+S7 -> 642 | R7: 333 | S7: 309 | T7: =U7+V7 -> 766 | U7: 409 | V7: 357 | W7: =X7+Y7 -> 518 | X7: 249 | Y7: 269 | Z7: =AA7+AB7 -> 685 | AA7: 341 | AB7: 344 | AC7: =AD7+AE7 -> 890 | AD7: 471 | AE7: 419 | AF7: =AG7+AH7 -> 648 | AG7: 322 | AH7: 326 | AI7: =AJ7+AK7 -> 584 | AJ7: 308 | AK7: 276 | AL7: =AM7+AN7 -> 418 | AM7: 220 | AN7: 198 | AO7: =AP7+AQ7 -> 335 | AP7: 172 | AQ7: 163 | AR7: =AS7+AT7 -> 277 | AS7: 149 | AT7: 128 | AU7: =AV7+AW7 -> 360 | AV7: 183 | AW7: 177 | AX7: =AY7+AZ7 -> 325 | AY7: 180 | AZ7: 145 | BA7: =BB7+BC7 -> 567 | BB7: 273 | BC7: 294 | BD7: =BE7+BF7 -> 780 | BE7: 396 | BF7: 384 | BG7: =BH7+BI7 -> 573 | BH7: 282 | BI7: 291 | BJ7: =BK7+BL7 -> 277 | BK7: 150 | BL7: 127 | BM7: =BN7+BO7 -> 619 | BN7: 330 | BO7: 289 | BP7: =BQ7+BR7 -> 663 | BQ7: 347 | BR7: 316 | BS7: =BT7+BU7 -> 517 | BT7: 278 | BU7: 239 | BV7: =BW7+BX7 -> 1854 | BW7: 934 | BX7: 920 | BY7: =BZ7+CA7 -> 712 | BZ7: 371 | CA7: 341 | CB7: =CC7+CD7 -> 1815 | CC7: 932 | CD7: 883 | CE7: =CF7+CG7 -> 512 | CF7: 277 | CG7: 235 | CH7: =CI7+CJ7 -> 677 | CI7: 358 | CJ7: 319 | CK7: =CL7+CM7 -> 966 | CL7: 489 | CM7: 477 | CN7: =CO7+CP7 -> 469 | CO7: 226 | CP7: 243 | CQ7: =CR7+CS7 -> 605 | CR7: 280 | CS7: 325 | CT7: =CU7+CV7 -> 593 | CU7: 316 | CV7: 277 | CW7: =CX7+CY7 -> 597 | CX7: 308 | CY7: 289 | CZ7: =DA7+DB7 -> 315 | DA7: 174 | DB7: 141
A8: 0 | B8: =C8+D8 -> 3817 | C8: =F8+I8+L8+O8+R8+U8+X8+AA8+AD8+AG8+AJ8+AM8+AP8+AS8+AV8+AY8+BB8+BE8+BH8+BK8+BN8+BQ8+BT8+BW8+BZ8+CC8+CF8+CI8+CL8+CO8+CR8+CU8+CX8+DA8 -> 2008 | D8: =G8+J8+M8+P8+S8+V8+Y8+AB8+AE8+AH8+AK8+AN8+AQ8+AT8+AW8+AZ8+BC8+BF8+BI8+BL8+BO8+BR8+BU8+BX8+CA8+CD8+CG8+CJ8+CM8+CP8+CS8+CV8+CY8+DB8 -> 1809 | E8: =F8+G8 -> 114 | F8: 66 | G8: 48 | H8: =I8+J8 -> 139 | I8: 75 | J8: 64 | K8: =L8+M8 -> 86 | L8: 44 | M8: 42 | N8: =O8+P8 -> 104 | O8: 53 | P8: 51 | Q8: =R8+S8 -> 118 | R8: 62 | S8: 56 | T8: =U8+V8 -> 133 | U8: 75 | V8: 58 | W8: =X8+Y8 -> 86 | X8: 36 | Y8: 50 | Z8: =AA8+AB8 -> 126 | AA8: 59 | AB8: 67 | AC8: =AD8+AE8 -> 135 | AD8: 75 | AE8: 60 | AF8: =AG8+AH8 -> 119 | AG8: 65 | AH8: 54 | AI8: =AJ8+AK8 -> 111 | AJ8: 50 | AK8: 61 | AL8: =AM8+AN8 -> 70 | AM8: 42 | AN8: 28 | AO8: =AP8+AQ8 -> 70 | AP8: 37 | AQ8: 33 | AR8: =AS8+AT8 -> 51 | AS8: 26 | AT8: 25 | AU8: =AV8+AW8 -> 66 | AV8: 36 | AW8: 30 | AX8: =AY8+AZ8 -> 56 | AY8: 29 | AZ8: 27 | BA8: =BB8+BC8 -> 86 | BB8: 47 | BC8: 39 | BD8: =BE8+BF8 -> 137 | BE8: 71 | BF8: 66 | BG8: =BH8+BI8 -> 100 | BH8: 45 | BI8: 55 | BJ8: =BK8+BL8 -> 53 | BK8: 27 | BL8: 26 | BM8: =BN8+BO8 -> 108 | BN8: 58 | BO8: 50 | BP8: =BQ8+BR8 -> 115 | BQ8: 61 | BR8: 54 | BS8: =BT8+BU8 -> 78 | BT8: 47 | BU8: 31 | BV8: =BW8+BX8 -> 297 | BW8: 150 | BX8: 147 | BY8: =BZ8+CA8 -> 123 | BZ8: 67 | CA8: 56 | CB8: =CC8+CD8 -> 281 | CC8: 164 | CD8: 117 | CE8: =CF8+CG8 -> 93 | CF8: 51 | CG8: 42 | CH8: =CI8+CJ8 -> 132 | CI8: 64 | CJ8: 68 | CK8: =CL8+CM8 -> 163 | CL8: 82 | CM8: 81 | CN8: =CO8+CP8 -> 75 | CO8: 37 | CP8: 38 | CQ8: =CR8+CS8 -> 102 | CR8: 48 | CS8: 54 | CT8: =CU8+CV8 -> 109 | CU8: 60 | CV8: 49 | CW8: =CX8+CY8 -> 122 | CX8: 70 | CY8: 52 | CZ8: =DA8+DB8 -> 59 | DA8: 29 | DB8: 30
A9: 1 | B9: =C9+D9 -> 4004 | C9: =F9+I9+L9+O9+R9+U9+X9+AA9+AD9+AG9+AJ9+AM9+AP9+AS9+AV9+AY9+BB9+BE9+BH9+BK9+BN9+BQ9+BT9+BW9+BZ9+CC9+CF9+CI9+CL9+CO9+CR9+CU9+CX9+DA9 -> 2104 | D9: =G9+J9+M9+P9+S9+V9+Y9+AB9+AE9+AH9+AK9+AN9+AQ9+AT9+AW9+AZ9+BC9+BF9+BI9+BL9+BO9+BR9+BU9+BX9+CA9+CD9+CG9+CJ9+CM9+CP9+CS9+CV9+CY9+DB9 -> 1900 | E9: =F9+G9 -> 128 | F9: 64 | G9: 64 | H9: =I9+J9 -> 145 | I9: 59 | J9: 86 | K9: =L9+M9 -> 110 | L9: 67 | M9: 43 | N9: =O9+P9 -> 98 | O9: 59 | P9: 39 | Q9: =R9+S9 -> 108 | R9: 57 | S9: 51 | T9: =U9+V9 -> 141 | U9: 73 | V9: 68 | W9: =X9+Y9 -> 79 | X9: 40 | Y9: 39 | Z9: =AA9+AB9 -> 117 | AA9: 53 | AB9: 64 | AC9: =AD9+AE9 -> 177 | AD9: 97 | AE9: 80 | AF9: =AG9+AH9 -> 117 | AG9: 49 | AH9: 68 | AI9: =AJ9+AK9 -> 103 | AJ9: 63 | AK9: 40 | AL9: =AM9+AN9 -> 75 | AM9: 43 | AN9: 32 | AO9: =AP9+AQ9 -> 58 | AP9: 28 | AQ9: 30 | AR9: =AS9+AT9 -> 51 | AS9: 25 | AT9: 26 | AU9: =AV9+AW9 -> 53 | AV9: 26 | AW9: 27 | AX9: =AY9+AZ9 -> 70 | AY9: 41 | AZ9: 29 | BA9: =BB9+BC9 -> 94 | BB9: 50 | BC9: 44 | BD9: =BE9+BF9 -> 126 | BE9: 69 | BF9: 57 | BG9: =BH9+BI9 -> 119 | BH9: 58 | BI9: 61 | BJ9: =BK9+BL9 -> 46 | BK9: 30 | BL9: 16 | BM9: =BN9+BO9 -> 116 | BN9: 56 | BO9: 60 | BP9: =BQ9+BR9 -> 123 | BQ9: 71 | BR9: 52 | BS9: =BT9+BU9 -> 94 | BT9: 60 | BU9: 34 | BV9: =BW9+BX9 -> 382 | BW9: 208 | BX9: 174 | BY9: =BZ9+CA9 -> 148 | BZ9: 81 | CA9: 67 | CB9: =CC9+CD9 -> 315 | CC9: 166 | CD9: 149 | CE9: =CF9+CG9 -> 81 | CF9: 45 | CG9: 36 | CH9: =CI9+CJ9 -> 126 | CI9: 63 | CJ9: 63 | CK9: =CL9+CM9 -> 178 | CL9: 85 | CM9: 93 | CN9: =CO9+CP9 -> 77 | CO9: 37 | CP9: 40 | CQ9: =CR9+CS9 -> 102 | CR9: 47 | CS9: 55 | CT9: =CU9+CV9 -> 116 | CU9: 62 | CV9: 54 | CW9: =CX9+CY9 -> 89 | CX9: 47 | CY9: 42 | CZ9: =DA9+DB9 -> 42 | DA9: 25 | DB9: 17
A10: 2 | B10: =C10+D10 -> 4425 | C10: =F10+I10+L10+O10+R10+U10+X10+AA10+AD10+AG10+AJ10+AM10+AP10+AS10+AV10+AY10+BB10+BE10+BH10+BK10+BN10+BQ10+BT10+BW10+BZ10+CC10+CF10+CI10+CL10+CO10+CR10+CU10+CX10+DA10 -> 2248 | D10: =G10+J10+M10+P10+S10+V10+Y10+AB10+AE10+AH10+AK10+AN10+AQ10+AT10+AW10+AZ10+BC10+BF10+BI10+BL10+BO10+BR10+BU10+BX10+CA10+CD10+CG10+CJ10+CM10+CP10+CS10+CV10+CY10+DB10 -> 2177 | E10: =F10+G10 -> 122 | F10: 64 | G10: 58 | H10: =I10+J10 -> 168 | I10: 88 | J10: 80 | K10: =L10+M10 -> 97 | L10: 50 | M10: 47 | N10: =O10+P10 -> 96 | O10: 39 | P10: 57 | Q10: =R10+S10 -> 124 | R10: 65 | S10: 59 | T10: =U10+V10 -> 145 | U10: 83 | V10: 62 | W10: =X10+Y10 -> 119 | X10: 55 | Y10: 64 | Z10: =AA10+AB10 -> 133 | AA10: 74 | AB10: 59 | AC10: =AD10+AE10 -> 191 | AD10: 92 | AE10: 99 | AF10: =AG10+AH10 -> 127 | AG10: 60 | AH10: 67 | AI10: =AJ10+AK10 -> 117 | AJ10: 60 | AK10: 57 | AL10: =AM10+AN10 -> 81 | AM10: 37 | AN10: 44 | AO10: =AP10+AQ10 -> 54 | AP10: 22 | AQ10: 32 | AR10: =AS10+AT10 -> 44 | AS10: 25 | AT10: 19 | AU10: =AV10+AW10 -> 70 | AV10: 32 | AW10: 38 | AX10: =AY10+AZ10 -> 55 | AY10: 41 | AZ10: 14 | BA10: =BB10+BC10 -> 118 | BB10: 50 | BC10: 68 | BD10: =BE10+BF10 -> 154 | BE10: 75 | BF10: 79 | BG10: =BH10+BI10 -> 101 | BH10: 50 | BI10: 51 | BJ10: =BK10+BL10 -> 46 | BK10: 27 | BL10: 19 | BM10: =BN10+BO10 -> 117 | BN10: 62 | BO10: 55 | BP10: =BQ10+BR10 -> 139 | BQ10: 76 | BR10: 63 | BS10: =BT10+BU10 -> 100 | BT10: 46 | BU10: 54 | BV10: =BW10+BX10 -> 367 | BW10: 179 | BX10: 188 | BY10: =BZ10+CA10 -> 148 | BZ10: 81 | CA10: 67 | CB10: =CC10+CD10 -> 381 | CC10: 183 | CD10: 198 | CE10: =CF10+CG10 -> 111 | CF10: 56 | CG10: 55 | CH10: =CI10+CJ10 -> 135 | CI10: 73 | CJ10: 62 | CK10: =CL10+CM10 -> 208 | CL10: 113 | CM10: 95 | CN10: =CO10+CP10 -> 105 | CO10: 49 | CP10: 56 | CQ10: =CR10+CS10 -> 146 | CR10: 76 | CS10: 70 | CT10: =CU10+CV10 -> 102 | CU10: 59 | CV10: 43 | CW10: =CX10+CY10 -> 133 | CX10: 69 | CY10: 64 | CZ10: =DA10+DB10 -> 71 | DA10: 37 | DB10: 34
A11: 3 | B11: =C11+D11 -> 4631 | C11: =F11+I11+L11+O11+R11+U11+X11+AA11+AD11+AG11+AJ11+AM11+AP11+AS11+AV11+AY11+BB11+BE11+BH11+BK11+BN11+BQ11+BT11+BW11+BZ11+CC11+CF11+CI11+CL11+CO11+CR11+CU11+CX11+DA11 -> 2386 | D11: =G11+J11+M11+P11+S11+V11+Y11+AB11+AE11+AH11+AK11+AN11+AQ11+AT11+AW11+AZ11+BC11+BF11+BI11+BL11+BO11+BR11+BU11+BX11+CA11+CD11+CG11+CJ11+CM11+CP11+CS11+CV11+CY11+DB11 -> 2245 | E11: =F11+G11 -> 132 | F11: 57 | G11: 75 | H11: =I11+J11 -> 152 | I11: 75 | J11: 77 | K11: =L11+M11 -> 102 | L11: 52 | M11: 50 | N11: =O11+P11 -> 122 | O11: 61 | P11: 61 | Q11: =R11+S11 -> 128 | R11: 62 | S11: 66 | T11: =U11+V11 -> 157 | U11: 80 | V11: 77 | W11: =X11+Y11 -> 113 | X11: 61 | Y11: 52 | Z11: =AA11+AB11 -> 144 | AA11: 72 | AB11: 72 | AC11: =AD11+AE11 -> 193 | AD11: 115 | AE11: 78 | AF11: =AG11+AH11 -> 142 | AG11: 72 | AH11: 70 | AI11: =AJ11+AK11 -> 119 | AJ11: 68 | AK11: 51 | AL11: =AM11+AN11 -> 91 | AM11: 50 | AN11: 41 | AO11: =AP11+AQ11 -> 84 | AP11: 49 | AQ11: 35 | AR11: =AS11+AT11 -> 54 | AS11: 33 | AT11: 21 | AU11: =AV11+AW11 -> 80 | AV11: 42 | AW11: 38 | AX11: =AY11+AZ11 -> 74 | AY11: 37 | AZ11: 37 | BA11: =BB11+BC11 -> 114 | BB11: 54 | BC11: 60 | BD11: =BE11+BF11 -> 161 | BE11: 79 | BF11: 82 | BG11: =BH11+BI11 -> 122 | BH11: 64 | BI11: 58 | BJ11: =BK11+BL11 -> 65 | BK11: 31 | BL11: 34 | BM11: =BN11+BO11 -> 144 | BN11: 86 | BO11: 58 | BP11: =BQ11+BR11 -> 138 | BQ11: 70 | BR11: 68 | BS11: =BT11+BU11 -> 111 | BT11: 55 | BU11: 56 | BV11: =BW11+BX11 -> 401 | BW11: 198 | BX11: 203 | BY11: =BZ11+CA11 -> 158 | BZ11: 77 | CA11: 81 | CB11: =CC11+CD11 -> 350 | CC11: 175 | CD11: 175 | CE11: =CF11+CG11 -> 109 | CF11: 57 | CG11: 52 | CH11: =CI11+CJ11 -> 141 | CI11: 84 | CJ11: 57 | CK11: =CL11+CM11 -> 180 | CL11: 99 | CM11: 81 | CN11: =CO11+CP11 -> 107 | CO11: 52 | CP11: 55 | CQ11: =CR11+CS11 -> 122 | CR11: 47 | CS11: 75 | CT11: =CU11+CV11 -> 123 | CU11: 59 | CV11: 64 | CW11: =CX11+CY11 -> 125 | CX11: 70 | CY11: 55 | CZ11: =DA11+DB11 -> 73 | DA11: 43 | DB11: 30
A12: 4 | B12: =C12+D12 -> 5200 | C12: =F12+I12+L12+O12+R12+U12+X12+AA12+AD12+AG12+AJ12+AM12+AP12+AS12+AV12+AY12+BB12+BE12+BH12+BK12+BN12+BQ12+BT12+BW12+BZ12+CC12+CF12+CI12+CL12+CO12+CR12+CU12+CX12+DA12 -> 2591 | D12: =G12+J12+M12+P12+S12+V12+Y12+AB12+AE12+AH12+AK12+AN12+AQ12+AT12+AW12+AZ12+BC12+BF12+BI12+BL12+BO12+BR12+BU12+BX12+CA12+CD12+CG12+CJ12+CM12+CP12+CS12+CV12+CY12+DB12 -> 2609 | E12: =F12+G12 -> 178 | F12: 87 | G12: 91 | H12: =I12+J12 -> 175 | I12: 84 | J12: 91 | K12: =L12+M12 -> 119 | L12: 59 | M12: 60 | N12: =O12+P12 -> 131 | O12: 76 | P12: 55 | Q12: =R12+S12 -> 164 | R12: 87 | S12: 77 | T12: =U12+V12 -> 190 | U12: 98 | V12: 92 | W12: =X12+Y12 -> 121 | X12: 57 | Y12: 64 | Z12: =AA12+AB12 -> 165 | AA12: 83 | AB12: 82 | AC12: =AD12+AE12 -> 194 | AD12: 92 | AE12: 102 | AF12: =AG12+AH12 -> 143 | AG12: 76 | AH12: 67 | AI12: =AJ12+AK12 -> 134 | AJ12: 67 | AK12: 67 | AL12: =AM12+AN12 -> 101 | AM12: 48 | AN12: 53 | AO12: =AP12+AQ12 -> 69 | AP12: 36 | AQ12: 33 | AR12: =AS12+AT12 -> 77 | AS12: 40 | AT12: 37 | AU12: =AV12+AW12 -> 91 | AV12: 47 | AW12: 44 | AX12: =AY12+AZ12 -> 70 | AY12: 32 | AZ12: 38 | BA12: =BB12+BC12 -> 155 | BB12: 72 | BC12: 83 | BD12: =BE12+BF12 -> 202 | BE12: 102 | BF12: 100 | BG12: =BH12+BI12 -> 131 | BH12: 65 | BI12: 66 | BJ12: =BK12+BL12 -> 67 | BK12: 35 | BL12: 32 | BM12: =BN12+BO12 -> 134 | BN12: 68 | BO12: 66 | BP12: =BQ12+BR12 -> 148 | BQ12: 69 | BR12: 79 | BS12: =BT12+BU12 -> 134 | BT12: 70 | BU12: 64 | BV12: =BW12+BX12 -> 407 | BW12: 199 | BX12: 208 | BY12: =BZ12+CA12 -> 135 | BZ12: 65 | CA12: 70 | CB12: =CC12+CD12 -> 488 | CC12: 244 | CD12: 244 | CE12: =CF12+CG12 -> 118 | CF12: 68 | CG12: 50 | CH12: =CI12+CJ12 -> 143 | CI12: 74 | CJ12: 69 | CK12: =CL12+CM12 -> 237 | CL12: 110 | CM12: 127 | CN12: =CO12+CP12 -> 105 | CO12: 51 | CP12: 54 | CQ12: =CR12+CS12 -> 133 | CR12: 62 | CS12: 71 | CT12: =CU12+CV12 -> 143 | CU12: 76 | CV12: 67 | CW12: =CX12+CY12 -> 128 | CX12: 52 | CY12: 76 | CZ12: =DA12+DB12 -> 70 | DA12: 40 | DB12: 30
A13: 5-9 | B13: =C13+D13 -> 29306 | C13: =F13+I13+L13+O13+R13+U13+X13+AA13+AD13+AG13+AJ13+AM13+AP13+AS13+AV13+AY13+BB13+BE13+BH13+BK13+BN13+BQ13+BT13+BW13+BZ13+CC13+CF13+CI13+CL13+CO13+CR13+CU13+CX13+DA13 -> 15023 | D13: =G13+J13+M13+P13+S13+V13+Y13+AB13+AE13+AH13+AK13+AN13+AQ13+AT13+AW13+AZ13+BC13+BF13+BI13+BL13+BO13+BR13+BU13+BX13+CA13+CD13+CG13+CJ13+CM13+CP13+CS13+CV13+CY13+DB13 -> 14283 | E13: =F13+G13 -> 971 | F13: 494 | G13: 477 | H13: =I13+J13 -> 970 | I13: 507 | J13: 463 | K13: =L13+M13 -> 722 | L13: 381 | M13: 341 | N13: =O13+P13 -> 850 | O13: 445 | P13: 405 | Q13: =R13+S13 -> 869 | R13: 430 | S13: 439 | T13: =U13+V13 -> 1061 | U13: 560 | V13: 501 | W13: =X13+Y13 -> 763 | X13: 387 | Y13: 376 | Z13: =AA13+AB13 -> 885 | AA13: 458 | AB13: 427 | AC13: =AD13+AE13 -> 963 | AD13: 482 | AE13: 481 | AF13: =AG13+AH13 -> 836 | AG13: 432 | AH13: 404 | AI13: =AJ13+AK13 -> 664 | AJ13: 357 | AK13: 307 | AL13: =AM13+AN13 -> 557 | AM13: 271 | AN13: 286 | AO13: =AP13+AQ13 -> 502 | AP13: 255 | AQ13: 247 | AR13: =AS13+AT13 -> 384 | AS13: 197 | AT13: 187 | AU13: =AV13+AW13 -> 485 | AV13: 260 | AW13: 225 | AX13: =AY13+AZ13 -> 451 | AY13: 230 | AZ13: 221 | BA13: =BB13+BC13 -> 844 | BB13: 404 | BC13: 440 | BD13: =BE13+BF13 -> 1156 | BE13: 599 | BF13: 557 | BG13: =BH13+BI13 -> 852 | BH13: 461 | BI13: 391 | BJ13: =BK13+BL13 -> 321 | BK13: 177 | BL13: 144 | BM13: =BN13+BO13 -> 717 | BN13: 345 | BO13: 372 | BP13: =BQ13+BR13 -> 766 | BQ13: 369 | BR13: 397 | BS13: =BT13+BU13 -> 616 | BT13: 299 | BU13: 317 | BV13: =BW13+BX13 -> 1993 | BW13: 1022 | BX13: 971 | BY13: =BZ13+CA13 -> 872 | BZ13: 465 | CA13: 407 | CB13: =CC13+CD13 -> 2816 | CC13: 1423 | CD13: 1393 | CE13: =CF13+CG13 -> 943 | CF13: 481 | CG13: 462 | CH13: =CI13+CJ13 -> 824 | CI13: 439 | CJ13: 385 | CK13: =CL13+CM13 -> 1219 | CL13: 607 | CM13: 612 | CN13: =CO13+CP13 -> 646 | CO13: 346 | CP13: 300 | CQ13: =CR13+CS13 -> 749 | CR13: 371 | CS13: 378 | CT13: =CU13+CV13 -> 873 | CU13: 451 | CV13: 422 | CW13: =CX13+CY13 -> 717 | CX13: 372 | CY13: 345 | CZ13: =DA13+DB13 -> 449 | DA13: 246 | DB13: 203
A14: 5 | B14: =C14+D14 -> 5583 | C14: =F14+I14+L14+O14+R14+U14+X14+AA14+AD14+AG14+AJ14+AM14+AP14+AS14+AV14+AY14+BB14+BE14+BH14+BK14+BN14+BQ14+BT14+BW14+BZ14+CC14+CF14+CI14+CL14+CO14+CR14+CU14+CX14+DA14 -> 2884 | D14: =G14+J14+M14+P14+S14+V14+Y14+AB14+AE14+AH14+AK14+AN14+AQ14+AT14+AW14+AZ14+BC14+BF14+BI14+BL14+BO14+BR14+BU14+BX14+CA14+CD14+CG14+CJ14+CM14+CP14+CS14+CV14+CY14+DB14 -> 2699 | E14: =F14+G14 -> 174 | F14: 92 | G14: 82 | H14: =I14+J14 -> 173 | I14: 100 | J14: 73 | K14: =L14+M14 -> 131 | L14: 75 | M14: 56 | N14: =O14+P14 -> 151 | O14: 74 | P14: 77 | Q14: =R14+S14 -> 140 | R14: 69 | S14: 71 | T14: =U14+V14 -> 202 | U14: 99 | V14: 103 | W14: =X14+Y14 -> 133 | X14: 81 | Y14: 52 | Z14: =AA14+AB14 -> 169 | AA14: 81 | AB14: 88 | AC14: =AD14+AE14 -> 202 | AD14: 99 | AE14: 103 | AF14: =AG14+AH14 -> 164 | AG14: 88 | AH14: 76 | AI14: =AJ14+AK14 -> 114 | AJ14: 66 | AK14: 48 | AL14: =AM14+AN14 -> 101 | AM14: 49 | AN14: 52 | AO14: =AP14+AQ14 -> 94 | AP14: 44 | AQ14: 50 | AR14: =AS14+AT14 -> 78 | AS14: 43 | AT14: 35 | AU14: =AV14+AW14 -> 100 | AV14: 59 | AW14: 41 | AX14: =AY14+AZ14 -> 76 | AY14: 41 | AZ14: 35 | BA14: =BB14+BC14 -> 154 | BB14: 73 | BC14: 81 | BD14: =BE14+BF14 -> 226 | BE14: 122 | BF14: 104 | BG14: =BH14+BI14 -> 158 | BH14: 71 | BI14: 87 | BJ14: =BK14+BL14 -> 73 | BK14: 37 | BL14: 36 | BM14: =BN14+BO14 -> 143 | BN14: 73 | BO14: 70 | BP14: =BQ14+BR14 -> 156 | BQ14: 72 | BR14: 84 | BS14: =BT14+BU14 -> 118 | BT14: 51 | BU14: 67 | BV14: =BW14+BX14 -> 445 | BW14: 220 | BX14: 225 | BY14: =BZ14+CA14 -> 201 | BZ14: 99 | CA14: 102 | CB14: =CC14+CD14 -> 503 | CC14: 282 | CD14: 221 | CE14: =CF14+CG14 -> 157 | CF14: 81 | CG14: 76 | CH14: =CI14+CJ14 -> 170 | CI14: 84 | CJ14: 86 | CK14: =CL14+CM14 -> 234 | CL14: 112 | CM14: 122 | CN14: =CO14+CP14 -> 121 | CO14: 68 | CP14: 53 | CQ14: =CR14+CS14 -> 130 | CR14: 65 | CS14: 65 | CT14: =CU14+CV14 -> 162 | CU14: 86 | CV14: 76 | CW14: =CX14+CY14 -> 156 | CX14: 85 | CY14: 71 | CZ14: =DA14+DB14 -> 74 | DA14: 43 | DB14: 31
A15: 6 | B15: =C15+D15 -> 6026 | C15: =F15+I15+L15+O15+R15+U15+X15+AA15+AD15+AG15+AJ15+AM15+AP15+AS15+AV15+AY15+BB15+BE15+BH15+BK15+BN15+BQ15+BT15+BW15+BZ15+CC15+CF15+CI15+CL15+CO15+CR15+CU15+CX15+DA15 -> 3072 | D15: =G15+J15+M15+P15+S15+V15+Y15+AB15+AE15+AH15+AK15+AN15+AQ15+AT15+AW15+AZ15+BC15+BF15+BI15+BL15+BO15+BR15+BU15+BX15+CA15+CD15+CG15+CJ15+CM15+CP15+CS15+CV15+CY15+DB15 -> 2954 | E15: =F15+G15 -> 176 | F15: 87 | G15: 89 | H15: =I15+J15 -> 193 | I15: 101 | J15: 92 | K15: =L15+M15 -> 154 | L15: 75 | M15: 79 | N15: =O15+P15 -> 183 | O15: 87 | P15: 96 | Q15: =R15+S15 -> 175 | R15: 86 | S15: 89 | T15: =U15+V15 -> 219 | U15: 110 | V15: 109 | W15: =X15+Y15 -> 141 | X15: 65 | Y15: 76 | Z15: =AA15+AB15 -> 184 | AA15: 112 | AB15: 72 | AC15: =AD15+AE15 -> 203 | AD15: 99 | AE15: 104 | AF15: =AG15+AH15 -> 171 | AG15: 82 | AH15: 89 | AI15: =AJ15+AK15 -> 142 | AJ15: 73 | AK15: 69 | AL15: =AM15+AN15 -> 121 | AM15: 56 | AN15: 65 | AO15: =AP15+AQ15 -> 106 | AP15: 58 | AQ15: 48 | AR15: =AS15+AT15 -> 80 | AS15: 46 | AT15: 34 | AU15: =AV15+AW15 -> 92 | AV15: 48 | AW15: 44 | AX15: =AY15+AZ15 -> 89 | AY15: 46 | AZ15: 43 | BA15: =BB15+BC15 -> 166 | BB15: 82 | BC15: 84 | BD15: =BE15+BF15 -> 232 | BE15: 124 | BF15: 108 | BG15: =BH15+BI15 -> 174 | BH15: 92 | BI15: 82 | BJ15: =BK15+BL15 -> 62 | BK15: 35 | BL15: 27 | BM15: =BN15+BO15 -> 154 | BN15: 78 | BO15: 76 | BP15: =BQ15+BR15 -> 152 | BQ15: 70 | BR15: 82 | BS15: =BT15+BU15 -> 128 | BT15: 73 | BU15: 55 | BV15: =BW15+BX15 -> 394 | BW15: 206 | BX15: 188 | BY15: =BZ15+CA15 -> 171 | BZ15: 90 | CA15: 81 | CB15: =CC15+CD15 -> 606 | CC15: 281 | CD15: 325 | CE15: =CF15+CG15 -> 210 | CF15: 101 | CG15: 109 | CH15: =CI15+CJ15 -> 156 | CI15: 79 | CJ15: 77 | CK15: =CL15+CM15 -> 298 | CL15: 161 | CM15: 137 | CN15: =CO15+CP15 -> 126 | CO15: 77 | CP15: 49 | CQ15: =CR15+CS15 -> 140 | CR15: 66 | CS15: 74 | CT15: =CU15+CV15 -> 180 | CU15: 95 | CV15: 85 | CW15: =CX15+CY15 -> 147 | CX15: 77 | CY15: 70 | CZ15: =DA15+DB15 -> 101 | DA15: 54 | DB15: 47
A16: 7 | B16: =C16+D16 -> 5897 | C16: =F16+I16+L16+O16+R16+U16+X16+AA16+AD16+AG16+AJ16+AM16+AP16+AS16+AV16+AY16+BB16+BE16+BH16+BK16+BN16+BQ16+BT16+BW16+BZ16+CC16+CF16+CI16+CL16+CO16+CR16+CU16+CX16+DA16 -> 3033 | D16: =G16+J16+M16+P16+S16+V16+Y16+AB16+AE16+AH16+AK16+AN16+AQ16+AT16+AW16+AZ16+BC16+BF16+BI16+BL16+BO16+BR16+BU16+BX16+CA16+CD16+CG16+CJ16+CM16+CP16+CS16+CV16+CY16+DB16 -> 2864 | E16: =F16+G16 -> 207 | F16: 112 | G16: 95 | H16: =I16+J16 -> 210 | I16: 104 | J16: 106 | K16: =L16+M16 -> 145 | L16: 65 | M16: 80 | N16: =O16+P16 -> 169 | O16: 101 | P16: 68 | Q16: =R16+S16 -> 189 | R16: 88 | S16: 101 | T16: =U16+V16 -> 210 | U16: 128 | V16: 82 | W16: =X16+Y16 -> 161 | X16: 80 | Y16: 81 | Z16: =AA16+AB16 -> 180 | AA16: 98 | AB16: 82 | AC16: =AD16+AE16 -> 174 | AD16: 99 | AE16: 75 | AF16: =AG16+AH16 -> 160 | AG16: 84 | AH16: 76 | AI16: =AJ16+AK16 -> 141 | AJ16: 80 | AK16: 61 | AL16: =AM16+AN16 -> 104 | AM16: 49 | AN16: 55 | AO16: =AP16+AQ16 -> 96 | AP16: 47 | AQ16: 49 | AR16: =AS16+AT16 -> 64 | AS16: 32 | AT16: 32 | AU16: =AV16+AW16 -> 99 | AV16: 48 | AW16: 51 | AX16: =AY16+AZ16 -> 87 | AY16: 40 | AZ16: 47 | BA16: =BB16+BC16 -> 170 | BB16: 82 | BC16: 88 | BD16: =BE16+BF16 -> 239 | BE16: 118 | BF16: 121 | BG16: =BH16+BI16 -> 186 | BH16: 103 | BI16: 83 | BJ16: =BK16+BL16 -> 63 | BK16: 34 | BL16: 29 | BM16: =BN16+BO16 -> 139 | BN16: 53 | BO16: 86 | BP16: =BQ16+BR16 -> 160 | BQ16: 79 | BR16: 81 | BS16: =BT16+BU16 -> 110 | BT16: 51 | BU16: 59 | BV16: =BW16+BX16 -> 394 | BW16: 208 | BX16: 186 | BY16: =BZ16+CA16 -> 187 | BZ16: 101 | CA16: 86 | CB16: =CC16+CD16 -> 562 | CC16: 278 | CD16: 284 | CE16: =CF16+CG16 -> 211 | CF16: 111 | CG16: 100 | CH16: =CI16+CJ16 -> 158 | CI16: 87 | CJ16: 71 | CK16: =CL16+CM16 -> 235 | CL16: 120 | CM16: 115 | CN16: =CO16+CP16 -> 136 | CO16: 68 | CP16: 68 | CQ16: =CR16+CS16 -> 145 | CR16: 73 | CS16: 72 | CT16: =CU16+CV16 -> 193 | CU16: 102 | CV16: 91 | CW16: =CX16+CY16 -> 134 | CX16: 68 | CY16: 66 | CZ16: =DA16+DB16 -> 79 | DA16: 42 | DB16: 37
A17: 8 | B17: =C17+D17 -> 5647 | C17: =F17+I17+L17+O17+R17+U17+X17+AA17+AD17+AG17+AJ17+AM17+AP17+AS17+AV17+AY17+BB17+BE17+BH17+BK17+BN17+BQ17+BT17+BW17+BZ17+CC17+CF17+CI17+CL17+CO17+CR17+CU17+CX17+DA17 -> 2930 | D17: =G17+J17+M17+P17+S17+V17+Y17+AB17+AE17+AH17+AK17+AN17+AQ17+AT17+AW17+AZ17+BC17+BF17+BI17+BL17+BO17+BR17+BU17+BX17+CA17+CD17+CG17+CJ17+CM17+CP17+CS17+CV17+CY17+DB17 -> 2717 | E17: =F17+G17 -> 188 | F17: 89 | G17: 99 | H17: =I17+J17 -> 187 | I17: 97 | J17: 90 | K17: =L17+M17 -> 128 | L17: 74 | M17: 54 | N17: =O17+P17 -> 167 | O17: 86 | P17: 81 | Q17: =R17+S17 -> 186 | R17: 96 | S17: 90 | T17: =U17+V17 -> 199 | U17: 104 | V17: 95 | W17: =X17+Y17 -> 155 | X17: 67 | Y17: 88 | Z17: =AA17+AB17 -> 172 | AA17: 84 | AB17: 88 | AC17: =AD17+AE17 -> 173 | AD17: 81 | AE17: 92 | AF17: =AG17+AH17 -> 167 | AG17: 88 | AH17: 79 | AI17: =AJ17+AK17 -> 144 | AJ17: 70 | AK17: 74 | AL17: =AM17+AN17 -> 113 | AM17: 54 | AN17: 59 | AO17: =AP17+AQ17 -> 90 | AP17: 50 | AQ17: 40 | AR17: =AS17+AT17 -> 68 | AS17: 41 | AT17: 27 | AU17: =AV17+AW17 -> 97 | AV17: 55 | AW17: 42 | AX17: =AY17+AZ17 -> 91 | AY17: 48 | AZ17: 43 | BA17: =BB17+BC17 -> 177 | BB17: 84 | BC17: 93 | BD17: =BE17+BF17 -> 234 | BE17: 129 | BF17: 105 | BG17: =BH17+BI17 -> 166 | BH17: 94 | BI17: 72 | BJ17: =BK17+BL17 -> 62 | BK17: 34 | BL17: 28 | BM17: =BN17+BO17 -> 130 | BN17: 67 | BO17: 63 | BP17: =BQ17+BR17 -> 152 | BQ17: 70 | BR17: 82 | BS17: =BT17+BU17 -> 126 | BT17: 61 | BU17: 65 | BV17: =BW17+BX17 -> 364 | BW17: 201 | BX17: 163 | BY17: =BZ17+CA17 -> 133 | BZ17: 72 | CA17: 61 | CB17: =CC17+CD17 -> 552 | CC17: 295 | CD17: 257 | CE17: =CF17+CG17 -> 165 | CF17: 84 | CG17: 81 | CH17: =CI17+CJ17 -> 174 | CI17: 104 | CJ17: 70 | CK17: =CL17+CM17 -> 224 | CL17: 99 | CM17: 125 | CN17: =CO17+CP17 -> 127 | CO17: 65 | CP17: 62 | CQ17: =CR17+CS17 -> 144 | CR17: 70 | CS17: 74 | CT17: =CU17+CV17 -> 168 | CU17: 90 | CV17: 78 | CW17: =CX17+CY17 -> 130 | CX17: 73 | CY17: 57 | CZ17: =DA17+DB17 -> 94 | DA17: 54 | DB17: 40
A18: 9 | B18: =C18+D18 -> 6153 | C18: =F18+I18+L18+O18+R18+U18+X18+AA18+AD18+AG18+AJ18+AM18+AP18+AS18+AV18+AY18+BB18+BE18+BH18+BK18+BN18+BQ18+BT18+BW18+BZ18+CC18+CF18+CI18+CL18+CO18+CR18+CU18+CX18+DA18 -> 3104 | D18: =G18+J18+M18+P18+S18+V18+Y18+AB18+AE18+AH18+AK18+AN18+AQ18+AT18+AW18+AZ18+BC18+BF18+BI18+BL18+BO18+BR18+BU18+BX18+CA18+CD18+CG18+CJ18+CM18+CP18+CS18+CV18+CY18+DB18 -> 3049 | E18: =F18+G18 -> 226 | F18: 114 | G18: 112 | H18: =I18+J18 -> 207 | I18: 105 | J18: 102 | K18: =L18+M18 -> 164 | L18: 92 | M18: 72 | N18: =O18+P18 -> 180 | O18: 97 | P18: 83 | Q18: =R18+S18 -> 179 | R18: 91 | S18: 88 | T18: =U18+V18 -> 231 | U18: 119 | V18: 112 | W18: =X18+Y18 -> 173 | X18: 94 | Y18: 79 | Z18: =AA18+AB18 -> 180 | AA18: 83 | AB18: 97 | AC18: =AD18+AE18 -> 211 | AD18: 104 | AE18: 107 | AF18: =AG18+AH18 -> 174 | AG18: 90 | AH18: 84 | AI18: =AJ18+AK18 -> 123 | AJ18: 68 | AK18: 55 | AL18: =AM18+AN18 -> 118 | AM18: 63 | AN18: 55 | AO18: =AP18+AQ18 -> 116 | AP18: 56 | AQ18: 60 | AR18: =AS18+AT18 -> 94 | AS18: 35 | AT18: 59 | AU18: =AV18+AW18 -> 97 | AV18: 50 | AW18: 47 | AX18: =AY18+AZ18 -> 108 | AY18: 55 | AZ18: 53 | BA18: =BB18+BC18 -> 177 | BB18: 83 | BC18: 94 | BD18: =BE18+BF18 -> 225 | BE18: 106 | BF18: 119 | BG18: =BH18+BI18 -> 168 | BH18: 101 | BI18: 67 | BJ18: =BK18+BL18 -> 61 | BK18: 37 | BL18: 24 | BM18: =BN18+BO18 -> 151 | BN18: 74 | BO18: 77 | BP18: =BQ18+BR18 -> 146 | BQ18: 78 | BR18: 68 | BS18: =BT18+BU18 -> 134 | BT18: 63 | BU18: 71 | BV18: =BW18+BX18 -> 396 | BW18: 187 | BX18: 209 | BY18: =BZ18+CA18 -> 180 | BZ18: 103 | CA18: 77 | CB18: =CC18+CD18 -> 593 | CC18: 287 | CD18: 306 | CE18: =CF18+CG18 -> 200 | CF18: 104 | CG18: 96 | CH18: =CI18+CJ18 -> 166 | CI18: 85 | CJ18: 81 | CK18: =CL18+CM18 -> 228 | CL18: 115 | CM18: 113 | CN18: =CO18+CP18 -> 136 | CO18: 68 | CP18: 68 | CQ18: =CR18+CS18 -> 190 | CR18: 97 | CS18: 93 | CT18: =CU18+CV18 -> 170 | CU18: 78 | CV18: 92 | CW18: =CX18+CY18 -> 150 | CX18: 69 | CY18: 81 | CZ18: =DA18+DB18 -> 101 | DA18: 53 | DB18: 48
A19: 10-14 | B19: =C19+D19 -> 30103 | C19: =F19+I19+L19+O19+R19+U19+X19+AA19+AD19+AG19+AJ19+AM19+AP19+AS19+AV19+AY19+BB19+BE19+BH19+BK19+BN19+BQ19+BT19+BW19+BZ19+CC19+CF19+CI19+CL19+CO19+CR19+CU19+CX19+DA19 -> 15354 | D19: =G19+J19+M19+P19+S19+V19+Y19+AB19+AE19+AH19+AK19+AN19+AQ19+AT19+AW19+AZ19+BC19+BF19+BI19+BL19+BO19+BR19+BU19+BX19+CA19+CD19+CG19+CJ19+CM19+CP19+CS19+CV19+CY19+DB19 -> 14749 | E19: =F19+G19 -> 1068 | F19: 538 | G19: 530 | H19: =I19+J19 -> 986 | I19: 514 | J19: 472 | K19: =L19+M19 -> 796 | L19: 415 | M19: 381 | N19: =O19+P19 -> 912 | O19: 478 | P19: 434 | Q19: =R19+S19 -> 979 | R19: 476 | S19: 503 | T19: =U19+V19 -> 1179 | U19: 606 | V19: 573 | W19: =X19+Y19 -> 876 | X19: 435 | Y19: 441 | Z19: =AA19+AB19 -> 963 | AA19: 480 | AB19: 483 | AC19: =AD19+AE19 -> 884 | AD19: 454 | AE19: 430 | AF19: =AG19+AH19 -> 911 | AG19: 483 | AH19: 428 | AI19: =AJ19+AK19 -> 701 | AJ19: 361 | AK19: 340 | AL19: =AM19+AN19 -> 603 | AM19: 308 | AN19: 295 | AO19: =AP19+AQ19 -> 579 | AP19: 288 | AQ19: 291 | AR19: =AS19+AT19 -> 441 | AS19: 205 | AT19: 236 | AU19: =AV19+AW19 -> 543 | AV19: 281 | AW19: 262 | AX19: =AY19+AZ19 -> 427 | AY19: 216 | AZ19: 211 | BA19: =BB19+BC19 -> 959 | BB19: 492 | BC19: 467 | BD19: =BE19+BF19 -> 1264 | BE19: 625 | BF19: 639 | BG19: =BH19+BI19 -> 907 | BH19: 448 | BI19: 459 | BJ19: =BK19+BL19 -> 303 | BK19: 178 | BL19: 125 | BM19: =BN19+BO19 -> 689 | BN19: 344 | BO19: 345 | BP19: =BQ19+BR19 -> 763 | BQ19: 386 | BR19: 377 | BS19: =BT19+BU19 -> 610 | BT19: 312 | BU19: 298 | BV19: =BW19+BX19 -> 1771 | BW19: 885 | BX19: 886 | BY19: =BZ19+CA19 -> 827 | BZ19: 439 | CA19: 388 | CB19: =CC19+CD19 -> 2587 | CC19: 1327 | CD19: 1260 | CE19: =CF19+CG19 -> 901 | CF19: 476 | CG19: 425 | CH19: =CI19+CJ19 -> 803 | CI19: 403 | CJ19: 400 | CK19: =CL19+CM19 -> 1137 | CL19: 578 | CM19: 559 | CN19: =CO19+CP19 -> 689 | CO19: 355 | CP19: 334 | CQ19: =CR19+CS19 -> 796 | CR19: 390 | CS19: 406 | CT19: =CU19+CV19 -> 969 | CU19: 508 | CV19: 461 | CW19: =CX19+CY19 -> 776 | CX19: 416 | CY19: 360 | CZ19: =DA19+DB19 -> 504 | DA19: 254 | DB19: 250
A20: 10 | B20: =C20+D20 -> 6337 | C20: =F20+I20+L20+O20+R20+U20+X20+AA20+AD20+AG20+AJ20+AM20+AP20+AS20+AV20+AY20+BB20+BE20+BH20+BK20+BN20+BQ20+BT20+BW20+BZ20+CC20+CF20+CI20+CL20+CO20+CR20+CU20+CX20+DA20 -> 3244 | D20: =G20+J20+M20+P20+S20+V20+Y20+AB20+AE20+AH20+AK20+AN20+AQ20+AT20+AW20+AZ20+BC20+BF20+BI20+BL20+BO20+BR20+BU20+BX20+CA20+CD20+CG20+CJ20+CM20+CP20+CS20+CV20+CY20+DB20 -> 3093 | E20: =F20+G20 -> 198 | F20: 104 | G20: 94 | H20: =I20+J20 -> 211 | I20: 111 | J20: 100 | K20: =L20+M20 -> 171 | L20: 87 | M20: 84 | N20: =O20+P20 -> 191 | O20: 92 | P20: 99 | Q20: =R20+S20 -> 190 | R20: 87 | S20: 103 | T20: =U20+V20 -> 248 | U20: 123 | V20: 125 | W20: =X20+Y20 -> 186 | X20: 98 | Y20: 88 | Z20: =AA20+AB20 -> 206 | AA20: 99 | AB20: 107 | AC20: =AD20+AE20 -> 176 | AD20: 83 | AE20: 93 | AF20: =AG20+AH20 -> 207 | AG20: 122 | AH20: 85 | AI20: =AJ20+AK20 -> 157 | AJ20: 82 | AK20: 75 | AL20: =AM20+AN20 -> 141 | AM20: 78 | AN20: 63 | AO20: =AP20+AQ20 -> 109 | AP20: 61 | AQ20: 48 | AR20: =AS20+AT20 -> 95 | AS20: 34 | AT20: 61 | AU20: =AV20+AW20 -> 110 | AV20: 51 | AW20: 59 | AX20: =AY20+AZ20 -> 83 | AY20: 46 | AZ20: 37 | BA20: =BB20+BC20 -> 207 | BB20: 102 | BC20: 105 | BD20: =BE20+BF20 -> 258 | BE20: 118 | BF20: 140 | BG20: =BH20+BI20 -> 168 | BH20: 76 | BI20: 92 | BJ20: =BK20+BL20 -> 54 | BK20: 36 | BL20: 18 | BM20: =BN20+BO20 -> 153 | BN20: 70 | BO20: 83 | BP20: =BQ20+BR20 -> 165 | BQ20: 90 | BR20: 75 | BS20: =BT20+BU20 -> 124 | BT20: 63 | BU20: 61 | BV20: =BW20+BX20 -> 406 | BW20: 205 | BX20: 201 | BY20: =BZ20+CA20 -> 169 | BZ20: 101 | CA20: 68 | CB20: =CC20+CD20 -> 603 | CC20: 312 | CD20: 291 | CE20: =CF20+CG20 -> 190 | CF20: 106 | CG20: 84 | CH20: =CI20+CJ20 -> 172 | CI20: 82 | CJ20: 90 | CK20: =CL20+CM20 -> 220 | CL20: 115 | CM20: 105 | CN20: =CO20+CP20 -> 131 | CO20: 74 | CP20: 57 | CQ20: =CR20+CS20 -> 175 | CR20: 87 | CS20: 88 | CT20: =CU20+CV20 -> 189 | CU20: 105 | CV20: 84 | CW20: =CX20+CY20 -> 163 | CX20: 84 | CY20: 79 | CZ20: =DA20+DB20 -> 111 | DA20: 60 | DB20: 51
A21: 11 | B21: =C21+D21 -> 6560 | C21: =F21+I21+L21+O21+R21+U21+X21+AA21+AD21+AG21+AJ21+AM21+AP21+AS21+AV21+AY21+BB21+BE21+BH21+BK21+BN21+BQ21+BT21+BW21+BZ21+CC21+CF21+CI21+CL21+CO21+CR21+CU21+CX21+DA21 -> 3306 | D21: =G21+J21+M21+P21+S21+V21+Y21+AB21+AE21+AH21+AK21+AN21+AQ21+AT21+AW21+AZ21+BC21+BF21+BI21+BL21+BO21+BR21+BU21+BX21+CA21+CD21+CG21+CJ21+CM21+CP21+CS21+CV21+CY21+DB21 -> 3254 | E21: =F21+G21 -> 236 | F21: 126 | G21: 110 | H21: =I21+J21 -> 227 | I21: 126 | J21: 101 | K21: =L21+M21 -> 162 | L21: 79 | M21: 83 | N21: =O21+P21 -> 201 | O21: 106 | P21: 95 | Q21: =R21+S21 -> 227 | R21: 105 | S21: 122 | T21: =U21+V21 -> 230 | U21: 128 | V21: 102 | W21: =X21+Y21 -> 182 | X21: 86 | Y21: 96 | Z21: =AA21+AB21 -> 229 | AA21: 110 | AB21: 119 | AC21: =AD21+AE21 -> 194 | AD21: 101 | AE21: 93 | AF21: =AG21+AH21 -> 181 | AG21: 97 | AH21: 84 | AI21: =AJ21+AK21 -> 127 | AJ21: 60 | AK21: 67 | AL21: =AM21+AN21 -> 108 | AM21: 50 | AN21: 58 | AO21: =AP21+AQ21 -> 111 | AP21: 45 | AQ21: 66 | AR21: =AS21+AT21 -> 116 | AS21: 55 | AT21: 61 | AU21: =AV21+AW21 -> 128 | AV21: 70 | AW21: 58 | AX21: =AY21+AZ21 -> 83 | AY21: 36 | AZ21: 47 | BA21: =BB21+BC21 -> 220 | BB21: 111 | BC21: 109 | BD21: =BE21+BF21 -> 249 | BE21: 115 | BF21: 134 | BG21: =BH21+BI21 -> 203 | BH21: 109 | BI21: 94 | BJ21: =BK21+BL21 -> 74 | BK21: 44 | BL21: 30 | BM21: =BN21+BO21 -> 139 | BN21: 79 | BO21: 60 | BP21: =BQ21+BR21 -> 167 | BQ21: 85 | BR21: 82 | BS21: =BT21+BU21 -> 136 | BT21: 72 | BU21: 64 | BV21: =BW21+BX21 -> 381 | BW21: 192 | BX21: 189 | BY21: =BZ21+CA21 -> 176 | BZ21: 89 | CA21: 87 | CB21: =CC21+CD21 -> 610 | CC21: 315 | CD21: 295 | CE21: =CF21+CG21 -> 211 | CF21: 103 | CG21: 108 | CH21: =CI21+CJ21 -> 190 | CI21: 85 | CJ21: 105 | CK21: =CL21+CM21 -> 269 | CL21: 120 | CM21: 149 | CN21: =CO21+CP21 -> 161 | CO21: 82 | CP21: 79 | CQ21: =CR21+CS21 -> 173 | CR21: 80 | CS21: 93 | CT21: =CU21+CV21 -> 202 | CU21: 106 | CV21: 96 | CW21: =CX21+CY21 -> 157 | CX21: 91 | CY21: 66 | CZ21: =DA21+DB21 -> 100 | DA21: 48 | DB21: 52
A22: 12 | B22: =C22+D22 -> 6081 | C22: =F22+I22+L22+O22+R22+U22+X22+AA22+AD22+AG22+AJ22+AM22+AP22+AS22+AV22+AY22+BB22+BE22+BH22+BK22+BN22+BQ22+BT22+BW22+BZ22+CC22+CF22+CI22+CL22+CO22+CR22+CU22+CX22+DA22 -> 3197 | D22: =G22+J22+M22+P22+S22+V22+Y22+AB22+AE22+AH22+AK22+AN22+AQ22+AT22+AW22+AZ22+BC22+BF22+BI22+BL22+BO22+BR22+BU22+BX22+CA22+CD22+CG22+CJ22+CM22+CP22+CS22+CV22+CY22+DB22 -> 2884 | E22: =F22+G22 -> 233 | F22: 119 | G22: 114 | H22: =I22+J22 -> 210 | I22: 102 | J22: 108 | K22: =L22+M22 -> 151 | L22: 85 | M22: 66 | N22: =O22+P22 -> 183 | O22: 100 | P22: 83 | Q22: =R22+S22 -> 191 | R22: 114 | S22: 77 | T22: =U22+V22 -> 238 | U22: 130 | V22: 108 | W22: =X22+Y22 -> 174 | X22: 88 | Y22: 86 | Z22: =AA22+AB22 -> 172 | AA22: 91 | AB22: 81 | AC22: =AD22+AE22 -> 174 | AD22: 85 | AE22: 89 | AF22: =AG22+AH22 -> 209 | AG22: 116 | AH22: 93 | AI22: =AJ22+AK22 -> 140 | AJ22: 87 | AK22: 53 | AL22: =AM22+AN22 -> 128 | AM22: 58 | AN22: 70 | AO22: =AP22+AQ22 -> 130 | AP22: 66 | AQ22: 64 | AR22: =AS22+AT22 -> 90 | AS22: 44 | AT22: 46 | AU22: =AV22+AW22 -> 117 | AV22: 65 | AW22: 52 | AX22: =AY22+AZ22 -> 92 | AY22: 47 | AZ22: 45 | BA22: =BB22+BC22 -> 197 | BB22: 108 | BC22: 89 | BD22: =BE22+BF22 -> 238 | BE22: 127 | BF22: 111 | BG22: =BH22+BI22 -> 175 | BH22: 88 | BI22: 87 | BJ22: =BK22+BL22 -> 65 | BK22: 34 | BL22: 31 | BM22: =BN22+BO22 -> 124 | BN22: 69 | BO22: 55 | BP22: =BQ22+BR22 -> 144 | BQ22: 74 | BR22: 70 | BS22: =BT22+BU22 -> 120 | BT22: 52 | BU22: 68 | BV22: =BW22+BX22 -> 376 | BW22: 183 | BX22: 193 | BY22: =BZ22+CA22 -> 188 | BZ22: 99 | CA22: 89 | CB22: =CC22+CD22 -> 512 | CC22: 282 | CD22: 230 | CE22: =CF22+CG22 -> 192 | CF22: 101 | CG22: 91 | CH22: =CI22+CJ22 -> 139 | CI22: 86 | CJ22: 53 | CK22: =CL22+CM22 -> 253 | CL22: 126 | CM22: 127 | CN22: =CO22+CP22 -> 124 | CO22: 67 | CP22: 57 | CQ22: =CR22+CS22 -> 147 | CR22: 67 | CS22: 80 | CT22: =CU22+CV22 -> 209 | CU22: 106 | CV22: 103 | CW22: =CX22+CY22 -> 145 | CX22: 80 | CY22: 65 | CZ22: =DA22+DB22 -> 101 | DA22: 51 | DB22: 50
A23: 13 | B23: =C23+D23 -> 5958 | C23: =F23+I23+L23+O23+R23+U23+X23+AA23+AD23+AG23+AJ23+AM23+AP23+AS23+AV23+AY23+BB23+BE23+BH23+BK23+BN23+BQ23+BT23+BW23+BZ23+CC23+CF23+CI23+CL23+CO23+CR23+CU23+CX23+DA23 -> 2973 | D23: =G23+J23+M23+P23+S23+V23+Y23+AB23+AE23+AH23+AK23+AN23+AQ23+AT23+AW23+AZ23+BC23+BF23+BI23+BL23+BO23+BR23+BU23+BX23+CA23+CD23+CG23+CJ23+CM23+CP23+CS23+CV23+CY23+DB23 -> 2985 | E23: =F23+G23 -> 211 | F23: 96 | G23: 115 | H23: =I23+J23 -> 181 | I23: 102 | J23: 79 | K23: =L23+M23 -> 157 | L23: 81 | M23: 76 | N23: =O23+P23 -> 170 | O23: 87 | P23: 83 | Q23: =R23+S23 -> 186 | R23: 85 | S23: 101 | T23: =U23+V23 -> 256 | U23: 115 | V23: 141 | W23: =X23+Y23 -> 183 | X23: 80 | Y23: 103 | Z23: =AA23+AB23 -> 197 | AA23: 94 | AB23: 103 | AC23: =AD23+AE23 -> 162 | AD23: 90 | AE23: 72 | AF23: =AG23+AH23 -> 154 | AG23: 66 | AH23: 88 | AI23: =AJ23+AK23 -> 143 | AJ23: 66 | AK23: 77 | AL23: =AM23+AN23 -> 108 | AM23: 57 | AN23: 51 | AO23: =AP23+AQ23 -> 118 | AP23: 59 | AQ23: 59 | AR23: =AS23+AT23 -> 76 | AS23: 40 | AT23: 36 | AU23: =AV23+AW23 -> 107 | AV23: 59 | AW23: 48 | AX23: =AY23+AZ23 -> 100 | AY23: 55 | AZ23: 45 | BA23: =BB23+BC23 -> 173 | BB23: 91 | BC23: 82 | BD23: =BE23+BF23 -> 280 | BE23: 138 | BF23: 142 | BG23: =BH23+BI23 -> 198 | BH23: 100 | BI23: 98 | BJ23: =BK23+BL23 -> 59 | BK23: 31 | BL23: 28 | BM23: =BN23+BO23 -> 158 | BN23: 73 | BO23: 85 | BP23: =BQ23+BR23 -> 144 | BQ23: 71 | BR23: 73 | BS23: =BT23+BU23 -> 119 | BT23: 67 | BU23: 52 | BV23: =BW23+BX23 -> 343 | BW23: 167 | BX23: 176 | BY23: =BZ23+CA23 -> 171 | BZ23: 88 | CA23: 83 | CB23: =CC23+CD23 -> 468 | CC23: 220 | CD23: 248 | CE23: =CF23+CG23 -> 172 | CF23: 99 | CG23: 73 | CH23: =CI23+CJ23 -> 169 | CI23: 84 | CJ23: 85 | CK23: =CL23+CM23 -> 221 | CL23: 115 | CM23: 106 | CN23: =CO23+CP23 -> 148 | CO23: 72 | CP23: 76 | CQ23: =CR23+CS23 -> 161 | CR23: 82 | CS23: 79 | CT23: =CU23+CV23 -> 184 | CU23: 90 | CV23: 94 | CW23: =CX23+CY23 -> 181 | CX23: 103 | CY23: 78 | CZ23: =DA23+DB23 -> 100 | DA23: 50 | DB23: 50
A24: 14 | B24: =C24+D24 -> 5167 | C24: =F24+I24+L24+O24+R24+U24+X24+AA24+AD24+AG24+AJ24+AM24+AP24+AS24+AV24+AY24+BB24+BE24+BH24+BK24+BN24+BQ24+BT24+BW24+BZ24+CC24+CF24+CI24+CL24+CO24+CR24+CU24+CX24+DA24 -> 2634 | D24: =G24+J24+M24+P24+S24+V24+Y24+AB24+AE24+AH24+AK24+AN24+AQ24+AT24+AW24+AZ24+BC24+BF24+BI24+BL24+BO24+BR24+BU24+BX24+CA24+CD24+CG24+CJ24+CM24+CP24+CS24+CV24+CY24+DB24 -> 2533 | E24: =F24+G24 -> 190 | F24: 93 | G24: 97 | H24: =I24+J24 -> 157 | I24: 73 | J24: 84 | K24: =L24+M24 -> 155 | L24: 83 | M24: 72 | N24: =O24+P24 -> 167 | O24: 93 | P24: 74 | Q24: =R24+S24 -> 185 | R24: 85 | S24: 100 | T24: =U24+V24 -> 207 | U24: 110 | V24: 97 | W24: =X24+Y24 -> 151 | X24: 83 | Y24: 68 | Z24: =AA24+AB24 -> 159 | AA24: 86 | AB24: 73 | AC24: =AD24+AE24 -> 178 | AD24: 95 | AE24: 83 | AF24: =AG24+AH24 -> 160 | AG24: 82 | AH24: 78 | AI24: =AJ24+AK24 -> 134 | AJ24: 66 | AK24: 68 | AL24: =AM24+AN24 -> 118 | AM24: 65 | AN24: 53 | AO24: =AP24+AQ24 -> 111 | AP24: 57 | AQ24: 54 | AR24: =AS24+AT24 -> 64 | AS24: 32 | AT24: 32 | AU24: =AV24+AW24 -> 81 | AV24: 36 | AW24: 45 | AX24: =AY24+AZ24 -> 69 | AY24: 32 | AZ24: 37 | BA24: =BB24+BC24 -> 162 | BB24: 80 | BC24: 82 | BD24: =BE24+BF24 -> 239 | BE24: 127 | BF24: 112 | BG24: =BH24+BI24 -> 163 | BH24: 75 | BI24: 88 | BJ24: =BK24+BL24 -> 51 | BK24: 33 | BL24: 18 | BM24: =BN24+BO24 -> 115 | BN24: 53 | BO24: 62 | BP24: =BQ24+BR24 -> 143 | BQ24: 66 | BR24: 77 | BS24: =BT24+BU24 -> 111 | BT24: 58 | BU24: 53 | BV24: =BW24+BX24 -> 265 | BW24: 138 | BX24: 127 | BY24: =BZ24+CA24 -> 123 | BZ24: 62 | CA24: 61 | CB24: =CC24+CD24 -> 394 | CC24: 198 | CD24: 196 | CE24: =CF24+CG24 -> 136 | CF24: 67 | CG24: 69 | CH24: =CI24+CJ24 -> 133 | CI24: 66 | CJ24: 67 | CK24: =CL24+CM24 -> 174 | CL24: 102 | CM24: 72 | CN24: =CO24+CP24 -> 125 | CO24: 60 | CP24: 65 | CQ24: =CR24+CS24 -> 140 | CR24: 74 | CS24: 66 | CT24: =CU24+CV24 -> 185 | CU24: 101 | CV24: 84 | CW24: =CX24+CY24 -> 130 | CX24: 58 | CY24: 72 | CZ24: =DA24+DB24 -> 92 | DA24: 45 | DB24: 47
A25: 15-19 | B25: =C25+D25 -> 19419 | C25: =F25+I25+L25+O25+R25+U25+X25+AA25+AD25+AG25+AJ25+AM25+AP25+AS25+AV25+AY25+BB25+BE25+BH25+BK25+BN25+BQ25+BT25+BW25+BZ25+CC25+CF25+CI25+CL25+CO25+CR25+CU25+CX25+DA25 -> 9767 | D25: =G25+J25+M25+P25+S25+V25+Y25+AB25+AE25+AH25+AK25+AN25+AQ25+AT25+AW25+AZ25+BC25+BF25+BI25+BL25+BO25+BR25+BU25+BX25+CA25+CD25+CG25+CJ25+CM25+CP25+CS25+CV25+CY25+DB25 -> 9652 | E25: =F25+G25 -> 710 | F25: 373 | G25: 337 | H25: =I25+J25 -> 707 | I25: 333 | J25: 374 | K25: =L25+M25 -> 545 | L25: 287 | M25: 258 | N25: =O25+P25 -> 638 | O25: 329 | P25: 309 | Q25: =R25+S25 -> 653 | R25: 341 | S25: 312 | T25: =U25+V25 -> 864 | U25: 403 | V25: 461 | W25: =X25+Y25 -> 537 | X25: 280 | Y25: 257 | Z25: =AA25+AB25 -> 654 | AA25: 318 | AB25: 336 | AC25: =AD25+AE25 -> 607 | AD25: 312 | AE25: 295 | AF25: =AG25+AH25 -> 584 | AG25: 300 | AH25: 284 | AI25: =AJ25+AK25 -> 499 | AJ25: 260 | AK25: 239 | AL25: =AM25+AN25 -> 422 | AM25: 217 | AN25: 205 | AO25: =AP25+AQ25 -> 363 | AP25: 162 | AQ25: 201 | AR25: =AS25+AT25 -> 325 | AS25: 167 | AT25: 158 | AU25: =AV25+AW25 -> 409 | AV25: 212 | AW25: 197 | AX25: =AY25+AZ25 -> 345 | AY25: 183 | AZ25: 162 | BA25: =BB25+BC25 -> 633 | BB25: 332 | BC25: 301 | BD25: =BE25+BF25 -> 802 | BE25: 404 | BF25: 398 | BG25: =BH25+BI25 -> 594 | BH25: 287 | BI25: 307 | BJ25: =BK25+BL25 -> 209 | BK25: 104 | BL25: 105 | BM25: =BN25+BO25 -> 519 | BN25: 246 | BO25: 273 | BP25: =BQ25+BR25 -> 559 | BQ25: 276 | BR25: 283 | BS25: =BT25+BU25 -> 484 | BT25: 255 | BU25: 229 | BV25: =BW25+BX25 -> 904 | BW25: 429 | BX25: 475 | BY25: =BZ25+CA25 -> 503 | BZ25: 248 | CA25: 255 | CB25: =CC25+CD25 -> 1332 | CC25: 694 | CD25: 638 | CE25: =CF25+CG25 -> 500 | CF25: 263 | CG25: 237 | CH25: =CI25+CJ25 -> 479 | CI25: 246 | CJ25: 233 | CK25: =CL25+CM25 -> 705 | CL25: 347 | CM25: 358 | CN25: =CO25+CP25 -> 468 | CO25: 250 | CP25: 218 | CQ25: =CR25+CS25 -> 450 | CR25: 210 | CS25: 240 | CT25: =CU25+CV25 -> 595 | CU25: 284 | CV25: 311 | CW25: =CX25+CY25 -> 455 | CX25: 243 | CY25: 212 | CZ25: =DA25+DB25 -> 366 | DA25: 172 | DB25: 194
A26: 15 | B26: =C26+D26 -> 4674 | C26: =F26+I26+L26+O26+R26+U26+X26+AA26+AD26+AG26+AJ26+AM26+AP26+AS26+AV26+AY26+BB26+BE26+BH26+BK26+BN26+BQ26+BT26+BW26+BZ26+CC26+CF26+CI26+CL26+CO26+CR26+CU26+CX26+DA26 -> 2385 | D26: =G26+J26+M26+P26+S26+V26+Y26+AB26+AE26+AH26+AK26+AN26+AQ26+AT26+AW26+AZ26+BC26+BF26+BI26+BL26+BO26+BR26+BU26+BX26+CA26+CD26+CG26+CJ26+CM26+CP26+CS26+CV26+CY26+DB26 -> 2289 | E26: =F26+G26 -> 167 | F26: 84 | G26: 83 | H26: =I26+J26 -> 162 | I26: 74 | J26: 88 | K26: =L26+M26 -> 143 | L26: 73 | M26: 70 | N26: =O26+P26 -> 155 | O26: 79 | P26: 76 | Q26: =R26+S26 -> 145 | R26: 79 | S26: 66 | T26: =U26+V26 -> 218 | U26: 101 | V26: 117 | W26: =X26+Y26 -> 135 | X26: 64 | Y26: 71 | Z26: =AA26+AB26 -> 143 | AA26: 61 | AB26: 82 | AC26: =AD26+AE26 -> 155 | AD26: 77 | AE26: 78 | AF26: =AG26+AH26 -> 140 | AG26: 75 | AH26: 65 | AI26: =AJ26+AK26 -> 129 | AJ26: 68 | AK26: 61 | AL26: =AM26+AN26 -> 89 | AM26: 51 | AN26: 38 | AO26: =AP26+AQ26 -> 82 | AP26: 38 | AQ26: 44 | AR26: =AS26+AT26 -> 78 | AS26: 48 | AT26: 30 | AU26: =AV26+AW26 -> 84 | AV26: 42 | AW26: 42 | AX26: =AY26+AZ26 -> 62 | AY26: 37 | AZ26: 25 | BA26: =BB26+BC26 -> 181 | BB26: 94 | BC26: 87 | BD26: =BE26+BF26 -> 191 | BE26: 98 | BF26: 93 | BG26: =BH26+BI26 -> 149 | BH26: 79 | BI26: 70 | BJ26: =BK26+BL26 -> 46 | BK26: 20 | BL26: 26 | BM26: =BN26+BO26 -> 114 | BN26: 63 | BO26: 51 | BP26: =BQ26+BR26 -> 121 | BQ26: 68 | BR26: 53 | BS26: =BT26+BU26 -> 95 | BT26: 41 | BU26: 54 | BV26: =BW26+BX26 -> 211 | BW26: 97 | BX26: 114 | BY26: =BZ26+CA26 -> 129 | BZ26: 64 | CA26: 65 | CB26: =CC26+CD26 -> 358 | CC26: 193 | CD26: 165 | CE26: =CF26+CG26 -> 134 | CF26: 70 | CG26: 64 | CH26: =CI26+CJ26 -> 137 | CI26: 72 | CJ26: 65 | CK26: =CL26+CM26 -> 184 | CL26: 92 | CM26: 92 | CN26: =CO26+CP26 -> 118 | CO26: 71 | CP26: 47 | CQ26: =CR26+CS26 -> 104 | CR26: 48 | CS26: 56 | CT26: =CU26+CV26 -> 144 | CU26: 74 | CV26: 70 | CW26: =CX26+CY26 -> 94 | CX26: 53 | CY26: 41 | CZ26: =DA26+DB26 -> 77 | DA26: 37 | DB26: 40
A27: 16 | B27: =C27+D27 -> 4831 | C27: =F27+I27+L27+O27+R27+U27+X27+AA27+AD27+AG27+AJ27+AM27+AP27+AS27+AV27+AY27+BB27+BE27+BH27+BK27+BN27+BQ27+BT27+BW27+BZ27+CC27+CF27+CI27+CL27+CO27+CR27+CU27+CX27+DA27 -> 2437 | D27: =G27+J27+M27+P27+S27+V27+Y27+AB27+AE27+AH27+AK27+AN27+AQ27+AT27+AW27+AZ27+BC27+BF27+BI27+BL27+BO27+BR27+BU27+BX27+CA27+CD27+CG27+CJ27+CM27+CP27+CS27+CV27+CY27+DB27 -> 2394 | E27: =F27+G27 -> 172 | F27: 97 | G27: 75 | H27: =I27+J27 -> 187 | I27: 96 | J27: 91 | K27: =L27+M27 -> 116 | L27: 67 | M27: 49 | N27: =O27+P27 -> 151 | O27: 80 | P27: 71 | Q27: =R27+S27 -> 173 | R27: 91 | S27: 82 | T27: =U27+V27 -> 210 | U27: 93 | V27: 117 | W27: =X27+Y27 -> 128 | X27: 72 | Y27: 56 | Z27: =AA27+AB27 -> 160 | AA27: 81 | AB27: 79 | AC27: =AD27+AE27 -> 159 | AD27: 79 | AE27: 80 | AF27: =AG27+AH27 -> 146 | AG27: 69 | AH27: 77 | AI27: =AJ27+AK27 -> 115 | AJ27: 60 | AK27: 55 | AL27: =AM27+AN27 -> 112 | AM27: 56 | AN27: 56 | AO27: =AP27+AQ27 -> 90 | AP27: 41 | AQ27: 49 | AR27: =AS27+AT27 -> 76 | AS27: 35 | AT27: 41 | AU27: =AV27+AW27 -> 103 | AV27: 55 | AW27: 48 | AX27: =AY27+AZ27 -> 87 | AY27: 39 | AZ27: 48 | BA27: =BB27+BC27 -> 141 | BB27: 75 | BC27: 66 | BD27: =BE27+BF27 -> 205 | BE27: 105 | BF27: 100 | BG27: =BH27+BI27 -> 146 | BH27: 62 | BI27: 84 | BJ27: =BK27+BL27 -> 49 | BK27: 24 | BL27: 25 | BM27: =BN27+BO27 -> 128 | BN27: 57 | BO27: 71 | BP27: =BQ27+BR27 -> 143 | BQ27: 65 | BR27: 78 | BS27: =BT27+BU27 -> 111 | BT27: 60 | BU27: 51 | BV27: =BW27+BX27 -> 243 | BW27: 114 | BX27: 129 | BY27: =BZ27+CA27 -> 138 | BZ27: 66 | CA27: 72 | CB27: =CC27+CD27 -> 341 | CC27: 168 | CD27: 173 | CE27: =CF27+CG27 -> 109 | CF27: 56 | CG27: 53 | CH27: =CI27+CJ27 -> 102 | CI27: 64 | CJ27: 38 | CK27: =CL27+CM27 -> 159 | CL27: 80 | CM27: 79 | CN27: =CO27+CP27 -> 133 | CO27: 74 | CP27: 59 | CQ27: =CR27+CS27 -> 126 | CR27: 59 | CS27: 67 | CT27: =CU27+CV27 -> 163 | CU27: 82 | CV27: 81 | CW27: =CX27+CY27 -> 119 | CX27: 66 | CY27: 53 | CZ27: =DA27+DB27 -> 90 | DA27: 49 | DB27: 41
A28: 17 | B28: =C28+D28 -> 4255 | C28: =F28+I28+L28+O28+R28+U28+X28+AA28+AD28+AG28+AJ28+AM28+AP28+AS28+AV28+AY28+BB28+BE28+BH28+BK28+BN28+BQ28+BT28+BW28+BZ28+CC28+CF28+CI28+CL28+CO28+CR28+CU28+CX28+DA28 -> 2117 | D28: =G28+J28+M28+P28+S28+V28+Y28+AB28+AE28+AH28+AK28+AN28+AQ28+AT28+AW28+AZ28+BC28+BF28+BI28+BL28+BO28+BR28+BU28+BX28+CA28+CD28+CG28+CJ28+CM28+CP28+CS28+CV28+CY28+DB28 -> 2138 | E28: =F28+G28 -> 143 | F28: 75 | G28: 68 | H28: =I28+J28 -> 155 | I28: 66 | J28: 89 | K28: =L28+M28 -> 121 | L28: 64 | M28: 57 | N28: =O28+P28 -> 140 | O28: 81 | P28: 59 | Q28: =R28+S28 -> 154 | R28: 77 | S28: 77 | T28: =U28+V28 -> 170 | U28: 76 | V28: 94 | W28: =X28+Y28 -> 122 | X28: 65 | Y28: 57 | Z28: =AA28+AB28 -> 152 | AA28: 73 | AB28: 79 | AC28: =AD28+AE28 -> 117 | AD28: 60 | AE28: 57 | AF28: =AG28+AH28 -> 117 | AG28: 53 | AH28: 64 | AI28: =AJ28+AK28 -> 87 | AJ28: 50 | AK28: 37 | AL28: =AM28+AN28 -> 99 | AM28: 49 | AN28: 50 | AO28: =AP28+AQ28 -> 79 | AP28: 41 | AQ28: 38 | AR28: =AS28+AT28 -> 66 | AS28: 28 | AT28: 38 | AU28: =AV28+AW28 -> 88 | AV28: 50 | AW28: 38 | AX28: =AY28+AZ28 -> 88 | AY28: 50 | AZ28: 38 | BA28: =BB28+BC28 -> 144 | BB28: 73 | BC28: 71 | BD28: =BE28+BF28 -> 179 | BE28: 96 | BF28: 83 | BG28: =BH28+BI28 -> 127 | BH28: 62 | BI28: 65 | BJ28: =BK28+BL28 -> 47 | BK28: 20 | BL28: 27 | BM28: =BN28+BO28 -> 125 | BN28: 57 | BO28: 68 | BP28: =BQ28+BR28 -> 117 | BQ28: 59 | BR28: 58 | BS28: =BT28+BU28 -> 118 | BT28: 65 | BU28: 53 | BV28: =BW28+BX28 -> 207 | BW28: 101 | BX28: 106 | BY28: =BZ28+CA28 -> 102 | BZ28: 50 | CA28: 52 | CB28: =CC28+CD28 -> 296 | CC28: 168 | CD28: 128 | CE28: =CF28+CG28 -> 129 | CF28: 69 | CG28: 60 | CH28: =CI28+CJ28 -> 105 | CI28: 44 | CJ28: 61 | CK28: =CL28+CM28 -> 157 | CL28: 76 | CM28: 81 | CN28: =CO28+CP28 -> 96 | CO28: 44 | CP28: 52 | CQ28: =CR28+CS28 -> 105 | CR28: 48 | CS28: 57 | CT28: =CU28+CV28 -> 123 | CU28: 50 | CV28: 73 | CW28: =CX28+CY28 -> 94 | CX28: 44 | CY28: 50 | CZ28: =DA28+DB28 -> 86 | DA28: 33 | DB28: 53
A29: 18 | B29: =C29+D29 -> 3328 | C29: =F29+I29+L29+O29+R29+U29+X29+AA29+AD29+AG29+AJ29+AM29+AP29+AS29+AV29+AY29+BB29+BE29+BH29+BK29+BN29+BQ29+BT29+BW29+BZ29+CC29+CF29+CI29+CL29+CO29+CR29+CU29+CX29+DA29 -> 1634 | D29: =G29+J29+M29+P29+S29+V29+Y29+AB29+AE29+AH29+AK29+AN29+AQ29+AT29+AW29+AZ29+BC29+BF29+BI29+BL29+BO29+BR29+BU29+BX29+CA29+CD29+CG29+CJ29+CM29+CP29+CS29+CV29+CY29+DB29 -> 1694 | E29: =F29+G29 -> 126 | F29: 63 | G29: 63 | H29: =I29+J29 -> 114 | I29: 56 | J29: 58 | K29: =L29+M29 -> 90 | L29: 37 | M29: 53 | N29: =O29+P29 -> 117 | O29: 52 | P29: 65 | Q29: =R29+S29 -> 115 | R29: 60 | S29: 55 | T29: =U29+V29 -> 171 | U29: 85 | V29: 86 | W29: =X29+Y29 -> 81 | X29: 44 | Y29: 37 | Z29: =AA29+AB29 -> 120 | AA29: 59 | AB29: 61 | AC29: =AD29+AE29 -> 98 | AD29: 57 | AE29: 41 | AF29: =AG29+AH29 -> 105 | AG29: 60 | AH29: 45 | AI29: =AJ29+AK29 -> 102 | AJ29: 45 | AK29: 57 | AL29: =AM29+AN29 -> 64 | AM29: 33 | AN29: 31 | AO29: =AP29+AQ29 -> 80 | AP29: 28 | AQ29: 52 | AR29: =AS29+AT29 -> 63 | AS29: 32 | AT29: 31 | AU29: =AV29+AW29 -> 91 | AV29: 47 | AW29: 44 | AX29: =AY29+AZ29 -> 72 | AY29: 36 | AZ29: 36 | BA29: =BB29+BC29 -> 94 | BB29: 45 | BC29: 49 | BD29: =BE29+BF29 -> 130 | BE29: 57 | BF29: 73 | BG29: =BH29+BI29 -> 118 | BH29: 57 | BI29: 61 | BJ29: =BK29+BL29 -> 32 | BK29: 19 | BL29: 13 | BM29: =BN29+BO29 -> 77 | BN29: 32 | BO29: 45 | BP29: =BQ29+BR29 -> 102 | BQ29: 47 | BR29: 55 | BS29: =BT29+BU29 -> 88 | BT29: 52 | BU29: 36 | BV29: =BW29+BX29 -> 141 | BW29: 69 | BX29: 72 | BY29: =BZ29+CA29 -> 84 | BZ29: 39 | CA29: 45 | CB29: =CC29+CD29 -> 213 | CC29: 102 | CD29: 111 | CE29: =CF29+CG29 -> 78 | CF29: 35 | CG29: 43 | CH29: =CI29+CJ29 -> 79 | CI29: 41 | CJ29: 38 | CK29: =CL29+CM29 -> 99 | CL29: 47 | CM29: 52 | CN29: =CO29+CP29 -> 75 | CO29: 42 | CP29: 33 | CQ29: =CR29+CS29 -> 63 | CR29: 31 | CS29: 32 | CT29: =CU29+CV29 -> 108 | CU29: 56 | CV29: 52 | CW29: =CX29+CY29 -> 85 | CX29: 47 | CY29: 38 | CZ29: =DA29+DB29 -> 53 | DA29: 22 | DB29: 31
A30: 19 | B30: =C30+D30 -> 2331 | C30: =F30+I30+L30+O30+R30+U30+X30+AA30+AD30+AG30+AJ30+AM30+AP30+AS30+AV30+AY30+BB30+BE30+BH30+BK30+BN30+BQ30+BT30+BW30+BZ30+CC30+CF30+CI30+CL30+CO30+CR30+CU30+CX30+DA30 -> 1194 | D30: =G30+J30+M30+P30+S30+V30+Y30+AB30+AE30+AH30+AK30+AN30+AQ30+AT30+AW30+AZ30+BC30+BF30+BI30+BL30+BO30+BR30+BU30+BX30+CA30+CD30+CG30+CJ30+CM30+CP30+CS30+CV30+CY30+DB30 -> 1137 | E30: =F30+G30 -> 102 | F30: 54 | G30: 48 | H30: =I30+J30 -> 89 | I30: 41 | J30: 48 | K30: =L30+M30 -> 75 | L30: 46 | M30: 29 | N30: =O30+P30 -> 75 | O30: 37 | P30: 38 | Q30: =R30+S30 -> 66 | R30: 34 | S30: 32 | T30: =U30+V30 -> 95 | U30: 48 | V30: 47 | W30: =X30+Y30 -> 71 | X30: 35 | Y30: 36 | Z30: =AA30+AB30 -> 79 | AA30: 44 | AB30: 35 | AC30: =AD30+AE30 -> 78 | AD30: 39 | AE30: 39 | AF30: =AG30+AH30 -> 76 | AG30: 43 | AH30: 33 | AI30: =AJ30+AK30 -> 66 | AJ30: 37 | AK30: 29 | AL30: =AM30+AN30 -> 58 | AM30: 28 | AN30: 30 | AO30: =AP30+AQ30 -> 32 | AP30: 14 | AQ30: 18 | AR30: =AS30+AT30 -> 42 | AS30: 24 | AT30: 18 | AU30: =AV30+AW30 -> 43 | AV30: 18 | AW30: 25 | AX30: =AY30+AZ30 -> 36 | AY30: 21 | AZ30: 15 | BA30: =BB30+BC30 -> 73 | BB30: 45 | BC30: 28 | BD30: =BE30+BF30 -> 97 | BE30: 48 | BF30: 49 | BG30: =BH30+BI30 -> 54 | BH30: 27 | BI30: 27 | BJ30: =BK30+BL30 -> 35 | BK30: 21 | BL30: 14 | BM30: =BN30+BO30 -> 75 | BN30: 37 | BO30: 38 | BP30: =BQ30+BR30 -> 76 | BQ30: 37 | BR30: 39 | BS30: =BT30+BU30 -> 72 | BT30: 37 | BU30: 35 | BV30: =BW30+BX30 -> 102 | BW30: 48 | BX30: 54 | BY30: =BZ30+CA30 -> 50 | BZ30: 29 | CA30: 21 | CB30: =CC30+CD30 -> 124 | CC30: 63 | CD30: 61 | CE30: =CF30+CG30 -> 50 | CF30: 33 | CG30: 17 | CH30: =CI30+CJ30 -> 56 | CI30: 25 | CJ30: 31 | CK30: =CL30+CM30 -> 106 | CL30: 52 | CM30: 54 | CN30: =CO30+CP30 -> 46 | CO30: 19 | CP30: 27 | CQ30: =CR30+CS30 -> 52 | CR30: 24 | CS30: 28 | CT30: =CU30+CV30 -> 57 | CU30: 22 | CV30: 35 | CW30: =CX30+CY30 -> 63 | CX30: 33 | CY30: 30 | CZ30: =DA30+DB30 -> 60 | DA30: 31 | DB30: 29
A31: 20-24 | B31: =C31+D31 -> 11286 | C31: =F31+I31+L31+O31+R31+U31+X31+AA31+AD31+AG31+AJ31+AM31+AP31+AS31+AV31+AY31+BB31+BE31+BH31+BK31+BN31+BQ31+BT31+BW31+BZ31+CC31+CF31+CI31+CL31+CO31+CR31+CU31+CX31+DA31 -> 5523 | D31: =G31+J31+M31+P31+S31+V31+Y31+AB31+AE31+AH31+AK31+AN31+AQ31+AT31+AW31+AZ31+BC31+BF31+BI31+BL31+BO31+BR31+BU31+BX31+CA31+CD31+CG31+CJ31+CM31+CP31+CS31+CV31+CY31+DB31 -> 5763 | E31: =F31+G31 -> 399 | F31: 198 | G31: 201 | H31: =I31+J31 -> 458 | I31: 241 | J31: 217 | K31: =L31+M31 -> 322 | L31: 147 | M31: 175 | N31: =O31+P31 -> 313 | O31: 158 | P31: 155 | Q31: =R31+S31 -> 315 | R31: 165 | S31: 150 | T31: =U31+V31 -> 442 | U31: 249 | V31: 193 | W31: =X31+Y31 -> 320 | X31: 151 | Y31: 169 | Z31: =AA31+AB31 -> 362 | AA31: 150 | AB31: 212 | AC31: =AD31+AE31 -> 417 | AD31: 190 | AE31: 227 | AF31: =AG31+AH31 -> 375 | AG31: 186 | AH31: 189 | AI31: =AJ31+AK31 -> 362 | AJ31: 192 | AK31: 170 | AL31: =AM31+AN31 -> 215 | AM31: 97 | AN31: 118 | AO31: =AP31+AQ31 -> 263 | AP31: 124 | AQ31: 139 | AR31: =AS31+AT31 -> 196 | AS31: 102 | AT31: 94 | AU31: =AV31+AW31 -> 243 | AV31: 132 | AW31: 111 | AX31: =AY31+AZ31 -> 232 | AY31: 125 | AZ31: 107 | BA31: =BB31+BC31 -> 332 | BB31: 172 | BC31: 160 | BD31: =BE31+BF31 -> 413 | BE31: 188 | BF31: 225 | BG31: =BH31+BI31 -> 355 | BH31: 181 | BI31: 174 | BJ31: =BK31+BL31 -> 157 | BK31: 84 | BL31: 73 | BM31: =BN31+BO31 -> 392 | BN31: 189 | BO31: 203 | BP31: =BQ31+BR31 -> 431 | BQ31: 214 | BR31: 217 | BS31: =BT31+BU31 -> 374 | BT31: 199 | BU31: 175 | BV31: =BW31+BX31 -> 529 | BW31: 244 | BX31: 285 | BY31: =BZ31+CA31 -> 327 | BZ31: 156 | CA31: 171 | CB31: =CC31+CD31 -> 493 | CC31: 240 | CD31: 253 | CE31: =CF31+CG31 -> 216 | CF31: 105 | CG31: 111 | CH31: =CI31+CJ31 -> 285 | CI31: 120 | CJ31: 165 | CK31: =CL31+CM31 -> 434 | CL31: 184 | CM31: 250 | CN31: =CO31+CP31 -> 268 | CO31: 125 | CP31: 143 | CQ31: =CR31+CS31 -> 224 | CR31: 107 | CS31: 117 | CT31: =CU31+CV31 -> 325 | CU31: 171 | CV31: 154 | CW31: =CX31+CY31 -> 281 | CX31: 125 | CY31: 156 | CZ31: =DA31+DB31 -> 216 | DA31: 112 | DB31: 104
A32: 20 | B32: =C32+D32 -> 2159 | C32: =F32+I32+L32+O32+R32+U32+X32+AA32+AD32+AG32+AJ32+AM32+AP32+AS32+AV32+AY32+BB32+BE32+BH32+BK32+BN32+BQ32+BT32+BW32+BZ32+CC32+CF32+CI32+CL32+CO32+CR32+CU32+CX32+DA32 -> 1066 | D32: =G32+J32+M32+P32+S32+V32+Y32+AB32+AE32+AH32+AK32+AN32+AQ32+AT32+AW32+AZ32+BC32+BF32+BI32+BL32+BO32+BR32+BU32+BX32+CA32+CD32+CG32+CJ32+CM32+CP32+CS32+CV32+CY32+DB32 -> 1093 | E32: =F32+G32 -> 70 | F32: 32 | G32: 38 | H32: =I32+J32 -> 91 | I32: 53 | J32: 38 | K32: =L32+M32 -> 69 | L32: 32 | M32: 37 | N32: =O32+P32 -> 59 | O32: 33 | P32: 26 | Q32: =R32+S32 -> 67 | R32: 32 | S32: 35 | T32: =U32+V32 -> 86 | U32: 52 | V32: 34 | W32: =X32+Y32 -> 52 | X32: 22 | Y32: 30 | Z32: =AA32+AB32 -> 74 | AA32: 32 | AB32: 42 | AC32: =AD32+AE32 -> 81 | AD32: 38 | AE32: 43 | AF32: =AG32+AH32 -> 62 | AG32: 31 | AH32: 31 | AI32: =AJ32+AK32 -> 63 | AJ32: 32 | AK32: 31 | AL32: =AM32+AN32 -> 45 | AM32: 15 | AN32: 30 | AO32: =AP32+AQ32 -> 55 | AP32: 24 | AQ32: 31 | AR32: =AS32+AT32 -> 35 | AS32: 20 | AT32: 15 | AU32: =AV32+AW32 -> 42 | AV32: 28 | AW32: 14 | AX32: =AY32+AZ32 -> 47 | AY32: 20 | AZ32: 27 | BA32: =BB32+BC32 -> 70 | BB32: 35 | BC32: 35 | BD32: =BE32+BF32 -> 81 | BE32: 42 | BF32: 39 | BG32: =BH32+BI32 -> 83 | BH32: 48 | BI32: 35 | BJ32: =BK32+BL32 -> 25 | BK32: 10 | BL32: 15 | BM32: =BN32+BO32 -> 85 | BN32: 38 | BO32: 47 | BP32: =BQ32+BR32 -> 92 | BQ32: 47 | BR32: 45 | BS32: =BT32+BU32 -> 62 | BT32: 23 | BU32: 39 | BV32: =BW32+BX32 -> 84 | BW32: 47 | BX32: 37 | BY32: =BZ32+CA32 -> 71 | BZ32: 33 | CA32: 38 | CB32: =CC32+CD32 -> 103 | CC32: 49 | CD32: 54 | CE32: =CF32+CG32 -> 38 | CF32: 20 | CG32: 18 | CH32: =CI32+CJ32 -> 46 | CI32: 18 | CJ32: 28 | CK32: =CL32+CM32 -> 78 | CL32: 39 | CM32: 39 | CN32: =CO32+CP32 -> 58 | CO32: 33 | CP32: 25 | CQ32: =CR32+CS32 -> 38 | CR32: 22 | CS32: 16 | CT32: =CU32+CV32 -> 55 | CU32: 27 | CV32: 28 | CW32: =CX32+CY32 -> 53 | CX32: 19 | CY32: 34 | CZ32: =DA32+DB32 -> 39 | DA32: 20 | DB32: 19
A33: 21 | B33: =C33+D33 -> 2126 | C33: =F33+I33+L33+O33+R33+U33+X33+AA33+AD33+AG33+AJ33+AM33+AP33+AS33+AV33+AY33+BB33+BE33+BH33+BK33+BN33+BQ33+BT33+BW33+BZ33+CC33+CF33+CI33+CL33+CO33+CR33+CU33+CX33+DA33 -> 1063 | D33: =G33+J33+M33+P33+S33+V33+Y33+AB33+AE33+AH33+AK33+AN33+AQ33+AT33+AW33+AZ33+BC33+BF33+BI33+BL33+BO33+BR33+BU33+BX33+CA33+CD33+CG33+CJ33+CM33+CP33+CS33+CV33+CY33+DB33 -> 1063 | E33: =F33+G33 -> 71 | F33: 39 | G33: 32 | H33: =I33+J33 -> 66 | I33: 37 | J33: 29 | K33: =L33+M33 -> 63 | L33: 24 | M33: 39 | N33: =O33+P33 -> 57 | O33: 32 | P33: 25 | Q33: =R33+S33 -> 56 | R33: 28 | S33: 28 | T33: =U33+V33 -> 62 | U33: 36 | V33: 26 | W33: =X33+Y33 -> 55 | X33: 26 | Y33: 29 | Z33: =AA33+AB33 -> 72 | AA33: 25 | AB33: 47 | AC33: =AD33+AE33 -> 69 | AD33: 34 | AE33: 35 | AF33: =AG33+AH33 -> 88 | AG33: 38 | AH33: 50 | AI33: =AJ33+AK33 -> 86 | AJ33: 47 | AK33: 39 | AL33: =AM33+AN33 -> 57 | AM33: 28 | AN33: 29 | AO33: =AP33+AQ33 -> 52 | AP33: 26 | AQ33: 26 | AR33: =AS33+AT33 -> 43 | AS33: 20 | AT33: 23 | AU33: =AV33+AW33 -> 52 | AV33: 28 | AW33: 24 | AX33: =AY33+AZ33 -> 35 | AY33: 13 | AZ33: 22 | BA33: =BB33+BC33 -> 77 | BB33: 42 | BC33: 35 | BD33: =BE33+BF33 -> 84 | BE33: 43 | BF33: 41 | BG33: =BH33+BI33 -> 56 | BH33: 25 | BI33: 31 | BJ33: =BK33+BL33 -> 32 | BK33: 22 | BL33: 10 | BM33: =BN33+BO33 -> 68 | BN33: 40 | BO33: 28 | BP33: =BQ33+BR33 -> 81 | BQ33: 47 | BR33: 34 | BS33: =BT33+BU33 -> 63 | BT33: 31 | BU33: 32 | BV33: =BW33+BX33 -> 92 | BW33: 44 | BX33: 48 | BY33: =BZ33+CA33 -> 51 | BZ33: 29 | CA33: 22 | CB33: =CC33+CD33 -> 110 | CC33: 51 | CD33: 59 | CE33: =CF33+CG33 -> 56 | CF33: 35 | CG33: 21 | CH33: =CI33+CJ33 -> 44 | CI33: 21 | CJ33: 23 | CK33: =CL33+CM33 -> 83 | CL33: 33 | CM33: 50 | CN33: =CO33+CP33 -> 39 | CO33: 19 | CP33: 20 | CQ33: =CR33+CS33 -> 48 | CR33: 17 | CS33: 31 | CT33: =CU33+CV33 -> 59 | CU33: 28 | CV33: 31 | CW33: =CX33+CY33 -> 51 | CX33: 26 | CY33: 25 | CZ33: =DA33+DB33 -> 48 | DA33: 29 | DB33: 19
A34: 22 | B34: =C34+D34 -> 2328 | C34: =F34+I34+L34+O34+R34+U34+X34+AA34+AD34+AG34+AJ34+AM34+AP34+AS34+AV34+AY34+BB34+BE34+BH34+BK34+BN34+BQ34+BT34+BW34+BZ34+CC34+CF34+CI34+CL34+CO34+CR34+CU34+CX34+DA34 -> 1140 | D34: =G34+J34+M34+P34+S34+V34+Y34+AB34+AE34+AH34+AK34+AN34+AQ34+AT34+AW34+AZ34+BC34+BF34+BI34+BL34+BO34+BR34+BU34+BX34+CA34+CD34+CG34+CJ34+CM34+CP34+CS34+CV34+CY34+DB34 -> 1188 | E34: =F34+G34 -> 74 | F34: 37 | G34: 37 | H34: =I34+J34 -> 101 | I34: 52 | J34: 49 | K34: =L34+M34 -> 58 | L34: 33 | M34: 25 | N34: =O34+P34 -> 65 | O34: 32 | P34: 33 | Q34: =R34+S34 -> 60 | R34: 30 | S34: 30 | T34: =U34+V34 -> 96 | U34: 51 | V34: 45 | W34: =X34+Y34 -> 60 | X34: 27 | Y34: 33 | Z34: =AA34+AB34 -> 73 | AA34: 36 | AB34: 37 | AC34: =AD34+AE34 -> 84 | AD34: 36 | AE34: 48 | AF34: =AG34+AH34 -> 84 | AG34: 48 | AH34: 36 | AI34: =AJ34+AK34 -> 71 | AJ34: 36 | AK34: 35 | AL34: =AM34+AN34 -> 44 | AM34: 22 | AN34: 22 | AO34: =AP34+AQ34 -> 57 | AP34: 25 | AQ34: 32 | AR34: =AS34+AT34 -> 39 | AS34: 22 | AT34: 17 | AU34: =AV34+AW34 -> 53 | AV34: 28 | AW34: 25 | AX34: =AY34+AZ34 -> 53 | AY34: 30 | AZ34: 23 | BA34: =BB34+BC34 -> 72 | BB34: 41 | BC34: 31 | BD34: =BE34+BF34 -> 93 | BE34: 34 | BF34: 59 | BG34: =BH34+BI34 -> 77 | BH34: 40 | BI34: 37 | BJ34: =BK34+BL34 -> 32 | BK34: 20 | BL34: 12 | BM34: =BN34+BO34 -> 82 | BN34: 38 | BO34: 44 | BP34: =BQ34+BR34 -> 94 | BQ34: 43 | BR34: 51 | BS34: =BT34+BU34 -> 81 | BT34: 50 | BU34: 31 | BV34: =BW34+BX34 -> 116 | BW34: 59 | BX34: 57 | BY34: =BZ34+CA34 -> 73 | BZ34: 29 | CA34: 44 | CB34: =CC34+CD34 -> 90 | CC34: 42 | CD34: 48 | CE34: =CF34+CG34 -> 46 | CF34: 20 | CG34: 26 | CH34: =CI34+CJ34 -> 47 | CI34: 19 | CJ34: 28 | CK34: =CL34+CM34 -> 84 | CL34: 29 | CM34: 55 | CN34: =CO34+CP34 -> 51 | CO34: 20 | CP34: 31 | CQ34: =CR34+CS34 -> 51 | CR34: 24 | CS34: 27 | CT34: =CU34+CV34 -> 67 | CU34: 38 | CV34: 29 | CW34: =CX34+CY34 -> 49 | CX34: 24 | CY34: 25 | CZ34: =DA34+DB34 -> 51 | DA34: 25 | DB34: 26
A35: 23 | B35: =C35+D35 -> 2237 | C35: =F35+I35+L35+O35+R35+U35+X35+AA35+AD35+AG35+AJ35+AM35+AP35+AS35+AV35+AY35+BB35+BE35+BH35+BK35+BN35+BQ35+BT35+BW35+BZ35+CC35+CF35+CI35+CL35+CO35+CR35+CU35+CX35+DA35 -> 1083 | D35: =G35+J35+M35+P35+S35+V35+Y35+AB35+AE35+AH35+AK35+AN35+AQ35+AT35+AW35+AZ35+BC35+BF35+BI35+BL35+BO35+BR35+BU35+BX35+CA35+CD35+CG35+CJ35+CM35+CP35+CS35+CV35+CY35+DB35 -> 1154 | E35: =F35+G35 -> 87 | F35: 46 | G35: 41 | H35: =I35+J35 -> 94 | I35: 53 | J35: 41 | K35: =L35+M35 -> 63 | L35: 26 | M35: 37 | N35: =O35+P35 -> 65 | O35: 28 | P35: 37 | Q35: =R35+S35 -> 66 | R35: 37 | S35: 29 | T35: =U35+V35 -> 96 | U35: 46 | V35: 50 | W35: =X35+Y35 -> 69 | X35: 35 | Y35: 34 | Z35: =AA35+AB35 -> 70 | AA35: 30 | AB35: 40 | AC35: =AD35+AE35 -> 88 | AD35: 40 | AE35: 48 | AF35: =AG35+AH35 -> 62 | AG35: 32 | AH35: 30 | AI35: =AJ35+AK35 -> 55 | AJ35: 26 | AK35: 29 | AL35: =AM35+AN35 -> 33 | AM35: 15 | AN35: 18 | AO35: =AP35+AQ35 -> 48 | AP35: 26 | AQ35: 22 | AR35: =AS35+AT35 -> 42 | AS35: 20 | AT35: 22 | AU35: =AV35+AW35 -> 38 | AV35: 15 | AW35: 23 | AX35: =AY35+AZ35 -> 51 | AY35: 32 | AZ35: 19 | BA35: =BB35+BC35 -> 55 | BB35: 28 | BC35: 27 | BD35: =BE35+BF35 -> 81 | BE35: 39 | BF35: 42 | BG35: =BH35+BI35 -> 73 | BH35: 39 | BI35: 34 | BJ35: =BK35+BL35 -> 35 | BK35: 14 | BL35: 21 | BM35: =BN35+BO35 -> 86 | BN35: 36 | BO35: 50 | BP35: =BQ35+BR35 -> 93 | BQ35: 43 | BR35: 50 | BS35: =BT35+BU35 -> 70 | BT35: 42 | BU35: 28 | BV35: =BW35+BX35 -> 113 | BW35: 44 | BX35: 69 | BY35: =BZ35+CA35 -> 52 | BZ35: 26 | CA35: 26 | CB35: =CC35+CD35 -> 98 | CC35: 51 | CD35: 47 | CE35: =CF35+CG35 -> 36 | CF35: 16 | CG35: 20 | CH35: =CI35+CJ35 -> 66 | CI35: 23 | CJ35: 43 | CK35: =CL35+CM35 -> 90 | CL35: 38 | CM35: 52 | CN35: =CO35+CP35 -> 58 | CO35: 28 | CP35: 30 | CQ35: =CR35+CS35 -> 34 | CR35: 20 | CS35: 14 | CT35: =CU35+CV35 -> 71 | CU35: 35 | CV35: 36 | CW35: =CX35+CY35 -> 58 | CX35: 31 | CY35: 27 | CZ35: =DA35+DB35 -> 41 | DA35: 23 | DB35: 18
A36: 24 | B36: =C36+D36 -> 2436 | C36: =F36+I36+L36+O36+R36+U36+X36+AA36+AD36+AG36+AJ36+AM36+AP36+AS36+AV36+AY36+BB36+BE36+BH36+BK36+BN36+BQ36+BT36+BW36+BZ36+CC36+CF36+CI36+CL36+CO36+CR36+CU36+CX36+DA36 -> 1171 | D36: =G36+J36+M36+P36+S36+V36+Y36+AB36+AE36+AH36+AK36+AN36+AQ36+AT36+AW36+AZ36+BC36+BF36+BI36+BL36+BO36+BR36+BU36+BX36+CA36+CD36+CG36+CJ36+CM36+CP36+CS36+CV36+CY36+DB36 -> 1265 | E36: =F36+G36 -> 97 | F36: 44 | G36: 53 | H36: =I36+J36 -> 106 | I36: 46 | J36: 60 | K36: =L36+M36 -> 69 | L36: 32 | M36: 37 | N36: =O36+P36 -> 67 | O36: 33 | P36: 34 | Q36: =R36+S36 -> 66 | R36: 38 | S36: 28 | T36: =U36+V36 -> 102 | U36: 64 | V36: 38 | W36: =X36+Y36 -> 84 | X36: 41 | Y36: 43 | Z36: =AA36+AB36 -> 73 | AA36: 27 | AB36: 46 | AC36: =AD36+AE36 -> 95 | AD36: 42 | AE36: 53 | AF36: =AG36+AH36 -> 79 | AG36: 37 | AH36: 42 | AI36: =AJ36+AK36 -> 87 | AJ36: 51 | AK36: 36 | AL36: =AM36+AN36 -> 36 | AM36: 17 | AN36: 19 | AO36: =AP36+AQ36 -> 51 | AP36: 23 | AQ36: 28 | AR36: =AS36+AT36 -> 37 | AS36: 20 | AT36: 17 | AU36: =AV36+AW36 -> 58 | AV36: 33 | AW36: 25 | AX36: =AY36+AZ36 -> 46 | AY36: 30 | AZ36: 16 | BA36: =BB36+BC36 -> 58 | BB36: 26 | BC36: 32 | BD36: =BE36+BF36 -> 74 | BE36: 30 | BF36: 44 | BG36: =BH36+BI36 -> 66 | BH36: 29 | BI36: 37 | BJ36: =BK36+BL36 -> 33 | BK36: 18 | BL36: 15 | BM36: =BN36+BO36 -> 71 | BN36: 37 | BO36: 34 | BP36: =BQ36+BR36 -> 71 | BQ36: 34 | BR36: 37 | BS36: =BT36+BU36 -> 98 | BT36: 53 | BU36: 45 | BV36: =BW36+BX36 -> 124 | BW36: 50 | BX36: 74 | BY36: =BZ36+CA36 -> 80 | BZ36: 39 | CA36: 41 | CB36: =CC36+CD36 -> 92 | CC36: 47 | CD36: 45 | CE36: =CF36+CG36 -> 40 | CF36: 14 | CG36: 26 | CH36: =CI36+CJ36 -> 82 | CI36: 39 | CJ36: 43 | CK36: =CL36+CM36 -> 99 | CL36: 45 | CM36: 54 | CN36: =CO36+CP36 -> 62 | CO36: 25 | CP36: 37 | CQ36: =CR36+CS36 -> 53 | CR36: 24 | CS36: 29 | CT36: =CU36+CV36 -> 73 | CU36: 43 | CV36: 30 | CW36: =CX36+CY36 -> 70 | CX36: 25 | CY36: 45 | CZ36: =DA36+DB36 -> 37 | DA36: 15 | DB36: 22
A37: 25-29 | B37: =C37+D37 -> 14233 | C37: =F37+I37+L37+O37+R37+U37+X37+AA37+AD37+AG37+AJ37+AM37+AP37+AS37+AV37+AY37+BB37+BE37+BH37+BK37+BN37+BQ37+BT37+BW37+BZ37+CC37+CF37+CI37+CL37+CO37+CR37+CU37+CX37+DA37 -> 6706 | D37: =G37+J37+M37+P37+S37+V37+Y37+AB37+AE37+AH37+AK37+AN37+AQ37+AT37+AW37+AZ37+BC37+BF37+BI37+BL37+BO37+BR37+BU37+BX37+CA37+CD37+CG37+CJ37+CM37+CP37+CS37+CV37+CY37+DB37 -> 7527 | E37: =F37+G37 -> 429 | F37: 207 | G37: 222 | H37: =I37+J37 -> 555 | I37: 265 | J37: 290 | K37: =L37+M37 -> 418 | L37: 197 | M37: 221 | N37: =O37+P37 -> 370 | O37: 171 | P37: 199 | Q37: =R37+S37 -> 439 | R37: 211 | S37: 228 | T37: =U37+V37 -> 521 | U37: 240 | V37: 281 | W37: =X37+Y37 -> 344 | X37: 163 | Y37: 181 | Z37: =AA37+AB37 -> 434 | AA37: 198 | AB37: 236 | AC37: =AD37+AE37 -> 608 | AD37: 283 | AE37: 325 | AF37: =AG37+AH37 -> 447 | AG37: 210 | AH37: 237 | AI37: =AJ37+AK37 -> 401 | AJ37: 209 | AK37: 192 | AL37: =AM37+AN37 -> 276 | AM37: 140 | AN37: 136 | AO37: =AP37+AQ37 -> 264 | AP37: 128 | AQ37: 136 | AR37: =AS37+AT37 -> 204 | AS37: 110 | AT37: 94 | AU37: =AV37+AW37 -> 254 | AV37: 119 | AW37: 135 | AX37: =AY37+AZ37 -> 281 | AY37: 146 | AZ37: 135 | BA37: =BB37+BC37 -> 382 | BB37: 178 | BC37: 204 | BD37: =BE37+BF37 -> 452 | BE37: 209 | BF37: 243 | BG37: =BH37+BI37 -> 376 | BH37: 183 | BI37: 193 | BJ37: =BK37+BL37 -> 234 | BK37: 119 | BL37: 115 | BM37: =BN37+BO37 -> 464 | BN37: 220 | BO37: 244 | BP37: =BQ37+BR37 -> 457 | BQ37: 247 | BR37: 210 | BS37: =BT37+BU37 -> 431 | BT37: 233 | BU37: 198 | BV37: =BW37+BX37 -> 1148 | BW37: 487 | BX37: 661 | BY37: =BZ37+CA37 -> 494 | BZ37: 214 | CA37: 280 | CB37: =CC37+CD37 -> 713 | CC37: 314 | CD37: 399 | CE37: =CF37+CG37 -> 269 | CF37: 127 | CG37: 142 | CH37: =CI37+CJ37 -> 398 | CI37: 183 | CJ37: 215 | CK37: =CL37+CM37 -> 549 | CL37: 238 | CM37: 311 | CN37: =CO37+CP37 -> 280 | CO37: 125 | CP37: 155 | CQ37: =CR37+CS37 -> 346 | CR37: 165 | CS37: 181 | CT37: =CU37+CV37 -> 381 | CU37: 173 | CV37: 208 | CW37: =CX37+CY37 -> 383 | CX37: 180 | CY37: 203 | CZ37: =DA37+DB37 -> 231 | DA37: 114 | DB37: 117
A38: 25 | B38: =C38+D38 -> 2677 | C38: =F38+I38+L38+O38+R38+U38+X38+AA38+AD38+AG38+AJ38+AM38+AP38+AS38+AV38+AY38+BB38+BE38+BH38+BK38+BN38+BQ38+BT38+BW38+BZ38+CC38+CF38+CI38+CL38+CO38+CR38+CU38+CX38+DA38 -> 1267 | D38: =G38+J38+M38+P38+S38+V38+Y38+AB38+AE38+AH38+AK38+AN38+AQ38+AT38+AW38+AZ38+BC38+BF38+BI38+BL38+BO38+BR38+BU38+BX38+CA38+CD38+CG38+CJ38+CM38+CP38+CS38+CV38+CY38+DB38 -> 1410 | E38: =F38+G38 -> 91 | F38: 39 | G38: 52 | H38: =I38+J38 -> 110 | I38: 55 | J38: 55 | K38: =L38+M38 -> 91 | L38: 37 | M38: 54 | N38: =O38+P38 -> 70 | O38: 30 | P38: 40 | Q38: =R38+S38 -> 83 | R38: 44 | S38: 39 | T38: =U38+V38 -> 88 | U38: 45 | V38: 43 | W38: =X38+Y38 -> 77 | X38: 41 | Y38: 36 | Z38: =AA38+AB38 -> 83 | AA38: 38 | AB38: 45 | AC38: =AD38+AE38 -> 132 | AD38: 59 | AE38: 73 | AF38: =AG38+AH38 -> 83 | AG38: 39 | AH38: 44 | AI38: =AJ38+AK38 -> 87 | AJ38: 48 | AK38: 39 | AL38: =AM38+AN38 -> 60 | AM38: 28 | AN38: 32 | AO38: =AP38+AQ38 -> 59 | AP38: 28 | AQ38: 31 | AR38: =AS38+AT38 -> 30 | AS38: 18 | AT38: 12 | AU38: =AV38+AW38 -> 51 | AV38: 23 | AW38: 28 | AX38: =AY38+AZ38 -> 63 | AY38: 30 | AZ38: 33 | BA38: =BB38+BC38 -> 70 | BB38: 30 | BC38: 40 | BD38: =BE38+BF38 -> 87 | BE38: 41 | BF38: 46 | BG38: =BH38+BI38 -> 65 | BH38: 28 | BI38: 37 | BJ38: =BK38+BL38 -> 45 | BK38: 25 | BL38: 20 | BM38: =BN38+BO38 -> 77 | BN38: 33 | BO38: 44 | BP38: =BQ38+BR38 -> 88 | BQ38: 52 | BR38: 36 | BS38: =BT38+BU38 -> 98 | BT38: 55 | BU38: 43 | BV38: =BW38+BX38 -> 168 | BW38: 67 | BX38: 101 | BY38: =BZ38+CA38 -> 101 | BZ38: 53 | CA38: 48 | CB38: =CC38+CD38 -> 105 | CC38: 42 | CD38: 63 | CE38: =CF38+CG38 -> 55 | CF38: 27 | CG38: 28 | CH38: =CI38+CJ38 -> 86 | CI38: 42 | CJ38: 44 | CK38: =CL38+CM38 -> 103 | CL38: 40 | CM38: 63 | CN38: =CO38+CP38 -> 49 | CO38: 26 | CP38: 23 | CQ38: =CR38+CS38 -> 48 | CR38: 25 | CS38: 23 | CT38: =CU38+CV38 -> 63 | CU38: 25 | CV38: 38 | CW38: =CX38+CY38 -> 64 | CX38: 32 | CY38: 32 | CZ38: =DA38+DB38 -> 47 | DA38: 22 | DB38: 25
A39: 26 | B39: =C39+D39 -> 2818 | C39: =F39+I39+L39+O39+R39+U39+X39+AA39+AD39+AG39+AJ39+AM39+AP39+AS39+AV39+AY39+BB39+BE39+BH39+BK39+BN39+BQ39+BT39+BW39+BZ39+CC39+CF39+CI39+CL39+CO39+CR39+CU39+CX39+DA39 -> 1360 | D39: =G39+J39+M39+P39+S39+V39+Y39+AB39+AE39+AH39+AK39+AN39+AQ39+AT39+AW39+AZ39+BC39+BF39+BI39+BL39+BO39+BR39+BU39+BX39+CA39+CD39+CG39+CJ39+CM39+CP39+CS39+CV39+CY39+DB39 -> 1458 | E39: =F39+G39 -> 82 | F39: 40 | G39: 42 | H39: =I39+J39 -> 121 | I39: 58 | J39: 63 | K39: =L39+M39 -> 98 | L39: 46 | M39: 52 | N39: =O39+P39 -> 78 | O39: 37 | P39: 41 | Q39: =R39+S39 -> 85 | R39: 47 | S39: 38 | T39: =U39+V39 -> 95 | U39: 45 | V39: 50 | W39: =X39+Y39 -> 71 | X39: 31 | Y39: 40 | Z39: =AA39+AB39 -> 76 | AA39: 35 | AB39: 41 | AC39: =AD39+AE39 -> 114 | AD39: 67 | AE39: 47 | AF39: =AG39+AH39 -> 88 | AG39: 37 | AH39: 51 | AI39: =AJ39+AK39 -> 84 | AJ39: 45 | AK39: 39 | AL39: =AM39+AN39 -> 57 | AM39: 35 | AN39: 22 | AO39: =AP39+AQ39 -> 50 | AP39: 19 | AQ39: 31 | AR39: =AS39+AT39 -> 54 | AS39: 34 | AT39: 20 | AU39: =AV39+AW39 -> 51 | AV39: 21 | AW39: 30 | AX39: =AY39+AZ39 -> 61 | AY39: 30 | AZ39: 31 | BA39: =BB39+BC39 -> 88 | BB39: 52 | BC39: 36 | BD39: =BE39+BF39 -> 91 | BE39: 37 | BF39: 54 | BG39: =BH39+BI39 -> 79 | BH39: 48 | BI39: 31 | BJ39: =BK39+BL39 -> 38 | BK39: 19 | BL39: 19 | BM39: =BN39+BO39 -> 90 | BN39: 49 | BO39: 41 | BP39: =BQ39+BR39 -> 91 | BQ39: 34 | BR39: 57 | BS39: =BT39+BU39 -> 89 | BT39: 52 | BU39: 37 | BV39: =BW39+BX39 -> 202 | BW39: 81 | BX39: 121 | BY39: =BZ39+CA39 -> 110 | BZ39: 46 | CA39: 64 | CB39: =CC39+CD39 -> 122 | CC39: 57 | CD39: 65 | CE39: =CF39+CG39 -> 50 | CF39: 26 | CG39: 24 | CH39: =CI39+CJ39 -> 80 | CI39: 37 | CJ39: 43 | CK39: =CL39+CM39 -> 104 | CL39: 52 | CM39: 52 | CN39: =CO39+CP39 -> 63 | CO39: 29 | CP39: 34 | CQ39: =CR39+CS39 -> 69 | CR39: 33 | CS39: 36 | CT39: =CU39+CV39 -> 73 | CU39: 37 | CV39: 36 | CW39: =CX39+CY39 -> 70 | CX39: 28 | CY39: 42 | CZ39: =DA39+DB39 -> 44 | DA39: 16 | DB39: 28
A40: 27 | B40: =C40+D40 -> 2800 | C40: =F40+I40+L40+O40+R40+U40+X40+AA40+AD40+AG40+AJ40+AM40+AP40+AS40+AV40+AY40+BB40+BE40+BH40+BK40+BN40+BQ40+BT40+BW40+BZ40+CC40+CF40+CI40+CL40+CO40+CR40+CU40+CX40+DA40 -> 1320 | D40: =G40+J40+M40+P40+S40+V40+Y40+AB40+AE40+AH40+AK40+AN40+AQ40+AT40+AW40+AZ40+BC40+BF40+BI40+BL40+BO40+BR40+BU40+BX40+CA40+CD40+CG40+CJ40+CM40+CP40+CS40+CV40+CY40+DB40 -> 1480 | E40: =F40+G40 -> 86 | F40: 48 | G40: 38 | H40: =I40+J40 -> 115 | I40: 54 | J40: 61 | K40: =L40+M40 -> 72 | L40: 33 | M40: 39 | N40: =O40+P40 -> 75 | O40: 38 | P40: 37 | Q40: =R40+S40 -> 93 | R40: 47 | S40: 46 | T40: =U40+V40 -> 122 | U40: 53 | V40: 69 | W40: =X40+Y40 -> 67 | X40: 36 | Y40: 31 | Z40: =AA40+AB40 -> 87 | AA40: 40 | AB40: 47 | AC40: =AD40+AE40 -> 96 | AD40: 40 | AE40: 56 | AF40: =AG40+AH40 -> 92 | AG40: 40 | AH40: 52 | AI40: =AJ40+AK40 -> 87 | AJ40: 49 | AK40: 38 | AL40: =AM40+AN40 -> 52 | AM40: 22 | AN40: 30 | AO40: =AP40+AQ40 -> 47 | AP40: 25 | AQ40: 22 | AR40: =AS40+AT40 -> 34 | AS40: 14 | AT40: 20 | AU40: =AV40+AW40 -> 53 | AV40: 29 | AW40: 24 | AX40: =AY40+AZ40 -> 40 | AY40: 22 | AZ40: 18 | BA40: =BB40+BC40 -> 80 | BB40: 38 | BC40: 42 | BD40: =BE40+BF40 -> 83 | BE40: 35 | BF40: 48 | BG40: =BH40+BI40 -> 73 | BH40: 32 | BI40: 41 | BJ40: =BK40+BL40 -> 47 | BK40: 24 | BL40: 23 | BM40: =BN40+BO40 -> 93 | BN40: 41 | BO40: 52 | BP40: =BQ40+BR40 -> 100 | BQ40: 55 | BR40: 45 | BS40: =BT40+BU40 -> 88 | BT40: 44 | BU40: 44 | BV40: =BW40+BX40 -> 225 | BW40: 97 | BX40: 128 | BY40: =BZ40+CA40 -> 84 | BZ40: 33 | CA40: 51 | CB40: =CC40+CD40 -> 140 | CC40: 62 | CD40: 78 | CE40: =CF40+CG40 -> 38 | CF40: 18 | CG40: 20 | CH40: =CI40+CJ40 -> 75 | CI40: 34 | CJ40: 41 | CK40: =CL40+CM40 -> 113 | CL40: 45 | CM40: 68 | CN40: =CO40+CP40 -> 60 | CO40: 24 | CP40: 36 | CQ40: =CR40+CS40 -> 76 | CR40: 45 | CS40: 31 | CT40: =CU40+CV40 -> 77 | CU40: 34 | CV40: 43 | CW40: =CX40+CY40 -> 84 | CX40: 44 | CY40: 40 | CZ40: =DA40+DB40 -> 46 | DA40: 25 | DB40: 21
A41: 28 | B41: =C41+D41 -> 2829 | C41: =F41+I41+L41+O41+R41+U41+X41+AA41+AD41+AG41+AJ41+AM41+AP41+AS41+AV41+AY41+BB41+BE41+BH41+BK41+BN41+BQ41+BT41+BW41+BZ41+CC41+CF41+CI41+CL41+CO41+CR41+CU41+CX41+DA41 -> 1332 | D41: =G41+J41+M41+P41+S41+V41+Y41+AB41+AE41+AH41+AK41+AN41+AQ41+AT41+AW41+AZ41+BC41+BF41+BI41+BL41+BO41+BR41+BU41+BX41+CA41+CD41+CG41+CJ41+CM41+CP41+CS41+CV41+CY41+DB41 -> 1497 | E41: =F41+G41 -> 85 | F41: 44 | G41: 41 | H41: =I41+J41 -> 101 | I41: 57 | J41: 44 | K41: =L41+M41 -> 73 | L41: 38 | M41: 35 | N41: =O41+P41 -> 77 | O41: 31 | P41: 46 | Q41: =R41+S41 -> 82 | R41: 37 | S41: 45 | T41: =U41+V41 -> 87 | U41: 36 | V41: 51 | W41: =X41+Y41 -> 71 | X41: 28 | Y41: 43 | Z41: =AA41+AB41 -> 87 | AA41: 45 | AB41: 42 | AC41: =AD41+AE41 -> 140 | AD41: 63 | AE41: 77 | AF41: =AG41+AH41 -> 85 | AG41: 46 | AH41: 39 | AI41: =AJ41+AK41 -> 69 | AJ41: 31 | AK41: 38 | AL41: =AM41+AN41 -> 41 | AM41: 25 | AN41: 16 | AO41: =AP41+AQ41 -> 52 | AP41: 29 | AQ41: 23 | AR41: =AS41+AT41 -> 45 | AS41: 23 | AT41: 22 | AU41: =AV41+AW41 -> 47 | AV41: 23 | AW41: 24 | AX41: =AY41+AZ41 -> 61 | AY41: 33 | AZ41: 28 | BA41: =BB41+BC41 -> 59 | BB41: 26 | BC41: 33 | BD41: =BE41+BF41 -> 89 | BE41: 42 | BF41: 47 | BG41: =BH41+BI41 -> 80 | BH41: 41 | BI41: 39 | BJ41: =BK41+BL41 -> 46 | BK41: 21 | BL41: 25 | BM41: =BN41+BO41 -> 96 | BN41: 47 | BO41: 49 | BP41: =BQ41+BR41 -> 98 | BQ41: 57 | BR41: 41 | BS41: =BT41+BU41 -> 83 | BT41: 44 | BU41: 39 | BV41: =BW41+BX41 -> 269 | BW41: 116 | BX41: 153 | BY41: =BZ41+CA41 -> 88 | BZ41: 31 | CA41: 57 | CB41: =CC41+CD41 -> 160 | CC41: 71 | CD41: 89 | CE41: =CF41+CG41 -> 69 | CF41: 32 | CG41: 37 | CH41: =CI41+CJ41 -> 75 | CI41: 36 | CJ41: 39 | CK41: =CL41+CM41 -> 105 | CL41: 50 | CM41: 55 | CN41: =CO41+CP41 -> 51 | CO41: 17 | CP41: 34 | CQ41: =CR41+CS41 -> 73 | CR41: 24 | CS41: 49 | CT41: =CU41+CV41 -> 71 | CU41: 29 | CV41: 42 | CW41: =CX41+CY41 -> 74 | CX41: 35 | CY41: 39 | CZ41: =DA41+DB41 -> 40 | DA41: 24 | DB41: 16
A42: 29 | B42: =C42+D42 -> 3109 | C42: =F42+I42+L42+O42+R42+U42+X42+AA42+AD42+AG42+AJ42+AM42+AP42+AS42+AV42+AY42+BB42+BE42+BH42+BK42+BN42+BQ42+BT42+BW42+BZ42+CC42+CF42+CI42+CL42+CO42+CR42+CU42+CX42+DA42 -> 1427 | D42: =G42+J42+M42+P42+S42+V42+Y42+AB42+AE42+AH42+AK42+AN42+AQ42+AT42+AW42+AZ42+BC42+BF42+BI42+BL42+BO42+BR42+BU42+BX42+CA42+CD42+CG42+CJ42+CM42+CP42+CS42+CV42+CY42+DB42 -> 1682 | E42: =F42+G42 -> 85 | F42: 36 | G42: 49 | H42: =I42+J42 -> 108 | I42: 41 | J42: 67 | K42: =L42+M42 -> 84 | L42: 43 | M42: 41 | N42: =O42+P42 -> 70 | O42: 35 | P42: 35 | Q42: =R42+S42 -> 96 | R42: 36 | S42: 60 | T42: =U42+V42 -> 129 | U42: 61 | V42: 68 | W42: =X42+Y42 -> 58 | X42: 27 | Y42: 31 | Z42: =AA42+AB42 -> 101 | AA42: 40 | AB42: 61 | AC42: =AD42+AE42 -> 126 | AD42: 54 | AE42: 72 | AF42: =AG42+AH42 -> 99 | AG42: 48 | AH42: 51 | AI42: =AJ42+AK42 -> 74 | AJ42: 36 | AK42: 38 | AL42: =AM42+AN42 -> 66 | AM42: 30 | AN42: 36 | AO42: =AP42+AQ42 -> 56 | AP42: 27 | AQ42: 29 | AR42: =AS42+AT42 -> 41 | AS42: 21 | AT42: 20 | AU42: =AV42+AW42 -> 52 | AV42: 23 | AW42: 29 | AX42: =AY42+AZ42 -> 56 | AY42: 31 | AZ42: 25 | BA42: =BB42+BC42 -> 85 | BB42: 32 | BC42: 53 | BD42: =BE42+BF42 -> 102 | BE42: 54 | BF42: 48 | BG42: =BH42+BI42 -> 79 | BH42: 34 | BI42: 45 | BJ42: =BK42+BL42 -> 58 | BK42: 30 | BL42: 28 | BM42: =BN42+BO42 -> 108 | BN42: 50 | BO42: 58 | BP42: =BQ42+BR42 -> 80 | BQ42: 49 | BR42: 31 | BS42: =BT42+BU42 -> 73 | BT42: 38 | BU42: 35 | BV42: =BW42+BX42 -> 284 | BW42: 126 | BX42: 158 | BY42: =BZ42+CA42 -> 111 | BZ42: 51 | CA42: 60 | CB42: =CC42+CD42 -> 186 | CC42: 82 | CD42: 104 | CE42: =CF42+CG42 -> 57 | CF42: 24 | CG42: 33 | CH42: =CI42+CJ42 -> 82 | CI42: 34 | CJ42: 48 | CK42: =CL42+CM42 -> 124 | CL42: 51 | CM42: 73 | CN42: =CO42+CP42 -> 57 | CO42: 29 | CP42: 28 | CQ42: =CR42+CS42 -> 80 | CR42: 38 | CS42: 42 | CT42: =CU42+CV42 -> 97 | CU42: 48 | CV42: 49 | CW42: =CX42+CY42 -> 91 | CX42: 41 | CY42: 50 | CZ42: =DA42+DB42 -> 54 | DA42: 27 | DB42: 27
A43: 30-34 | B43: =C43+D43 -> 18673 | C43: =F43+I43+L43+O43+R43+U43+X43+AA43+AD43+AG43+AJ43+AM43+AP43+AS43+AV43+AY43+BB43+BE43+BH43+BK43+BN43+BQ43+BT43+BW43+BZ43+CC43+CF43+CI43+CL43+CO43+CR43+CU43+CX43+DA43 -> 8713 | D43: =G43+J43+M43+P43+S43+V43+Y43+AB43+AE43+AH43+AK43+AN43+AQ43+AT43+AW43+AZ43+BC43+BF43+BI43+BL43+BO43+BR43+BU43+BX43+CA43+CD43+CG43+CJ43+CM43+CP43+CS43+CV43+CY43+DB43 -> 9960 | E43: =F43+G43 -> 631 | F43: 288 | G43: 343 | H43: =I43+J43 -> 716 | I43: 334 | J43: 382 | K43: =L43+M43 -> 550 | L43: 263 | M43: 287 | N43: =O43+P43 -> 432 | O43: 193 | P43: 239 | Q43: =R43+S43 -> 529 | R43: 248 | S43: 281 | T43: =U43+V43 -> 678 | U43: 323 | V43: 355 | W43: =X43+Y43 -> 495 | X43: 226 | Y43: 269 | Z43: =AA43+AB43 -> 513 | AA43: 215 | AB43: 298 | AC43: =AD43+AE43 -> 671 | AD43: 314 | AE43: 357 | AF43: =AG43+AH43 -> 588 | AG43: 285 | AH43: 303 | AI43: =AJ43+AK43 -> 490 | AJ43: 243 | AK43: 247 | AL43: =AM43+AN43 -> 358 | AM43: 171 | AN43: 187 | AO43: =AP43+AQ43 -> 322 | AP43: 143 | AQ43: 179 | AR43: =AS43+AT43 -> 269 | AS43: 131 | AT43: 138 | AU43: =AV43+AW43 -> 302 | AV43: 131 | AW43: 171 | AX43: =AY43+AZ43 -> 323 | AY43: 173 | AZ43: 150 | BA43: =BB43+BC43 -> 518 | BB43: 234 | BC43: 284 | BD43: =BE43+BF43 -> 660 | BE43: 311 | BF43: 349 | BG43: =BH43+BI43 -> 530 | BH43: 249 | BI43: 281 | BJ43: =BK43+BL43 -> 261 | BK43: 121 | BL43: 140 | BM43: =BN43+BO43 -> 525 | BN43: 267 | BO43: 258 | BP43: =BQ43+BR43 -> 463 | BQ43: 251 | BR43: 212 | BS43: =BT43+BU43 -> 441 | BT43: 232 | BU43: 209 | BV43: =BW43+BX43 -> 1582 | BW43: 753 | BX43: 829 | BY43: =BZ43+CA43 -> 619 | BZ43: 288 | CA43: 331 | CB43: =CC43+CD43 -> 1341 | CC43: 564 | CD43: 777 | CE43: =CF43+CG43 -> 425 | CF43: 164 | CG43: 261 | CH43: =CI43+CJ43 -> 539 | CI43: 261 | CJ43: 278 | CK43: =CL43+CM43 -> 693 | CL43: 319 | CM43: 374 | CN43: =CO43+CP43 -> 418 | CO43: 209 | CP43: 209 | CQ43: =CR43+CS43 -> 547 | CR43: 233 | CS43: 314 | CT43: =CU43+CV43 -> 471 | CU43: 217 | CV43: 254 | CW43: =CX43+CY43 -> 500 | CX43: 233 | CY43: 267 | CZ43: =DA43+DB43 -> 273 | DA43: 126 | DB43: 147
A44: 30 | B44: =C44+D44 -> 3343 | C44: =F44+I44+L44+O44+R44+U44+X44+AA44+AD44+AG44+AJ44+AM44+AP44+AS44+AV44+AY44+BB44+BE44+BH44+BK44+BN44+BQ44+BT44+BW44+BZ44+CC44+CF44+CI44+CL44+CO44+CR44+CU44+CX44+DA44 -> 1605 | D44: =G44+J44+M44+P44+S44+V44+Y44+AB44+AE44+AH44+AK44+AN44+AQ44+AT44+AW44+AZ44+BC44+BF44+BI44+BL44+BO44+BR44+BU44+BX44+CA44+CD44+CG44+CJ44+CM44+CP44+CS44+CV44+CY44+DB44 -> 1738 | E44: =F44+G44 -> 122 | F44: 58 | G44: 64 | H44: =I44+J44 -> 125 | I44: 56 | J44: 69 | K44: =L44+M44 -> 120 | L44: 59 | M44: 61 | N44: =O44+P44 -> 86 | O44: 36 | P44: 50 | Q44: =R44+S44 -> 105 | R44: 51 | S44: 54 | T44: =U44+V44 -> 113 | U44: 65 | V44: 48 | W44: =X44+Y44 -> 88 | X44: 40 | Y44: 48 | Z44: =AA44+AB44 -> 90 | AA44: 39 | AB44: 51 | AC44: =AD44+AE44 -> 135 | AD44: 62 | AE44: 73 | AF44: =AG44+AH44 -> 117 | AG44: 58 | AH44: 59 | AI44: =AJ44+AK44 -> 73 | AJ44: 33 | AK44: 40 | AL44: =AM44+AN44 -> 64 | AM44: 30 | AN44: 34 | AO44: =AP44+AQ44 -> 67 | AP44: 30 | AQ44: 37 | AR44: =AS44+AT44 -> 57 | AS44: 35 | AT44: 22 | AU44: =AV44+AW44 -> 57 | AV44: 18 | AW44: 39 | AX44: =AY44+AZ44 -> 55 | AY44: 35 | AZ44: 20 | BA44: =BB44+BC44 -> 88 | BB44: 45 | BC44: 43 | BD44: =BE44+BF44 -> 100 | BE44: 43 | BF44: 57 | BG44: =BH44+BI44 -> 101 | BH44: 50 | BI44: 51 | BJ44: =BK44+BL44 -> 45 | BK44: 13 | BL44: 32 | BM44: =BN44+BO44 -> 104 | BN44: 59 | BO44: 45 | BP44: =BQ44+BR44 -> 86 | BQ44: 50 | BR44: 36 | BS44: =BT44+BU44 -> 93 | BT44: 50 | BU44: 43 | BV44: =BW44+BX44 -> 285 | BW44: 126 | BX44: 159 | BY44: =BZ44+CA44 -> 113 | BZ44: 57 | CA44: 56 | CB44: =CC44+CD44 -> 189 | CC44: 83 | CD44: 106 | CE44: =CF44+CG44 -> 53 | CF44: 23 | CG44: 30 | CH44: =CI44+CJ44 -> 101 | CI44: 50 | CJ44: 51 | CK44: =CL44+CM44 -> 106 | CL44: 47 | CM44: 59 | CN44: =CO44+CP44 -> 80 | CO44: 44 | CP44: 36 | CQ44: =CR44+CS44 -> 98 | CR44: 48 | CS44: 50 | CT44: =CU44+CV44 -> 82 | CU44: 45 | CV44: 37 | CW44: =CX44+CY44 -> 98 | CX44: 39 | CY44: 59 | CZ44: =DA44+DB44 -> 47 | DA44: 28 | DB44: 19
A45: 31 | B45: =C45+D45 -> 3352 | C45: =F45+I45+L45+O45+R45+U45+X45+AA45+AD45+AG45+AJ45+AM45+AP45+AS45+AV45+AY45+BB45+BE45+BH45+BK45+BN45+BQ45+BT45+BW45+BZ45+CC45+CF45+CI45+CL45+CO45+CR45+CU45+CX45+DA45 -> 1540 | D45: =G45+J45+M45+P45+S45+V45+Y45+AB45+AE45+AH45+AK45+AN45+AQ45+AT45+AW45+AZ45+BC45+BF45+BI45+BL45+BO45+BR45+BU45+BX45+CA45+CD45+CG45+CJ45+CM45+CP45+CS45+CV45+CY45+DB45 -> 1812 | E45: =F45+G45 -> 102 | F45: 48 | G45: 54 | H45: =I45+J45 -> 135 | I45: 71 | J45: 64 | K45: =L45+M45 -> 98 | L45: 47 | M45: 51 | N45: =O45+P45 -> 74 | O45: 38 | P45: 36 | Q45: =R45+S45 -> 100 | R45: 54 | S45: 46 | T45: =U45+V45 -> 120 | U45: 53 | V45: 67 | W45: =X45+Y45 -> 75 | X45: 30 | Y45: 45 | Z45: =AA45+AB45 -> 89 | AA45: 38 | AB45: 51 | AC45: =AD45+AE45 -> 118 | AD45: 53 | AE45: 65 | AF45: =AG45+AH45 -> 105 | AG45: 46 | AH45: 59 | AI45: =AJ45+AK45 -> 81 | AJ45: 38 | AK45: 43 | AL45: =AM45+AN45 -> 63 | AM45: 36 | AN45: 27 | AO45: =AP45+AQ45 -> 59 | AP45: 25 | AQ45: 34 | AR45: =AS45+AT45 -> 44 | AS45: 18 | AT45: 26 | AU45: =AV45+AW45 -> 52 | AV45: 26 | AW45: 26 | AX45: =AY45+AZ45 -> 63 | AY45: 33 | AZ45: 30 | BA45: =BB45+BC45 -> 97 | BB45: 38 | BC45: 59 | BD45: =BE45+BF45 -> 107 | BE45: 51 | BF45: 56 | BG45: =BH45+BI45 -> 85 | BH45: 37 | BI45: 48 | BJ45: =BK45+BL45 -> 47 | BK45: 21 | BL45: 26 | BM45: =BN45+BO45 -> 103 | BN45: 52 | BO45: 51 | BP45: =BQ45+BR45 -> 76 | BQ45: 42 | BR45: 34 | BS45: =BT45+BU45 -> 78 | BT45: 39 | BU45: 39 | BV45: =BW45+BX45 -> 314 | BW45: 143 | BX45: 171 | BY45: =BZ45+CA45 -> 118 | BZ45: 49 | CA45: 69 | CB45: =CC45+CD45 -> 223 | CC45: 99 | CD45: 124 | CE45: =CF45+CG45 -> 78 | CF45: 31 | CG45: 47 | CH45: =CI45+CJ45 -> 126 | CI45: 61 | CJ45: 65 | CK45: =CL45+CM45 -> 113 | CL45: 42 | CM45: 71 | CN45: =CO45+CP45 -> 66 | CO45: 35 | CP45: 31 | CQ45: =CR45+CS45 -> 112 | CR45: 39 | CS45: 73 | CT45: =CU45+CV45 -> 88 | CU45: 36 | CV45: 52 | CW45: =CX45+CY45 -> 101 | CX45: 51 | CY45: 50 | CZ45: =DA45+DB45 -> 42 | DA45: 20 | DB45: 22
A46: 32 | B46: =C46+D46 -> 3262 | C46: =F46+I46+L46+O46+R46+U46+X46+AA46+AD46+AG46+AJ46+AM46+AP46+AS46+AV46+AY46+BB46+BE46+BH46+BK46+BN46+BQ46+BT46+BW46+BZ46+CC46+CF46+CI46+CL46+CO46+CR46+CU46+CX46+DA46 -> 1512 | D46: =G46+J46+M46+P46+S46+V46+Y46+AB46+AE46+AH46+AK46+AN46+AQ46+AT46+AW46+AZ46+BC46+BF46+BI46+BL46+BO46+BR46+BU46+BX46+CA46+CD46+CG46+CJ46+CM46+CP46+CS46+CV46+CY46+DB46 -> 1750 | E46: =F46+G46 -> 117 | F46: 49 | G46: 68 | H46: =I46+J46 -> 124 | I46: 55 | J46: 69 | K46: =L46+M46 -> 87 | L46: 43 | M46: 44 | N46: =O46+P46 -> 89 | O46: 43 | P46: 46 | Q46: =R46+S46 -> 76 | R46: 34 | S46: 42 | T46: =U46+V46 -> 126 | U46: 53 | V46: 73 | W46: =X46+Y46 -> 94 | X46: 49 | Y46: 45 | Z46: =AA46+AB46 -> 95 | AA46: 33 | AB46: 62 | AC46: =AD46+AE46 -> 107 | AD46: 48 | AE46: 59 | AF46: =AG46+AH46 -> 105 | AG46: 49 | AH46: 56 | AI46: =AJ46+AK46 -> 89 | AJ46: 57 | AK46: 32 | AL46: =AM46+AN46 -> 45 | AM46: 21 | AN46: 24 | AO46: =AP46+AQ46 -> 49 | AP46: 25 | AQ46: 24 | AR46: =AS46+AT46 -> 50 | AS46: 25 | AT46: 25 | AU46: =AV46+AW46 -> 50 | AV46: 24 | AW46: 26 | AX46: =AY46+AZ46 -> 58 | AY46: 28 | AZ46: 30 | BA46: =BB46+BC46 -> 90 | BB46: 42 | BC46: 48 | BD46: =BE46+BF46 -> 115 | BE46: 58 | BF46: 57 | BG46: =BH46+BI46 -> 97 | BH46: 51 | BI46: 46 | BJ46: =BK46+BL46 -> 51 | BK46: 22 | BL46: 29 | BM46: =BN46+BO46 -> 84 | BN46: 39 | BO46: 45 | BP46: =BQ46+BR46 -> 87 | BQ46: 48 | BR46: 39 | BS46: =BT46+BU46 -> 74 | BT46: 39 | BU46: 35 | BV46: =BW46+BX46 -> 284 | BW46: 140 | BX46: 144 | BY46: =BZ46+CA46 -> 99 | BZ46: 49 | CA46: 50 | CB46: =CC46+CD46 -> 232 | CC46: 87 | CD46: 145 | CE46: =CF46+CG46 -> 80 | CF46: 31 | CG46: 49 | CH46: =CI46+CJ46 -> 77 | CI46: 33 | CJ46: 44 | CK46: =CL46+CM46 -> 146 | CL46: 71 | CM46: 75 | CN46: =CO46+CP46 -> 67 | CO46: 31 | CP46: 36 | CQ46: =CR46+CS46 -> 90 | CR46: 37 | CS46: 53 | CT46: =CU46+CV46 -> 84 | CU46: 36 | CV46: 48 | CW46: =CX46+CY46 -> 91 | CX46: 42 | CY46: 49 | CZ46: =DA46+DB46 -> 53 | DA46: 20 | DB46: 33
A47: 33 | B47: =C47+D47 -> 4177 | C47: =F47+I47+L47+O47+R47+U47+X47+AA47+AD47+AG47+AJ47+AM47+AP47+AS47+AV47+AY47+BB47+BE47+BH47+BK47+BN47+BQ47+BT47+BW47+BZ47+CC47+CF47+CI47+CL47+CO47+CR47+CU47+CX47+DA47 -> 1943 | D47: =G47+J47+M47+P47+S47+V47+Y47+AB47+AE47+AH47+AK47+AN47+AQ47+AT47+AW47+AZ47+BC47+BF47+BI47+BL47+BO47+BR47+BU47+BX47+CA47+CD47+CG47+CJ47+CM47+CP47+CS47+CV47+CY47+DB47 -> 2234 | E47: =F47+G47 -> 138 | F47: 62 | G47: 76 | H47: =I47+J47 -> 163 | I47: 73 | J47: 90 | K47: =L47+M47 -> 122 | L47: 58 | M47: 64 | N47: =O47+P47 -> 81 | O47: 35 | P47: 46 | Q47: =R47+S47 -> 124 | R47: 54 | S47: 70 | T47: =U47+V47 -> 142 | U47: 70 | V47: 72 | W47: =X47+Y47 -> 107 | X47: 47 | Y47: 60 | Z47: =AA47+AB47 -> 120 | AA47: 47 | AB47: 73 | AC47: =AD47+AE47 -> 158 | AD47: 84 | AE47: 74 | AF47: =AG47+AH47 -> 110 | AG47: 54 | AH47: 56 | AI47: =AJ47+AK47 -> 116 | AJ47: 56 | AK47: 60 | AL47: =AM47+AN47 -> 86 | AM47: 35 | AN47: 51 | AO47: =AP47+AQ47 -> 64 | AP47: 29 | AQ47: 35 | AR47: =AS47+AT47 -> 58 | AS47: 23 | AT47: 35 | AU47: =AV47+AW47 -> 67 | AV47: 31 | AW47: 36 | AX47: =AY47+AZ47 -> 72 | AY47: 43 | AZ47: 29 | BA47: =BB47+BC47 -> 126 | BB47: 62 | BC47: 64 | BD47: =BE47+BF47 -> 167 | BE47: 79 | BF47: 88 | BG47: =BH47+BI47 -> 109 | BH47: 51 | BI47: 58 | BJ47: =BK47+BL47 -> 56 | BK47: 32 | BL47: 24 | BM47: =BN47+BO47 -> 122 | BN47: 59 | BO47: 63 | BP47: =BQ47+BR47 -> 107 | BQ47: 52 | BR47: 55 | BS47: =BT47+BU47 -> 109 | BT47: 54 | BU47: 55 | BV47: =BW47+BX47 -> 360 | BW47: 181 | BX47: 179 | BY47: =BZ47+CA47 -> 117 | BZ47: 54 | CA47: 63 | CB47: =CC47+CD47 -> 319 | CC47: 133 | CD47: 186 | CE47: =CF47+CG47 -> 103 | CF47: 36 | CG47: 67 | CH47: =CI47+CJ47 -> 124 | CI47: 61 | CJ47: 63 | CK47: =CL47+CM47 -> 168 | CL47: 76 | CM47: 92 | CN47: =CO47+CP47 -> 95 | CO47: 39 | CP47: 56 | CQ47: =CR47+CS47 -> 114 | CR47: 52 | CS47: 62 | CT47: =CU47+CV47 -> 106 | CU47: 53 | CV47: 53 | CW47: =CX47+CY47 -> 93 | CX47: 48 | CY47: 45 | CZ47: =DA47+DB47 -> 54 | DA47: 20 | DB47: 34
A48: 34 | B48: =C48+D48 -> 4539 | C48: =F48+I48+L48+O48+R48+U48+X48+AA48+AD48+AG48+AJ48+AM48+AP48+AS48+AV48+AY48+BB48+BE48+BH48+BK48+BN48+BQ48+BT48+BW48+BZ48+CC48+CF48+CI48+CL48+CO48+CR48+CU48+CX48+DA48 -> 2113 | D48: =G48+J48+M48+P48+S48+V48+Y48+AB48+AE48+AH48+AK48+AN48+AQ48+AT48+AW48+AZ48+BC48+BF48+BI48+BL48+BO48+BR48+BU48+BX48+CA48+CD48+CG48+CJ48+CM48+CP48+CS48+CV48+CY48+DB48 -> 2426 | E48: =F48+G48 -> 152 | F48: 71 | G48: 81 | H48: =I48+J48 -> 169 | I48: 79 | J48: 90 | K48: =L48+M48 -> 123 | L48: 56 | M48: 67 | N48: =O48+P48 -> 102 | O48: 41 | P48: 61 | Q48: =R48+S48 -> 124 | R48: 55 | S48: 69 | T48: =U48+V48 -> 177 | U48: 82 | V48: 95 | W48: =X48+Y48 -> 131 | X48: 60 | Y48: 71 | Z48: =AA48+AB48 -> 119 | AA48: 58 | AB48: 61 | AC48: =AD48+AE48 -> 153 | AD48: 67 | AE48: 86 | AF48: =AG48+AH48 -> 151 | AG48: 78 | AH48: 73 | AI48: =AJ48+AK48 -> 131 | AJ48: 59 | AK48: 72 | AL48: =AM48+AN48 -> 100 | AM48: 49 | AN48: 51 | AO48: =AP48+AQ48 -> 83 | AP48: 34 | AQ48: 49 | AR48: =AS48+AT48 -> 60 | AS48: 30 | AT48: 30 | AU48: =AV48+AW48 -> 76 | AV48: 32 | AW48: 44 | AX48: =AY48+AZ48 -> 75 | AY48: 34 | AZ48: 41 | BA48: =BB48+BC48 -> 117 | BB48: 47 | BC48: 70 | BD48: =BE48+BF48 -> 171 | BE48: 80 | BF48: 91 | BG48: =BH48+BI48 -> 138 | BH48: 60 | BI48: 78 | BJ48: =BK48+BL48 -> 62 | BK48: 33 | BL48: 29 | BM48: =BN48+BO48 -> 112 | BN48: 58 | BO48: 54 | BP48: =BQ48+BR48 -> 107 | BQ48: 59 | BR48: 48 | BS48: =BT48+BU48 -> 87 | BT48: 50 | BU48: 37 | BV48: =BW48+BX48 -> 339 | BW48: 163 | BX48: 176 | BY48: =BZ48+CA48 -> 172 | BZ48: 79 | CA48: 93 | CB48: =CC48+CD48 -> 378 | CC48: 162 | CD48: 216 | CE48: =CF48+CG48 -> 111 | CF48: 43 | CG48: 68 | CH48: =CI48+CJ48 -> 111 | CI48: 56 | CJ48: 55 | CK48: =CL48+CM48 -> 160 | CL48: 83 | CM48: 77 | CN48: =CO48+CP48 -> 110 | CO48: 60 | CP48: 50 | CQ48: =CR48+CS48 -> 133 | CR48: 57 | CS48: 76 | CT48: =CU48+CV48 -> 111 | CU48: 47 | CV48: 64 | CW48: =CX48+CY48 -> 117 | CX48: 53 | CY48: 64 | CZ48: =DA48+DB48 -> 77 | DA48: 38 | DB48: 39
A49: 35-39 | B49: =C49+D49 -> 24820 | C49: =F49+I49+L49+O49+R49+U49+X49+AA49+AD49+AG49+AJ49+AM49+AP49+AS49+AV49+AY49+BB49+BE49+BH49+BK49+BN49+BQ49+BT49+BW49+BZ49+CC49+CF49+CI49+CL49+CO49+CR49+CU49+CX49+DA49 -> 11862 | D49: =G49+J49+M49+P49+S49+V49+Y49+AB49+AE49+AH49+AK49+AN49+AQ49+AT49+AW49+AZ49+BC49+BF49+BI49+BL49+BO49+BR49+BU49+BX49+CA49+CD49+CG49+CJ49+CM49+CP49+CS49+CV49+CY49+DB49 -> 12958 | E49: =F49+G49 -> 817 | F49: 400 | G49: 417 | H49: =I49+J49 -> 867 | I49: 404 | J49: 463 | K49: =L49+M49 -> 661 | L49: 341 | M49: 320 | N49: =O49+P49 -> 661 | O49: 296 | P49: 365 | Q49: =R49+S49 -> 751 | R49: 342 | S49: 409 | T49: =U49+V49 -> 949 | U49: 431 | V49: 518 | W49: =X49+Y49 -> 640 | X49: 311 | Y49: 329 | Z49: =AA49+AB49 -> 678 | AA49: 316 | AB49: 362 | AC49: =AD49+AE49 -> 858 | AD49: 429 | AE49: 429 | AF49: =AG49+AH49 -> 722 | AG49: 366 | AH49: 356 | AI49: =AJ49+AK49 -> 604 | AJ49: 308 | AK49: 296 | AL49: =AM49+AN49 -> 478 | AM49: 237 | AN49: 241 | AO49: =AP49+AQ49 -> 396 | AP49: 190 | AQ49: 206 | AR49: =AS49+AT49 -> 351 | AS49: 182 | AT49: 169 | AU49: =AV49+AW49 -> 330 | AV49: 140 | AW49: 190 | AX49: =AY49+AZ49 -> 444 | AY49: 236 | AZ49: 208 | BA49: =BB49+BC49 -> 665 | BB49: 298 | BC49: 367 | BD49: =BE49+BF49 -> 1026 | BE49: 450 | BF49: 576 | BG49: =BH49+BI49 -> 674 | BH49: 336 | BI49: 338 | BJ49: =BK49+BL49 -> 293 | BK49: 171 | BL49: 122 | BM49: =BN49+BO49 -> 574 | BN49: 299 | BO49: 275 | BP49: =BQ49+BR49 -> 659 | BQ49: 348 | BR49: 311 | BS49: =BT49+BU49 -> 465 | BT49: 249 | BU49: 216 | BV49: =BW49+BX49 -> 1773 | BW49: 859 | BX49: 914 | BY49: =BZ49+CA49 -> 790 | BZ49: 389 | CA49: 401 | CB49: =CC49+CD49 -> 2408 | CC49: 1130 | CD49: 1278 | CE49: =CF49+CG49 -> 641 | CF49: 251 | CG49: 390 | CH49: =CI49+CJ49 -> 792 | CI49: 363 | CJ49: 429 | CK49: =CL49+CM49 -> 922 | CL49: 416 | CM49: 506 | CN49: =CO49+CP49 -> 561 | CO49: 271 | CP49: 290 | CQ49: =CR49+CS49 -> 674 | CR49: 343 | CS49: 331 | CT49: =CU49+CV49 -> 670 | CU49: 295 | CV49: 375 | CW49: =CX49+CY49 -> 623 | CX49: 284 | CY49: 339 | CZ49: =DA49+DB49 -> 403 | DA49: 181 | DB49: 222
A50: 35 | B50: =C50+D50 -> 5048 | C50: =F50+I50+L50+O50+R50+U50+X50+AA50+AD50+AG50+AJ50+AM50+AP50+AS50+AV50+AY50+BB50+BE50+BH50+BK50+BN50+BQ50+BT50+BW50+BZ50+CC50+CF50+CI50+CL50+CO50+CR50+CU50+CX50+DA50 -> 2397 | D50: =G50+J50+M50+P50+S50+V50+Y50+AB50+AE50+AH50+AK50+AN50+AQ50+AT50+AW50+AZ50+BC50+BF50+BI50+BL50+BO50+BR50+BU50+BX50+CA50+CD50+CG50+CJ50+CM50+CP50+CS50+CV50+CY50+DB50 -> 2651 | E50: =F50+G50 -> 177 | F50: 82 | G50: 95 | H50: =I50+J50 -> 166 | I50: 83 | J50: 83 | K50: =L50+M50 -> 139 | L50: 72 | M50: 67 | N50: =O50+P50 -> 113 | O50: 51 | P50: 62 | Q50: =R50+S50 -> 145 | R50: 76 | S50: 69 | T50: =U50+V50 -> 204 | U50: 90 | V50: 114 | W50: =X50+Y50 -> 112 | X50: 50 | Y50: 62 | Z50: =AA50+AB50 -> 121 | AA50: 59 | AB50: 62 | AC50: =AD50+AE50 -> 192 | AD50: 95 | AE50: 97 | AF50: =AG50+AH50 -> 153 | AG50: 75 | AH50: 78 | AI50: =AJ50+AK50 -> 122 | AJ50: 64 | AK50: 58 | AL50: =AM50+AN50 -> 96 | AM50: 52 | AN50: 44 | AO50: =AP50+AQ50 -> 92 | AP50: 43 | AQ50: 49 | AR50: =AS50+AT50 -> 69 | AS50: 38 | AT50: 31 | AU50: =AV50+AW50 -> 66 | AV50: 23 | AW50: 43 | AX50: =AY50+AZ50 -> 91 | AY50: 53 | AZ50: 38 | BA50: =BB50+BC50 -> 147 | BB50: 66 | BC50: 81 | BD50: =BE50+BF50 -> 183 | BE50: 71 | BF50: 112 | BG50: =BH50+BI50 -> 137 | BH50: 60 | BI50: 77 | BJ50: =BK50+BL50 -> 78 | BK50: 46 | BL50: 32 | BM50: =BN50+BO50 -> 123 | BN50: 62 | BO50: 61 | BP50: =BQ50+BR50 -> 121 | BQ50: 64 | BR50: 57 | BS50: =BT50+BU50 -> 100 | BT50: 53 | BU50: 47 | BV50: =BW50+BX50 -> 430 | BW50: 184 | BX50: 246 | BY50: =BZ50+CA50 -> 156 | BZ50: 91 | CA50: 65 | CB50: =CC50+CD50 -> 410 | CC50: 182 | CD50: 228 | CE50: =CF50+CG50 -> 138 | CF50: 51 | CG50: 87 | CH50: =CI50+CJ50 -> 156 | CI50: 77 | CJ50: 79 | CK50: =CL50+CM50 -> 207 | CL50: 96 | CM50: 111 | CN50: =CO50+CP50 -> 104 | CO50: 55 | CP50: 49 | CQ50: =CR50+CS50 -> 152 | CR50: 74 | CS50: 78 | CT50: =CU50+CV50 -> 126 | CU50: 51 | CV50: 75 | CW50: =CX50+CY50 -> 134 | CX50: 67 | CY50: 67 | CZ50: =DA50+DB50 -> 88 | DA50: 41 | DB50: 47
A51: 36 | B51: =C51+D51 -> 5253 | C51: =F51+I51+L51+O51+R51+U51+X51+AA51+AD51+AG51+AJ51+AM51+AP51+AS51+AV51+AY51+BB51+BE51+BH51+BK51+BN51+BQ51+BT51+BW51+BZ51+CC51+CF51+CI51+CL51+CO51+CR51+CU51+CX51+DA51 -> 2544 | D51: =G51+J51+M51+P51+S51+V51+Y51+AB51+AE51+AH51+AK51+AN51+AQ51+AT51+AW51+AZ51+BC51+BF51+BI51+BL51+BO51+BR51+BU51+BX51+CA51+CD51+CG51+CJ51+CM51+CP51+CS51+CV51+CY51+DB51 -> 2709 | E51: =F51+G51 -> 173 | F51: 97 | G51: 76 | H51: =I51+J51 -> 185 | I51: 82 | J51: 103 | K51: =L51+M51 -> 141 | L51: 72 | M51: 69 | N51: =O51+P51 -> 133 | O51: 64 | P51: 69 | Q51: =R51+S51 -> 153 | R51: 68 | S51: 85 | T51: =U51+V51 -> 192 | U51: 92 | V51: 100 | W51: =X51+Y51 -> 142 | X51: 81 | Y51: 61 | Z51: =AA51+AB51 -> 149 | AA51: 71 | AB51: 78 | AC51: =AD51+AE51 -> 178 | AD51: 92 | AE51: 86 | AF51: =AG51+AH51 -> 147 | AG51: 76 | AH51: 71 | AI51: =AJ51+AK51 -> 135 | AJ51: 73 | AK51: 62 | AL51: =AM51+AN51 -> 94 | AM51: 45 | AN51: 49 | AO51: =AP51+AQ51 -> 93 | AP51: 53 | AQ51: 40 | AR51: =AS51+AT51 -> 69 | AS51: 33 | AT51: 36 | AU51: =AV51+AW51 -> 72 | AV51: 33 | AW51: 39 | AX51: =AY51+AZ51 -> 112 | AY51: 61 | AZ51: 51 | BA51: =BB51+BC51 -> 132 | BB51: 65 | BC51: 67 | BD51: =BE51+BF51 -> 237 | BE51: 104 | BF51: 133 | BG51: =BH51+BI51 -> 140 | BH51: 81 | BI51: 59 | BJ51: =BK51+BL51 -> 50 | BK51: 29 | BL51: 21 | BM51: =BN51+BO51 -> 124 | BN51: 56 | BO51: 68 | BP51: =BQ51+BR51 -> 121 | BQ51: 53 | BR51: 68 | BS51: =BT51+BU51 -> 95 | BT51: 49 | BU51: 46 | BV51: =BW51+BX51 -> 397 | BW51: 196 | BX51: 201 | BY51: =BZ51+CA51 -> 172 | BZ51: 83 | CA51: 89 | CB51: =CC51+CD51 -> 538 | CC51: 259 | CD51: 279 | CE51: =CF51+CG51 -> 119 | CF51: 48 | CG51: 71 | CH51: =CI51+CJ51 -> 179 | CI51: 78 | CJ51: 101 | CK51: =CL51+CM51 -> 205 | CL51: 78 | CM51: 127 | CN51: =CO51+CP51 -> 100 | CO51: 51 | CP51: 49 | CQ51: =CR51+CS51 -> 132 | CR51: 70 | CS51: 62 | CT51: =CU51+CV51 -> 136 | CU51: 64 | CV51: 72 | CW51: =CX51+CY51 -> 126 | CX51: 49 | CY51: 77 | CZ51: =DA51+DB51 -> 82 | DA51: 38 | DB51: 44
A52: 37 | B52: =C52+D52 -> 4939 | C52: =F52+I52+L52+O52+R52+U52+X52+AA52+AD52+AG52+AJ52+AM52+AP52+AS52+AV52+AY52+BB52+BE52+BH52+BK52+BN52+BQ52+BT52+BW52+BZ52+CC52+CF52+CI52+CL52+CO52+CR52+CU52+CX52+DA52 -> 2313 | D52: =G52+J52+M52+P52+S52+V52+Y52+AB52+AE52+AH52+AK52+AN52+AQ52+AT52+AW52+AZ52+BC52+BF52+BI52+BL52+BO52+BR52+BU52+BX52+CA52+CD52+CG52+CJ52+CM52+CP52+CS52+CV52+CY52+DB52 -> 2626 | E52: =F52+G52 -> 166 | F52: 87 | G52: 79 | H52: =I52+J52 -> 162 | I52: 68 | J52: 94 | K52: =L52+M52 -> 137 | L52: 76 | M52: 61 | N52: =O52+P52 -> 147 | O52: 58 | P52: 89 | Q52: =R52+S52 -> 142 | R52: 60 | S52: 82 | T52: =U52+V52 -> 203 | U52: 92 | V52: 111 | W52: =X52+Y52 -> 119 | X52: 51 | Y52: 68 | Z52: =AA52+AB52 -> 135 | AA52: 61 | AB52: 74 | AC52: =AD52+AE52 -> 175 | AD52: 85 | AE52: 90 | AF52: =AG52+AH52 -> 154 | AG52: 88 | AH52: 66 | AI52: =AJ52+AK52 -> 119 | AJ52: 63 | AK52: 56 | AL52: =AM52+AN52 -> 87 | AM52: 44 | AN52: 43 | AO52: =AP52+AQ52 -> 62 | AP52: 26 | AQ52: 36 | AR52: =AS52+AT52 -> 72 | AS52: 30 | AT52: 42 | AU52: =AV52+AW52 -> 60 | AV52: 29 | AW52: 31 | AX52: =AY52+AZ52 -> 82 | AY52: 40 | AZ52: 42 | BA52: =BB52+BC52 -> 123 | BB52: 50 | BC52: 73 | BD52: =BE52+BF52 -> 229 | BE52: 98 | BF52: 131 | BG52: =BH52+BI52 -> 135 | BH52: 60 | BI52: 75 | BJ52: =BK52+BL52 -> 50 | BK52: 30 | BL52: 20 | BM52: =BN52+BO52 -> 115 | BN52: 73 | BO52: 42 | BP52: =BQ52+BR52 -> 151 | BQ52: 84 | BR52: 67 | BS52: =BT52+BU52 -> 86 | BT52: 51 | BU52: 35 | BV52: =BW52+BX52 -> 310 | BW52: 147 | BX52: 163 | BY52: =BZ52+CA52 -> 153 | BZ52: 73 | CA52: 80 | CB52: =CC52+CD52 -> 511 | CC52: 231 | CD52: 280 | CE52: =CF52+CG52 -> 136 | CF52: 54 | CG52: 82 | CH52: =CI52+CJ52 -> 170 | CI52: 78 | CJ52: 92 | CK52: =CL52+CM52 -> 162 | CL52: 71 | CM52: 91 | CN52: =CO52+CP52 -> 117 | CO52: 57 | CP52: 60 | CQ52: =CR52+CS52 -> 123 | CR52: 64 | CS52: 59 | CT52: =CU52+CV52 -> 134 | CU52: 52 | CV52: 82 | CW52: =CX52+CY52 -> 129 | CX52: 55 | CY52: 74 | CZ52: =DA52+DB52 -> 83 | DA52: 27 | DB52: 56
A53: 38 | B53: =C53+D53 -> 4781 | C53: =F53+I53+L53+O53+R53+U53+X53+AA53+AD53+AG53+AJ53+AM53+AP53+AS53+AV53+AY53+BB53+BE53+BH53+BK53+BN53+BQ53+BT53+BW53+BZ53+CC53+CF53+CI53+CL53+CO53+CR53+CU53+CX53+DA53 -> 2296 | D53: =G53+J53+M53+P53+S53+V53+Y53+AB53+AE53+AH53+AK53+AN53+AQ53+AT53+AW53+AZ53+BC53+BF53+BI53+BL53+BO53+BR53+BU53+BX53+CA53+CD53+CG53+CJ53+CM53+CP53+CS53+CV53+CY53+DB53 -> 2485 | E53: =F53+G53 -> 133 | F53: 56 | G53: 77 | H53: =I53+J53 -> 164 | I53: 82 | J53: 82 | K53: =L53+M53 -> 145 | L53: 72 | M53: 73 | N53: =O53+P53 -> 114 | O53: 51 | P53: 63 | Q53: =R53+S53 -> 157 | R53: 67 | S53: 90 | T53: =U53+V53 -> 177 | U53: 78 | V53: 99 | W53: =X53+Y53 -> 127 | X53: 59 | Y53: 68 | Z53: =AA53+AB53 -> 130 | AA53: 56 | AB53: 74 | AC53: =AD53+AE53 -> 158 | AD53: 76 | AE53: 82 | AF53: =AG53+AH53 -> 127 | AG53: 59 | AH53: 68 | AI53: =AJ53+AK53 -> 107 | AJ53: 50 | AK53: 57 | AL53: =AM53+AN53 -> 105 | AM53: 47 | AN53: 58 | AO53: =AP53+AQ53 -> 90 | AP53: 44 | AQ53: 46 | AR53: =AS53+AT53 -> 83 | AS53: 49 | AT53: 34 | AU53: =AV53+AW53 -> 69 | AV53: 25 | AW53: 44 | AX53: =AY53+AZ53 -> 80 | AY53: 43 | AZ53: 37 | BA53: =BB53+BC53 -> 129 | BB53: 59 | BC53: 70 | BD53: =BE53+BF53 -> 187 | BE53: 88 | BF53: 99 | BG53: =BH53+BI53 -> 121 | BH53: 62 | BI53: 59 | BJ53: =BK53+BL53 -> 58 | BK53: 38 | BL53: 20 | BM53: =BN53+BO53 -> 101 | BN53: 54 | BO53: 47 | BP53: =BQ53+BR53 -> 150 | BQ53: 89 | BR53: 61 | BS53: =BT53+BU53 -> 97 | BT53: 51 | BU53: 46 | BV53: =BW53+BX53 -> 309 | BW53: 154 | BX53: 155 | BY53: =BZ53+CA53 -> 166 | BZ53: 75 | CA53: 91 | CB53: =CC53+CD53 -> 485 | CC53: 244 | CD53: 241 | CE53: =CF53+CG53 -> 129 | CF53: 45 | CG53: 84 | CH53: =CI53+CJ53 -> 124 | CI53: 58 | CJ53: 66 | CK53: =CL53+CM53 -> 181 | CL53: 97 | CM53: 84 | CN53: =CO53+CP53 -> 113 | CO53: 43 | CP53: 70 | CQ53: =CR53+CS53 -> 148 | CR53: 73 | CS53: 75 | CT53: =CU53+CV53 -> 132 | CU53: 58 | CV53: 74 | CW53: =CX53+CY53 -> 112 | CX53: 57 | CY53: 55 | CZ53: =DA53+DB53 -> 73 | DA53: 37 | DB53: 36
A54: 39 | B54: =C54+D54 -> 4799 | C54: =F54+I54+L54+O54+R54+U54+X54+AA54+AD54+AG54+AJ54+AM54+AP54+AS54+AV54+AY54+BB54+BE54+BH54+BK54+BN54+BQ54+BT54+BW54+BZ54+CC54+CF54+CI54+CL54+CO54+CR54+CU54+CX54+DA54 -> 2312 | D54: =G54+J54+M54+P54+S54+V54+Y54+AB54+AE54+AH54+AK54+AN54+AQ54+AT54+AW54+AZ54+BC54+BF54+BI54+BL54+BO54+BR54+BU54+BX54+CA54+CD54+CG54+CJ54+CM54+CP54+CS54+CV54+CY54+DB54 -> 2487 | E54: =F54+G54 -> 168 | F54: 78 | G54: 90 | H54: =I54+J54 -> 190 | I54: 89 | J54: 101 | K54: =L54+M54 -> 99 | L54: 49 | M54: 50 | N54: =O54+P54 -> 154 | O54: 72 | P54: 82 | Q54: =R54+S54 -> 154 | R54: 71 | S54: 83 | T54: =U54+V54 -> 173 | U54: 79 | V54: 94 | W54: =X54+Y54 -> 140 | X54: 70 | Y54: 70 | Z54: =AA54+AB54 -> 143 | AA54: 69 | AB54: 74 | AC54: =AD54+AE54 -> 155 | AD54: 81 | AE54: 74 | AF54: =AG54+AH54 -> 141 | AG54: 68 | AH54: 73 | AI54: =AJ54+AK54 -> 121 | AJ54: 58 | AK54: 63 | AL54: =AM54+AN54 -> 96 | AM54: 49 | AN54: 47 | AO54: =AP54+AQ54 -> 59 | AP54: 24 | AQ54: 35 | AR54: =AS54+AT54 -> 58 | AS54: 32 | AT54: 26 | AU54: =AV54+AW54 -> 63 | AV54: 30 | AW54: 33 | AX54: =AY54+AZ54 -> 79 | AY54: 39 | AZ54: 40 | BA54: =BB54+BC54 -> 134 | BB54: 58 | BC54: 76 | BD54: =BE54+BF54 -> 190 | BE54: 89 | BF54: 101 | BG54: =BH54+BI54 -> 141 | BH54: 73 | BI54: 68 | BJ54: =BK54+BL54 -> 57 | BK54: 28 | BL54: 29 | BM54: =BN54+BO54 -> 111 | BN54: 54 | BO54: 57 | BP54: =BQ54+BR54 -> 116 | BQ54: 58 | BR54: 58 | BS54: =BT54+BU54 -> 87 | BT54: 45 | BU54: 42 | BV54: =BW54+BX54 -> 327 | BW54: 178 | BX54: 149 | BY54: =BZ54+CA54 -> 143 | BZ54: 67 | CA54: 76 | CB54: =CC54+CD54 -> 464 | CC54: 214 | CD54: 250 | CE54: =CF54+CG54 -> 119 | CF54: 53 | CG54: 66 | CH54: =CI54+CJ54 -> 163 | CI54: 72 | CJ54: 91 | CK54: =CL54+CM54 -> 167 | CL54: 74 | CM54: 93 | CN54: =CO54+CP54 -> 127 | CO54: 65 | CP54: 62 | CQ54: =CR54+CS54 -> 119 | CR54: 62 | CS54: 57 | CT54: =CU54+CV54 -> 142 | CU54: 70 | CV54: 72 | CW54: =CX54+CY54 -> 122 | CX54: 56 | CY54: 66 | CZ54: =DA54+DB54 -> 77 | DA54: 38 | DB54: 39
A55: 40-44 | B55: =C55+D55 -> 19783 | C55: =F55+I55+L55+O55+R55+U55+X55+AA55+AD55+AG55+AJ55+AM55+AP55+AS55+AV55+AY55+BB55+BE55+BH55+BK55+BN55+BQ55+BT55+BW55+BZ55+CC55+CF55+CI55+CL55+CO55+CR55+CU55+CX55+DA55 -> 9215 | D55: =G55+J55+M55+P55+S55+V55+Y55+AB55+AE55+AH55+AK55+AN55+AQ55+AT55+AW55+AZ55+BC55+BF55+BI55+BL55+BO55+BR55+BU55+BX55+CA55+CD55+CG55+CJ55+CM55+CP55+CS55+CV55+CY55+DB55 -> 10568 | E55: =F55+G55 -> 719 | F55: 322 | G55: 397 | H55: =I55+J55 -> 751 | I55: 354 | J55: 397 | K55: =L55+M55 -> 512 | L55: 259 | M55: 253 | N55: =O55+P55 -> 592 | O55: 261 | P55: 331 | Q55: =R55+S55 -> 631 | R55: 280 | S55: 351 | T55: =U55+V55 -> 818 | U55: 388 | V55: 430 | W55: =X55+Y55 -> 544 | X55: 243 | Y55: 301 | Z55: =AA55+AB55 -> 620 | AA55: 275 | AB55: 345 | AC55: =AD55+AE55 -> 517 | AD55: 252 | AE55: 265 | AF55: =AG55+AH55 -> 524 | AG55: 264 | AH55: 260 | AI55: =AJ55+AK55 -> 438 | AJ55: 216 | AK55: 222 | AL55: =AM55+AN55 -> 444 | AM55: 213 | AN55: 231 | AO55: =AP55+AQ55 -> 373 | AP55: 176 | AQ55: 197 | AR55: =AS55+AT55 -> 283 | AS55: 137 | AT55: 146 | AU55: =AV55+AW55 -> 317 | AV55: 151 | AW55: 166 | AX55: =AY55+AZ55 -> 351 | AY55: 183 | AZ55: 168 | BA55: =BB55+BC55 -> 612 | BB55: 289 | BC55: 323 | BD55: =BE55+BF55 -> 859 | BE55: 384 | BF55: 475 | BG55: =BH55+BI55 -> 575 | BH55: 264 | BI55: 311 | BJ55: =BK55+BL55 -> 209 | BK55: 113 | BL55: 96 | BM55: =BN55+BO55 -> 447 | BN55: 230 | BO55: 217 | BP55: =BQ55+BR55 -> 499 | BQ55: 249 | BR55: 250 | BS55: =BT55+BU55 -> 361 | BT55: 172 | BU55: 189 | BV55: =BW55+BX55 -> 1226 | BW55: 560 | BX55: 666 | BY55: =BZ55+CA55 -> 574 | BZ55: 278 | CA55: 296 | CB55: =CC55+CD55 -> 1722 | CC55: 795 | CD55: 927 | CE55: =CF55+CG55 -> 534 | CF55: 247 | CG55: 287 | CH55: =CI55+CJ55 -> 597 | CI55: 269 | CJ55: 328 | CK55: =CL55+CM55 -> 757 | CL55: 315 | CM55: 442 | CN55: =CO55+CP55 -> 492 | CO55: 228 | CP55: 264 | CQ55: =CR55+CS55 -> 463 | CR55: 214 | CS55: 249 | CT55: =CU55+CV55 -> 573 | CU55: 255 | CV55: 318 | CW55: =CX55+CY55 -> 500 | CX55: 211 | CY55: 289 | CZ55: =DA55+DB55 -> 349 | DA55: 168 | DB55: 181
A56: 40 | B56: =C56+D56 -> 4583 | C56: =F56+I56+L56+O56+R56+U56+X56+AA56+AD56+AG56+AJ56+AM56+AP56+AS56+AV56+AY56+BB56+BE56+BH56+BK56+BN56+BQ56+BT56+BW56+BZ56+CC56+CF56+CI56+CL56+CO56+CR56+CU56+CX56+DA56 -> 2084 | D56: =G56+J56+M56+P56+S56+V56+Y56+AB56+AE56+AH56+AK56+AN56+AQ56+AT56+AW56+AZ56+BC56+BF56+BI56+BL56+BO56+BR56+BU56+BX56+CA56+CD56+CG56+CJ56+CM56+CP56+CS56+CV56+CY56+DB56 -> 2499 | E56: =F56+G56 -> 167 | F56: 72 | G56: 95 | H56: =I56+J56 -> 170 | I56: 85 | J56: 85 | K56: =L56+M56 -> 108 | L56: 48 | M56: 60 | N56: =O56+P56 -> 124 | O56: 48 | P56: 76 | Q56: =R56+S56 -> 150 | R56: 59 | S56: 91 | T56: =U56+V56 -> 181 | U56: 89 | V56: 92 | W56: =X56+Y56 -> 127 | X56: 56 | Y56: 71 | Z56: =AA56+AB56 -> 135 | AA56: 58 | AB56: 77 | AC56: =AD56+AE56 -> 125 | AD56: 57 | AE56: 68 | AF56: =AG56+AH56 -> 135 | AG56: 60 | AH56: 75 | AI56: =AJ56+AK56 -> 106 | AJ56: 47 | AK56: 59 | AL56: =AM56+AN56 -> 93 | AM56: 36 | AN56: 57 | AO56: =AP56+AQ56 -> 69 | AP56: 32 | AQ56: 37 | AR56: =AS56+AT56 -> 60 | AS56: 34 | AT56: 26 | AU56: =AV56+AW56 -> 67 | AV56: 27 | AW56: 40 | AX56: =AY56+AZ56 -> 78 | AY56: 42 | AZ56: 36 | BA56: =BB56+BC56 -> 133 | BB56: 62 | BC56: 71 | BD56: =BE56+BF56 -> 201 | BE56: 97 | BF56: 104 | BG56: =BH56+BI56 -> 123 | BH56: 57 | BI56: 66 | BJ56: =BK56+BL56 -> 41 | BK56: 19 | BL56: 22 | BM56: =BN56+BO56 -> 107 | BN56: 61 | BO56: 46 | BP56: =BQ56+BR56 -> 92 | BQ56: 42 | BR56: 50 | BS56: =BT56+BU56 -> 81 | BT56: 34 | BU56: 47 | BV56: =BW56+BX56 -> 338 | BW56: 161 | BX56: 177 | BY56: =BZ56+CA56 -> 145 | BZ56: 74 | CA56: 71 | CB56: =CC56+CD56 -> 444 | CC56: 201 | CD56: 243 | CE56: =CF56+CG56 -> 132 | CF56: 61 | CG56: 71 | CH56: =CI56+CJ56 -> 153 | CI56: 74 | CJ56: 79 | CK56: =CL56+CM56 -> 162 | CL56: 62 | CM56: 100 | CN56: =CO56+CP56 -> 105 | CO56: 46 | CP56: 59 | CQ56: =CR56+CS56 -> 109 | CR56: 50 | CS56: 59 | CT56: =CU56+CV56 -> 126 | CU56: 56 | CV56: 70 | CW56: =CX56+CY56 -> 119 | CX56: 42 | CY56: 77 | CZ56: =DA56+DB56 -> 77 | DA56: 35 | DB56: 42
A57: 41 | B57: =C57+D57 -> 4199 | C57: =F57+I57+L57+O57+R57+U57+X57+AA57+AD57+AG57+AJ57+AM57+AP57+AS57+AV57+AY57+BB57+BE57+BH57+BK57+BN57+BQ57+BT57+BW57+BZ57+CC57+CF57+CI57+CL57+CO57+CR57+CU57+CX57+DA57 -> 1967 | D57: =G57+J57+M57+P57+S57+V57+Y57+AB57+AE57+AH57+AK57+AN57+AQ57+AT57+AW57+AZ57+BC57+BF57+BI57+BL57+BO57+BR57+BU57+BX57+CA57+CD57+CG57+CJ57+CM57+CP57+CS57+CV57+CY57+DB57 -> 2232 | E57: =F57+G57 -> 140 | F57: 64 | G57: 76 | H57: =I57+J57 -> 160 | I57: 76 | J57: 84 | K57: =L57+M57 -> 111 | L57: 62 | M57: 49 | N57: =O57+P57 -> 135 | O57: 64 | P57: 71 | Q57: =R57+S57 -> 137 | R57: 71 | S57: 66 | T57: =U57+V57 -> 177 | U57: 79 | V57: 98 | W57: =X57+Y57 -> 118 | X57: 60 | Y57: 58 | Z57: =AA57+AB57 -> 116 | AA57: 54 | AB57: 62 | AC57: =AD57+AE57 -> 104 | AD57: 48 | AE57: 56 | AF57: =AG57+AH57 -> 126 | AG57: 68 | AH57: 58 | AI57: =AJ57+AK57 -> 86 | AJ57: 41 | AK57: 45 | AL57: =AM57+AN57 -> 98 | AM57: 43 | AN57: 55 | AO57: =AP57+AQ57 -> 106 | AP57: 55 | AQ57: 51 | AR57: =AS57+AT57 -> 56 | AS57: 21 | AT57: 35 | AU57: =AV57+AW57 -> 53 | AV57: 32 | AW57: 21 | AX57: =AY57+AZ57 -> 75 | AY57: 34 | AZ57: 41 | BA57: =BB57+BC57 -> 133 | BB57: 65 | BC57: 68 | BD57: =BE57+BF57 -> 195 | BE57: 85 | BF57: 110 | BG57: =BH57+BI57 -> 130 | BH57: 55 | BI57: 75 | BJ57: =BK57+BL57 -> 46 | BK57: 23 | BL57: 23 | BM57: =BN57+BO57 -> 87 | BN57: 42 | BO57: 45 | BP57: =BQ57+BR57 -> 111 | BQ57: 49 | BR57: 62 | BS57: =BT57+BU57 -> 68 | BT57: 33 | BU57: 35 | BV57: =BW57+BX57 -> 253 | BW57: 111 | BX57: 142 | BY57: =BZ57+CA57 -> 115 | BZ57: 62 | CA57: 53 | CB57: =CC57+CD57 -> 380 | CC57: 177 | CD57: 203 | CE57: =CF57+CG57 -> 105 | CF57: 50 | CG57: 55 | CH57: =CI57+CJ57 -> 113 | CI57: 48 | CJ57: 65 | CK57: =CL57+CM57 -> 172 | CL57: 72 | CM57: 100 | CN57: =CO57+CP57 -> 106 | CO57: 43 | CP57: 63 | CQ57: =CR57+CS57 -> 97 | CR57: 42 | CS57: 55 | CT57: =CU57+CV57 -> 120 | CU57: 56 | CV57: 64 | CW57: =CX57+CY57 -> 93 | CX57: 49 | CY57: 44 | CZ57: =DA57+DB57 -> 77 | DA57: 33 | DB57: 44
A58: 42 | B58: =C58+D58 -> 3842 | C58: =F58+I58+L58+O58+R58+U58+X58+AA58+AD58+AG58+AJ58+AM58+AP58+AS58+AV58+AY58+BB58+BE58+BH58+BK58+BN58+BQ58+BT58+BW58+BZ58+CC58+CF58+CI58+CL58+CO58+CR58+CU58+CX58+DA58 -> 1805 | D58: =G58+J58+M58+P58+S58+V58+Y58+AB58+AE58+AH58+AK58+AN58+AQ58+AT58+AW58+AZ58+BC58+BF58+BI58+BL58+BO58+BR58+BU58+BX58+CA58+CD58+CG58+CJ58+CM58+CP58+CS58+CV58+CY58+DB58 -> 2037 | E58: =F58+G58 -> 147 | F58: 69 | G58: 78 | H58: =I58+J58 -> 153 | I58: 71 | J58: 82 | K58: =L58+M58 -> 93 | L58: 45 | M58: 48 | N58: =O58+P58 -> 128 | O58: 53 | P58: 75 | Q58: =R58+S58 -> 125 | R58: 61 | S58: 64 | T58: =U58+V58 -> 165 | U58: 85 | V58: 80 | W58: =X58+Y58 -> 105 | X58: 43 | Y58: 62 | Z58: =AA58+AB58 -> 121 | AA58: 60 | AB58: 61 | AC58: =AD58+AE58 -> 102 | AD58: 50 | AE58: 52 | AF58: =AG58+AH58 -> 96 | AG58: 43 | AH58: 53 | AI58: =AJ58+AK58 -> 86 | AJ58: 51 | AK58: 35 | AL58: =AM58+AN58 -> 82 | AM58: 44 | AN58: 38 | AO58: =AP58+AQ58 -> 62 | AP58: 30 | AQ58: 32 | AR58: =AS58+AT58 -> 56 | AS58: 26 | AT58: 30 | AU58: =AV58+AW58 -> 73 | AV58: 32 | AW58: 41 | AX58: =AY58+AZ58 -> 61 | AY58: 27 | AZ58: 34 | BA58: =BB58+BC58 -> 118 | BB58: 50 | BC58: 68 | BD58: =BE58+BF58 -> 155 | BE58: 70 | BF58: 85 | BG58: =BH58+BI58 -> 117 | BH58: 53 | BI58: 64 | BJ58: =BK58+BL58 -> 38 | BK58: 24 | BL58: 14 | BM58: =BN58+BO58 -> 87 | BN58: 43 | BO58: 44 | BP58: =BQ58+BR58 -> 89 | BQ58: 43 | BR58: 46 | BS58: =BT58+BU58 -> 68 | BT58: 35 | BU58: 33 | BV58: =BW58+BX58 -> 231 | BW58: 99 | BX58: 132 | BY58: =BZ58+CA58 -> 111 | BZ58: 50 | CA58: 61 | CB58: =CC58+CD58 -> 336 | CC58: 163 | CD58: 173 | CE58: =CF58+CG58 -> 111 | CF58: 46 | CG58: 65 | CH58: =CI58+CJ58 -> 118 | CI58: 58 | CJ58: 60 | CK58: =CL58+CM58 -> 131 | CL58: 60 | CM58: 71 | CN58: =CO58+CP58 -> 104 | CO58: 44 | CP58: 60 | CQ58: =CR58+CS58 -> 92 | CR58: 50 | CS58: 42 | CT58: =CU58+CV58 -> 117 | CU58: 50 | CV58: 67 | CW58: =CX58+CY58 -> 99 | CX58: 43 | CY58: 56 | CZ58: =DA58+DB58 -> 65 | DA58: 34 | DB58: 31
A59: 43 | B59: =C59+D59 -> 3590 | C59: =F59+I59+L59+O59+R59+U59+X59+AA59+AD59+AG59+AJ59+AM59+AP59+AS59+AV59+AY59+BB59+BE59+BH59+BK59+BN59+BQ59+BT59+BW59+BZ59+CC59+CF59+CI59+CL59+CO59+CR59+CU59+CX59+DA59 -> 1687 | D59: =G59+J59+M59+P59+S59+V59+Y59+AB59+AE59+AH59+AK59+AN59+AQ59+AT59+AW59+AZ59+BC59+BF59+BI59+BL59+BO59+BR59+BU59+BX59+CA59+CD59+CG59+CJ59+CM59+CP59+CS59+CV59+CY59+DB59 -> 1903 | E59: =F59+G59 -> 138 | F59: 56 | G59: 82 | H59: =I59+J59 -> 136 | I59: 55 | J59: 81 | K59: =L59+M59 -> 107 | L59: 55 | M59: 52 | N59: =O59+P59 -> 95 | O59: 44 | P59: 51 | Q59: =R59+S59 -> 113 | R59: 53 | S59: 60 | T59: =U59+V59 -> 123 | U59: 60 | V59: 63 | W59: =X59+Y59 -> 109 | X59: 51 | Y59: 58 | Z59: =AA59+AB59 -> 124 | AA59: 41 | AB59: 83 | AC59: =AD59+AE59 -> 90 | AD59: 48 | AE59: 42 | AF59: =AG59+AH59 -> 79 | AG59: 44 | AH59: 35 | AI59: =AJ59+AK59 -> 81 | AJ59: 39 | AK59: 42 | AL59: =AM59+AN59 -> 80 | AM59: 43 | AN59: 37 | AO59: =AP59+AQ59 -> 69 | AP59: 22 | AQ59: 47 | AR59: =AS59+AT59 -> 49 | AS59: 23 | AT59: 26 | AU59: =AV59+AW59 -> 58 | AV59: 33 | AW59: 25 | AX59: =AY59+AZ59 -> 63 | AY59: 44 | AZ59: 19 | BA59: =BB59+BC59 -> 109 | BB59: 52 | BC59: 57 | BD59: =BE59+BF59 -> 159 | BE59: 70 | BF59: 89 | BG59: =BH59+BI59 -> 106 | BH59: 44 | BI59: 62 | BJ59: =BK59+BL59 -> 35 | BK59: 15 | BL59: 20 | BM59: =BN59+BO59 -> 85 | BN59: 45 | BO59: 40 | BP59: =BQ59+BR59 -> 107 | BQ59: 64 | BR59: 43 | BS59: =BT59+BU59 -> 73 | BT59: 44 | BU59: 29 | BV59: =BW59+BX59 -> 200 | BW59: 96 | BX59: 104 | BY59: =BZ59+CA59 -> 114 | BZ59: 49 | CA59: 65 | CB59: =CC59+CD59 -> 313 | CC59: 133 | CD59: 180 | CE59: =CF59+CG59 -> 89 | CF59: 45 | CG59: 44 | CH59: =CI59+CJ59 -> 109 | CI59: 49 | CJ59: 60 | CK59: =CL59+CM59 -> 142 | CL59: 57 | CM59: 85 | CN59: =CO59+CP59 -> 86 | CO59: 45 | CP59: 41 | CQ59: =CR59+CS59 -> 85 | CR59: 41 | CS59: 44 | CT59: =CU59+CV59 -> 108 | CU59: 52 | CV59: 56 | CW59: =CX59+CY59 -> 88 | CX59: 37 | CY59: 51 | CZ59: =DA59+DB59 -> 68 | DA59: 38 | DB59: 30
A60: 44 | B60: =C60+D60 -> 3569 | C60: =F60+I60+L60+O60+R60+U60+X60+AA60+AD60+AG60+AJ60+AM60+AP60+AS60+AV60+AY60+BB60+BE60+BH60+BK60+BN60+BQ60+BT60+BW60+BZ60+CC60+CF60+CI60+CL60+CO60+CR60+CU60+CX60+DA60 -> 1672 | D60: =G60+J60+M60+P60+S60+V60+Y60+AB60+AE60+AH60+AK60+AN60+AQ60+AT60+AW60+AZ60+BC60+BF60+BI60+BL60+BO60+BR60+BU60+BX60+CA60+CD60+CG60+CJ60+CM60+CP60+CS60+CV60+CY60+DB60 -> 1897 | E60: =F60+G60 -> 127 | F60: 61 | G60: 66 | H60: =I60+J60 -> 132 | I60: 67 | J60: 65 | K60: =L60+M60 -> 93 | L60: 49 | M60: 44 | N60: =O60+P60 -> 110 | O60: 52 | P60: 58 | Q60: =R60+S60 -> 106 | R60: 36 | S60: 70 | T60: =U60+V60 -> 172 | U60: 75 | V60: 97 | W60: =X60+Y60 -> 85 | X60: 33 | Y60: 52 | Z60: =AA60+AB60 -> 124 | AA60: 62 | AB60: 62 | AC60: =AD60+AE60 -> 96 | AD60: 49 | AE60: 47 | AF60: =AG60+AH60 -> 88 | AG60: 49 | AH60: 39 | AI60: =AJ60+AK60 -> 79 | AJ60: 38 | AK60: 41 | AL60: =AM60+AN60 -> 91 | AM60: 47 | AN60: 44 | AO60: =AP60+AQ60 -> 67 | AP60: 37 | AQ60: 30 | AR60: =AS60+AT60 -> 62 | AS60: 33 | AT60: 29 | AU60: =AV60+AW60 -> 66 | AV60: 27 | AW60: 39 | AX60: =AY60+AZ60 -> 74 | AY60: 36 | AZ60: 38 | BA60: =BB60+BC60 -> 119 | BB60: 60 | BC60: 59 | BD60: =BE60+BF60 -> 149 | BE60: 62 | BF60: 87 | BG60: =BH60+BI60 -> 99 | BH60: 55 | BI60: 44 | BJ60: =BK60+BL60 -> 49 | BK60: 32 | BL60: 17 | BM60: =BN60+BO60 -> 81 | BN60: 39 | BO60: 42 | BP60: =BQ60+BR60 -> 100 | BQ60: 51 | BR60: 49 | BS60: =BT60+BU60 -> 71 | BT60: 26 | BU60: 45 | BV60: =BW60+BX60 -> 204 | BW60: 93 | BX60: 111 | BY60: =BZ60+CA60 -> 89 | BZ60: 43 | CA60: 46 | CB60: =CC60+CD60 -> 249 | CC60: 121 | CD60: 128 | CE60: =CF60+CG60 -> 97 | CF60: 45 | CG60: 52 | CH60: =CI60+CJ60 -> 104 | CI60: 40 | CJ60: 64 | CK60: =CL60+CM60 -> 150 | CL60: 64 | CM60: 86 | CN60: =CO60+CP60 -> 91 | CO60: 50 | CP60: 41 | CQ60: =CR60+CS60 -> 80 | CR60: 31 | CS60: 49 | CT60: =CU60+CV60 -> 102 | CU60: 41 | CV60: 61 | CW60: =CX60+CY60 -> 101 | CX60: 40 | CY60: 61 | CZ60: =DA60+DB60 -> 62 | DA60: 28 | DB60: 34
A61: 45-49 | B61: =C61+D61 -> 15696 | C61: =F61+I61+L61+O61+R61+U61+X61+AA61+AD61+AG61+AJ61+AM61+AP61+AS61+AV61+AY61+BB61+BE61+BH61+BK61+BN61+BQ61+BT61+BW61+BZ61+CC61+CF61+CI61+CL61+CO61+CR61+CU61+CX61+DA61 -> 7239 | D61: =G61+J61+M61+P61+S61+V61+Y61+AB61+AE61+AH61+AK61+AN61+AQ61+AT61+AW61+AZ61+BC61+BF61+BI61+BL61+BO61+BR61+BU61+BX61+CA61+CD61+CG61+CJ61+CM61+CP61+CS61+CV61+CY61+DB61 -> 8457 | E61: =F61+G61 -> 611 | F61: 281 | G61: 330 | H61: =I61+J61 -> 564 | I61: 258 | J61: 306 | K61: =L61+M61 -> 471 | L61: 220 | M61: 251 | N61: =O61+P61 -> 488 | O61: 224 | P61: 264 | Q61: =R61+S61 -> 538 | R61: 235 | S61: 303 | T61: =U61+V61 -> 665 | U61: 313 | V61: 352 | W61: =X61+Y61 -> 457 | X61: 214 | Y61: 243 | Z61: =AA61+AB61 -> 529 | AA61: 253 | AB61: 276 | AC61: =AD61+AE61 -> 440 | AD61: 210 | AE61: 230 | AF61: =AG61+AH61 -> 439 | AG61: 174 | AH61: 265 | AI61: =AJ61+AK61 -> 367 | AJ61: 174 | AK61: 193 | AL61: =AM61+AN61 -> 308 | AM61: 145 | AN61: 163 | AO61: =AP61+AQ61 -> 336 | AP61: 164 | AQ61: 172 | AR61: =AS61+AT61 -> 290 | AS61: 135 | AT61: 155 | AU61: =AV61+AW61 -> 361 | AV61: 163 | AW61: 198 | AX61: =AY61+AZ61 -> 323 | AY61: 160 | AZ61: 163 | BA61: =BB61+BC61 -> 550 | BB61: 246 | BC61: 304 | BD61: =BE61+BF61 -> 635 | BE61: 292 | BF61: 343 | BG61: =BH61+BI61 -> 471 | BH61: 212 | BI61: 259 | BJ61: =BK61+BL61 -> 230 | BK61: 120 | BL61: 110 | BM61: =BN61+BO61 -> 389 | BN61: 189 | BO61: 200 | BP61: =BQ61+BR61 -> 435 | BQ61: 205 | BR61: 230 | BS61: =BT61+BU61 -> 345 | BT61: 162 | BU61: 183 | BV61: =BW61+BX61 -> 769 | BW61: 356 | BX61: 413 | BY61: =BZ61+CA61 -> 420 | BZ61: 195 | CA61: 225 | CB61: =CC61+CD61 -> 1051 | CC61: 497 | CD61: 554 | CE61: =CF61+CG61 -> 381 | CF61: 161 | CG61: 220 | CH61: =CI61+CJ61 -> 357 | CI61: 171 | CJ61: 186 | CK61: =CL61+CM61 -> 617 | CL61: 279 | CM61: 338 | CN61: =CO61+CP61 -> 358 | CO61: 164 | CP61: 194 | CQ61: =CR61+CS61 -> 348 | CR61: 156 | CS61: 192 | CT61: =CU61+CV61 -> 471 | CU61: 206 | CV61: 265 | CW61: =CX61+CY61 -> 403 | CX61: 182 | CY61: 221 | CZ61: =DA61+DB61 -> 279 | DA61: 123 | DB61: 156
A62: 45 | B62: =C62+D62 -> 3427 | C62: =F62+I62+L62+O62+R62+U62+X62+AA62+AD62+AG62+AJ62+AM62+AP62+AS62+AV62+AY62+BB62+BE62+BH62+BK62+BN62+BQ62+BT62+BW62+BZ62+CC62+CF62+CI62+CL62+CO62+CR62+CU62+CX62+DA62 -> 1620 | D62: =G62+J62+M62+P62+S62+V62+Y62+AB62+AE62+AH62+AK62+AN62+AQ62+AT62+AW62+AZ62+BC62+BF62+BI62+BL62+BO62+BR62+BU62+BX62+CA62+CD62+CG62+CJ62+CM62+CP62+CS62+CV62+CY62+DB62 -> 1807 | E62: =F62+G62 -> 123 | F62: 58 | G62: 65 | H62: =I62+J62 -> 107 | I62: 51 | J62: 56 | K62: =L62+M62 -> 105 | L62: 51 | M62: 54 | N62: =O62+P62 -> 117 | O62: 55 | P62: 62 | Q62: =R62+S62 -> 118 | R62: 57 | S62: 61 | T62: =U62+V62 -> 130 | U62: 68 | V62: 62 | W62: =X62+Y62 -> 105 | X62: 52 | Y62: 53 | Z62: =AA62+AB62 -> 111 | AA62: 51 | AB62: 60 | AC62: =AD62+AE62 -> 89 | AD62: 47 | AE62: 42 | AF62: =AG62+AH62 -> 90 | AG62: 33 | AH62: 57 | AI62: =AJ62+AK62 -> 79 | AJ62: 39 | AK62: 40 | AL62: =AM62+AN62 -> 62 | AM62: 29 | AN62: 33 | AO62: =AP62+AQ62 -> 64 | AP62: 28 | AQ62: 36 | AR62: =AS62+AT62 -> 63 | AS62: 26 | AT62: 37 | AU62: =AV62+AW62 -> 87 | AV62: 33 | AW62: 54 | AX62: =AY62+AZ62 -> 74 | AY62: 40 | AZ62: 34 | BA62: =BB62+BC62 -> 119 | BB62: 58 | BC62: 61 | BD62: =BE62+BF62 -> 130 | BE62: 61 | BF62: 69 | BG62: =BH62+BI62 -> 102 | BH62: 50 | BI62: 52 | BJ62: =BK62+BL62 -> 46 | BK62: 27 | BL62: 19 | BM62: =BN62+BO62 -> 75 | BN62: 32 | BO62: 43 | BP62: =BQ62+BR62 -> 88 | BQ62: 41 | BR62: 47 | BS62: =BT62+BU62 -> 63 | BT62: 27 | BU62: 36 | BV62: =BW62+BX62 -> 209 | BW62: 99 | BX62: 110 | BY62: =BZ62+CA62 -> 97 | BZ62: 47 | CA62: 50 | CB62: =CC62+CD62 -> 268 | CC62: 134 | CD62: 134 | CE62: =CF62+CG62 -> 90 | CF62: 43 | CG62: 47 | CH62: =CI62+CJ62 -> 87 | CI62: 49 | CJ62: 38 | CK62: =CL62+CM62 -> 128 | CL62: 56 | CM62: 72 | CN62: =CO62+CP62 -> 59 | CO62: 24 | CP62: 35 | CQ62: =CR62+CS62 -> 82 | CR62: 39 | CS62: 43 | CT62: =CU62+CV62 -> 101 | CU62: 40 | CV62: 61 | CW62: =CX62+CY62 -> 89 | CX62: 45 | CY62: 44 | CZ62: =DA62+DB62 -> 70 | DA62: 30 | DB62: 40
A63: 46 | B63: =C63+D63 -> 3168 | C63: =F63+I63+L63+O63+R63+U63+X63+AA63+AD63+AG63+AJ63+AM63+AP63+AS63+AV63+AY63+BB63+BE63+BH63+BK63+BN63+BQ63+BT63+BW63+BZ63+CC63+CF63+CI63+CL63+CO63+CR63+CU63+CX63+DA63 -> 1503 | D63: =G63+J63+M63+P63+S63+V63+Y63+AB63+AE63+AH63+AK63+AN63+AQ63+AT63+AW63+AZ63+BC63+BF63+BI63+BL63+BO63+BR63+BU63+BX63+CA63+CD63+CG63+CJ63+CM63+CP63+CS63+CV63+CY63+DB63 -> 1665 | E63: =F63+G63 -> 122 | F63: 55 | G63: 67 | H63: =I63+J63 -> 113 | I63: 52 | J63: 61 | K63: =L63+M63 -> 90 | L63: 48 | M63: 42 | N63: =O63+P63 -> 102 | O63: 51 | P63: 51 | Q63: =R63+S63 -> 105 | R63: 46 | S63: 59 | T63: =U63+V63 -> 142 | U63: 63 | V63: 79 | W63: =X63+Y63 -> 89 | X63: 41 | Y63: 48 | Z63: =AA63+AB63 -> 106 | AA63: 53 | AB63: 53 | AC63: =AD63+AE63 -> 83 | AD63: 40 | AE63: 43 | AF63: =AG63+AH63 -> 77 | AG63: 35 | AH63: 42 | AI63: =AJ63+AK63 -> 77 | AJ63: 30 | AK63: 47 | AL63: =AM63+AN63 -> 58 | AM63: 28 | AN63: 30 | AO63: =AP63+AQ63 -> 69 | AP63: 44 | AQ63: 25 | AR63: =AS63+AT63 -> 53 | AS63: 28 | AT63: 25 | AU63: =AV63+AW63 -> 67 | AV63: 35 | AW63: 32 | AX63: =AY63+AZ63 -> 62 | AY63: 32 | AZ63: 30 | BA63: =BB63+BC63 -> 111 | BB63: 54 | BC63: 57 | BD63: =BE63+BF63 -> 132 | BE63: 59 | BF63: 73 | BG63: =BH63+BI63 -> 97 | BH63: 40 | BI63: 57 | BJ63: =BK63+BL63 -> 49 | BK63: 26 | BL63: 23 | BM63: =BN63+BO63 -> 85 | BN63: 41 | BO63: 44 | BP63: =BQ63+BR63 -> 83 | BQ63: 46 | BR63: 37 | BS63: =BT63+BU63 -> 74 | BT63: 37 | BU63: 37 | BV63: =BW63+BX63 -> 172 | BW63: 79 | BX63: 93 | BY63: =BZ63+CA63 -> 75 | BZ63: 32 | CA63: 43 | CB63: =CC63+CD63 -> 212 | CC63: 110 | CD63: 102 | CE63: =CF63+CG63 -> 77 | CF63: 33 | CG63: 44 | CH63: =CI63+CJ63 -> 72 | CI63: 36 | CJ63: 36 | CK63: =CL63+CM63 -> 132 | CL63: 66 | CM63: 66 | CN63: =CO63+CP63 -> 73 | CO63: 35 | CP63: 38 | CQ63: =CR63+CS63 -> 62 | CR63: 28 | CS63: 34 | CT63: =CU63+CV63 -> 99 | CU63: 40 | CV63: 59 | CW63: =CX63+CY63 -> 85 | CX63: 31 | CY63: 54 | CZ63: =DA63+DB63 -> 63 | DA63: 29 | DB63: 34
A64: 47 | B64: =C64+D64 -> 3159 | C64: =F64+I64+L64+O64+R64+U64+X64+AA64+AD64+AG64+AJ64+AM64+AP64+AS64+AV64+AY64+BB64+BE64+BH64+BK64+BN64+BQ64+BT64+BW64+BZ64+CC64+CF64+CI64+CL64+CO64+CR64+CU64+CX64+DA64 -> 1435 | D64: =G64+J64+M64+P64+S64+V64+Y64+AB64+AE64+AH64+AK64+AN64+AQ64+AT64+AW64+AZ64+BC64+BF64+BI64+BL64+BO64+BR64+BU64+BX64+CA64+CD64+CG64+CJ64+CM64+CP64+CS64+CV64+CY64+DB64 -> 1724 | E64: =F64+G64 -> 123 | F64: 48 | G64: 75 | H64: =I64+J64 -> 112 | I64: 49 | J64: 63 | K64: =L64+M64 -> 106 | L64: 37 | M64: 69 | N64: =O64+P64 -> 108 | O64: 49 | P64: 59 | Q64: =R64+S64 -> 105 | R64: 42 | S64: 63 | T64: =U64+V64 -> 136 | U64: 65 | V64: 71 | W64: =X64+Y64 -> 91 | X64: 35 | Y64: 56 | Z64: =AA64+AB64 -> 104 | AA64: 48 | AB64: 56 | AC64: =AD64+AE64 -> 85 | AD64: 47 | AE64: 38 | AF64: =AG64+AH64 -> 92 | AG64: 31 | AH64: 61 | AI64: =AJ64+AK64 -> 80 | AJ64: 41 | AK64: 39 | AL64: =AM64+AN64 -> 72 | AM64: 34 | AN64: 38 | AO64: =AP64+AQ64 -> 70 | AP64: 28 | AQ64: 42 | AR64: =AS64+AT64 -> 58 | AS64: 26 | AT64: 32 | AU64: =AV64+AW64 -> 61 | AV64: 33 | AW64: 28 | AX64: =AY64+AZ64 -> 60 | AY64: 35 | AZ64: 25 | BA64: =BB64+BC64 -> 110 | BB64: 47 | BC64: 63 | BD64: =BE64+BF64 -> 139 | BE64: 66 | BF64: 73 | BG64: =BH64+BI64 -> 90 | BH64: 42 | BI64: 48 | BJ64: =BK64+BL64 -> 53 | BK64: 27 | BL64: 26 | BM64: =BN64+BO64 -> 78 | BN64: 43 | BO64: 35 | BP64: =BQ64+BR64 -> 93 | BQ64: 43 | BR64: 50 | BS64: =BT64+BU64 -> 62 | BT64: 27 | BU64: 35 | BV64: =BW64+BX64 -> 137 | BW64: 62 | BX64: 75 | BY64: =BZ64+CA64 -> 85 | BZ64: 34 | CA64: 51 | CB64: =CC64+CD64 -> 208 | CC64: 104 | CD64: 104 | CE64: =CF64+CG64 -> 76 | CF64: 33 | CG64: 43 | CH64: =CI64+CJ64 -> 67 | CI64: 25 | CJ64: 42 | CK64: =CL64+CM64 -> 126 | CL64: 58 | CM64: 68 | CN64: =CO64+CP64 -> 91 | CO64: 53 | CP64: 38 | CQ64: =CR64+CS64 -> 69 | CR64: 27 | CS64: 42 | CT64: =CU64+CV64 -> 85 | CU64: 37 | CV64: 48 | CW64: =CX64+CY64 -> 75 | CX64: 31 | CY64: 44 | CZ64: =DA64+DB64 -> 52 | DA64: 28 | DB64: 24
A65: 48 | B65: =C65+D65 -> 3036 | C65: =F65+I65+L65+O65+R65+U65+X65+AA65+AD65+AG65+AJ65+AM65+AP65+AS65+AV65+AY65+BB65+BE65+BH65+BK65+BN65+BQ65+BT65+BW65+BZ65+CC65+CF65+CI65+CL65+CO65+CR65+CU65+CX65+DA65 -> 1368 | D65: =G65+J65+M65+P65+S65+V65+Y65+AB65+AE65+AH65+AK65+AN65+AQ65+AT65+AW65+AZ65+BC65+BF65+BI65+BL65+BO65+BR65+BU65+BX65+CA65+CD65+CG65+CJ65+CM65+CP65+CS65+CV65+CY65+DB65 -> 1668 | E65: =F65+G65 -> 127 | F65: 59 | G65: 68 | H65: =I65+J65 -> 134 | I65: 67 | J65: 67 | K65: =L65+M65 -> 90 | L65: 48 | M65: 42 | N65: =O65+P65 -> 77 | O65: 26 | P65: 51 | Q65: =R65+S65 -> 107 | R65: 45 | S65: 62 | T65: =U65+V65 -> 128 | U65: 55 | V65: 73 | W65: =X65+Y65 -> 93 | X65: 41 | Y65: 52 | Z65: =AA65+AB65 -> 104 | AA65: 52 | AB65: 52 | AC65: =AD65+AE65 -> 100 | AD65: 40 | AE65: 60 | AF65: =AG65+AH65 -> 100 | AG65: 39 | AH65: 61 | AI65: =AJ65+AK65 -> 70 | AJ65: 39 | AK65: 31 | AL65: =AM65+AN65 -> 56 | AM65: 26 | AN65: 30 | AO65: =AP65+AQ65 -> 67 | AP65: 29 | AQ65: 38 | AR65: =AS65+AT65 -> 50 | AS65: 24 | AT65: 26 | AU65: =AV65+AW65 -> 66 | AV65: 29 | AW65: 37 | AX65: =AY65+AZ65 -> 71 | AY65: 32 | AZ65: 39 | BA65: =BB65+BC65 -> 106 | BB65: 43 | BC65: 63 | BD65: =BE65+BF65 -> 120 | BE65: 58 | BF65: 62 | BG65: =BH65+BI65 -> 94 | BH65: 41 | BI65: 53 | BJ65: =BK65+BL65 -> 40 | BK65: 21 | BL65: 19 | BM65: =BN65+BO65 -> 81 | BN65: 39 | BO65: 42 | BP65: =BQ65+BR65 -> 87 | BQ65: 39 | BR65: 48 | BS65: =BT65+BU65 -> 79 | BT65: 39 | BU65: 40 | BV65: =BW65+BX65 -> 135 | BW65: 66 | BX65: 69 | BY65: =BZ65+CA65 -> 75 | BZ65: 34 | CA65: 41 | CB65: =CC65+CD65 -> 201 | CC65: 83 | CD65: 118 | CE65: =CF65+CG65 -> 67 | CF65: 23 | CG65: 44 | CH65: =CI65+CJ65 -> 67 | CI65: 32 | CJ65: 35 | CK65: =CL65+CM65 -> 97 | CL65: 44 | CM65: 53 | CN65: =CO65+CP65 -> 60 | CO65: 24 | CP65: 36 | CQ65: =CR65+CS65 -> 70 | CR65: 29 | CS65: 41 | CT65: =CU65+CV65 -> 93 | CU65: 47 | CV65: 46 | CW65: =CX65+CY65 -> 76 | CX65: 35 | CY65: 41 | CZ65: =DA65+DB65 -> 48 | DA65: 20 | DB65: 28
A66: 49 | B66: =C66+D66 -> 2906 | C66: =F66+I66+L66+O66+R66+U66+X66+AA66+AD66+AG66+AJ66+AM66+AP66+AS66+AV66+AY66+BB66+BE66+BH66+BK66+BN66+BQ66+BT66+BW66+BZ66+CC66+CF66+CI66+CL66+CO66+CR66+CU66+CX66+DA66 -> 1313 | D66: =G66+J66+M66+P66+S66+V66+Y66+AB66+AE66+AH66+AK66+AN66+AQ66+AT66+AW66+AZ66+BC66+BF66+BI66+BL66+BO66+BR66+BU66+BX66+CA66+CD66+CG66+CJ66+CM66+CP66+CS66+CV66+CY66+DB66 -> 1593 | E66: =F66+G66 -> 116 | F66: 61 | G66: 55 | H66: =I66+J66 -> 98 | I66: 39 | J66: 59 | K66: =L66+M66 -> 80 | L66: 36 | M66: 44 | N66: =O66+P66 -> 84 | O66: 43 | P66: 41 | Q66: =R66+S66 -> 103 | R66: 45 | S66: 58 | T66: =U66+V66 -> 129 | U66: 62 | V66: 67 | W66: =X66+Y66 -> 79 | X66: 45 | Y66: 34 | Z66: =AA66+AB66 -> 104 | AA66: 49 | AB66: 55 | AC66: =AD66+AE66 -> 83 | AD66: 36 | AE66: 47 | AF66: =AG66+AH66 -> 80 | AG66: 36 | AH66: 44 | AI66: =AJ66+AK66 -> 61 | AJ66: 25 | AK66: 36 | AL66: =AM66+AN66 -> 60 | AM66: 28 | AN66: 32 | AO66: =AP66+AQ66 -> 66 | AP66: 35 | AQ66: 31 | AR66: =AS66+AT66 -> 66 | AS66: 31 | AT66: 35 | AU66: =AV66+AW66 -> 80 | AV66: 33 | AW66: 47 | AX66: =AY66+AZ66 -> 56 | AY66: 21 | AZ66: 35 | BA66: =BB66+BC66 -> 104 | BB66: 44 | BC66: 60 | BD66: =BE66+BF66 -> 114 | BE66: 48 | BF66: 66 | BG66: =BH66+BI66 -> 88 | BH66: 39 | BI66: 49 | BJ66: =BK66+BL66 -> 42 | BK66: 19 | BL66: 23 | BM66: =BN66+BO66 -> 70 | BN66: 34 | BO66: 36 | BP66: =BQ66+BR66 -> 84 | BQ66: 36 | BR66: 48 | BS66: =BT66+BU66 -> 67 | BT66: 32 | BU66: 35 | BV66: =BW66+BX66 -> 116 | BW66: 50 | BX66: 66 | BY66: =BZ66+CA66 -> 88 | BZ66: 48 | CA66: 40 | CB66: =CC66+CD66 -> 162 | CC66: 66 | CD66: 96 | CE66: =CF66+CG66 -> 71 | CF66: 29 | CG66: 42 | CH66: =CI66+CJ66 -> 64 | CI66: 29 | CJ66: 35 | CK66: =CL66+CM66 -> 134 | CL66: 55 | CM66: 79 | CN66: =CO66+CP66 -> 75 | CO66: 28 | CP66: 47 | CQ66: =CR66+CS66 -> 65 | CR66: 33 | CS66: 32 | CT66: =CU66+CV66 -> 93 | CU66: 42 | CV66: 51 | CW66: =CX66+CY66 -> 78 | CX66: 40 | CY66: 38 | CZ66: =DA66+DB66 -> 46 | DA66: 16 | DB66: 30
A67: 50-54 | B67: =C67+D67 -> 13525 | C67: =F67+I67+L67+O67+R67+U67+X67+AA67+AD67+AG67+AJ67+AM67+AP67+AS67+AV67+AY67+BB67+BE67+BH67+BK67+BN67+BQ67+BT67+BW67+BZ67+CC67+CF67+CI67+CL67+CO67+CR67+CU67+CX67+DA67 -> 6059 | D67: =G67+J67+M67+P67+S67+V67+Y67+AB67+AE67+AH67+AK67+AN67+AQ67+AT67+AW67+AZ67+BC67+BF67+BI67+BL67+BO67+BR67+BU67+BX67+CA67+CD67+CG67+CJ67+CM67+CP67+CS67+CV67+CY67+DB67 -> 7466 | E67: =F67+G67 -> 586 | F67: 251 | G67: 335 | H67: =I67+J67 -> 515 | I67: 219 | J67: 296 | K67: =L67+M67 -> 433 | L67: 190 | M67: 243 | N67: =O67+P67 -> 394 | O67: 167 | P67: 227 | Q67: =R67+S67 -> 435 | R67: 187 | S67: 248 | T67: =U67+V67 -> 579 | U67: 263 | V67: 316 | W67: =X67+Y67 -> 374 | X67: 158 | Y67: 216 | Z67: =AA67+AB67 -> 486 | AA67: 217 | AB67: 269 | AC67: =AD67+AE67 -> 408 | AD67: 180 | AE67: 228 | AF67: =AG67+AH67 -> 429 | AG67: 211 | AH67: 218 | AI67: =AJ67+AK67 -> 337 | AJ67: 149 | AK67: 188 | AL67: =AM67+AN67 -> 303 | AM67: 143 | AN67: 160 | AO67: =AP67+AQ67 -> 336 | AP67: 150 | AQ67: 186 | AR67: =AS67+AT67 -> 272 | AS67: 121 | AT67: 151 | AU67: =AV67+AW67 -> 278 | AV67: 126 | AW67: 152 | AX67: =AY67+AZ67 -> 289 | AY67: 129 | AZ67: 160 | BA67: =BB67+BC67 -> 435 | BB67: 181 | BC67: 254 | BD67: =BE67+BF67 -> 558 | BE67: 247 | BF67: 311 | BG67: =BH67+BI67 -> 461 | BH67: 202 | BI67: 259 | BJ67: =BK67+BL67 -> 220 | BK67: 109 | BL67: 111 | BM67: =BN67+BO67 -> 385 | BN67: 187 | BO67: 198 | BP67: =BQ67+BR67 -> 378 | BQ67: 181 | BR67: 197 | BS67: =BT67+BU67 -> 381 | BT67: 178 | BU67: 203 | BV67: =BW67+BX67 -> 532 | BW67: 242 | BX67: 290 | BY67: =BZ67+CA67 -> 374 | BZ67: 171 | CA67: 203 | CB67: =CC67+CD67 -> 664 | CC67: 319 | CD67: 345 | CE67: =CF67+CG67 -> 310 | CF67: 143 | CG67: 167 | CH67: =CI67+CJ67 -> 343 | CI67: 138 | CJ67: 205 | CK67: =CL67+CM67 -> 438 | CL67: 200 | CM67: 238 | CN67: =CO67+CP67 -> 349 | CO67: 161 | CP67: 188 | CQ67: =CR67+CS67 -> 323 | CR67: 136 | CS67: 187 | CT67: =CU67+CV67 -> 380 | CU67: 161 | CV67: 219 | CW67: =CX67+CY67 -> 310 | CX67: 139 | CY67: 171 | CZ67: =DA67+DB67 -> 230 | DA67: 103 | DB67: 127
A68: 50 | B68: =C68+D68 -> 2846 | C68: =F68+I68+L68+O68+R68+U68+X68+AA68+AD68+AG68+AJ68+AM68+AP68+AS68+AV68+AY68+BB68+BE68+BH68+BK68+BN68+BQ68+BT68+BW68+BZ68+CC68+CF68+CI68+CL68+CO68+CR68+CU68+CX68+DA68 -> 1267 | D68: =G68+J68+M68+P68+S68+V68+Y68+AB68+AE68+AH68+AK68+AN68+AQ68+AT68+AW68+AZ68+BC68+BF68+BI68+BL68+BO68+BR68+BU68+BX68+CA68+CD68+CG68+CJ68+CM68+CP68+CS68+CV68+CY68+DB68 -> 1579 | E68: =F68+G68 -> 115 | F68: 62 | G68: 53 | H68: =I68+J68 -> 103 | I68: 37 | J68: 66 | K68: =L68+M68 -> 88 | L68: 43 | M68: 45 | N68: =O68+P68 -> 73 | O68: 24 | P68: 49 | Q68: =R68+S68 -> 92 | R68: 49 | S68: 43 | T68: =U68+V68 -> 129 | U68: 60 | V68: 69 | W68: =X68+Y68 -> 88 | X68: 39 | Y68: 49 | Z68: =AA68+AB68 -> 124 | AA68: 53 | AB68: 71 | AC68: =AD68+AE68 -> 92 | AD68: 39 | AE68: 53 | AF68: =AG68+AH68 -> 98 | AG68: 45 | AH68: 53 | AI68: =AJ68+AK68 -> 63 | AJ68: 25 | AK68: 38 | AL68: =AM68+AN68 -> 59 | AM68: 26 | AN68: 33 | AO68: =AP68+AQ68 -> 57 | AP68: 24 | AQ68: 33 | AR68: =AS68+AT68 -> 49 | AS68: 22 | AT68: 27 | AU68: =AV68+AW68 -> 46 | AV68: 19 | AW68: 27 | AX68: =AY68+AZ68 -> 48 | AY68: 23 | AZ68: 25 | BA68: =BB68+BC68 -> 91 | BB68: 31 | BC68: 60 | BD68: =BE68+BF68 -> 132 | BE68: 64 | BF68: 68 | BG68: =BH68+BI68 -> 104 | BH68: 47 | BI68: 57 | BJ68: =BK68+BL68 -> 53 | BK68: 24 | BL68: 29 | BM68: =BN68+BO68 -> 82 | BN68: 35 | BO68: 47 | BP68: =BQ68+BR68 -> 68 | BQ68: 34 | BR68: 34 | BS68: =BT68+BU68 -> 75 | BT68: 38 | BU68: 37 | BV68: =BW68+BX68 -> 127 | BW68: 59 | BX68: 68 | BY68: =BZ68+CA68 -> 65 | BZ68: 31 | CA68: 34 | CB68: =CC68+CD68 -> 150 | CC68: 79 | CD68: 71 | CE68: =CF68+CG68 -> 63 | CF68: 23 | CG68: 40 | CH68: =CI68+CJ68 -> 64 | CI68: 31 | CJ68: 33 | CK68: =CL68+CM68 -> 87 | CL68: 36 | CM68: 51 | CN68: =CO68+CP68 -> 84 | CO68: 38 | CP68: 46 | CQ68: =CR68+CS68 -> 78 | CR68: 24 | CS68: 54 | CT68: =CU68+CV68 -> 78 | CU68: 35 | CV68: 43 | CW68: =CX68+CY68 -> 75 | CX68: 30 | CY68: 45 | CZ68: =DA68+DB68 -> 46 | DA68: 18 | DB68: 28
A69: 51 | B69: =C69+D69 -> 2955 | C69: =F69+I69+L69+O69+R69+U69+X69+AA69+AD69+AG69+AJ69+AM69+AP69+AS69+AV69+AY69+BB69+BE69+BH69+BK69+BN69+BQ69+BT69+BW69+BZ69+CC69+CF69+CI69+CL69+CO69+CR69+CU69+CX69+DA69 -> 1322 | D69: =G69+J69+M69+P69+S69+V69+Y69+AB69+AE69+AH69+AK69+AN69+AQ69+AT69+AW69+AZ69+BC69+BF69+BI69+BL69+BO69+BR69+BU69+BX69+CA69+CD69+CG69+CJ69+CM69+CP69+CS69+CV69+CY69+DB69 -> 1633 | E69: =F69+G69 -> 139 | F69: 54 | G69: 85 | H69: =I69+J69 -> 111 | I69: 44 | J69: 67 | K69: =L69+M69 -> 88 | L69: 29 | M69: 59 | N69: =O69+P69 -> 83 | O69: 39 | P69: 44 | Q69: =R69+S69 -> 92 | R69: 43 | S69: 49 | T69: =U69+V69 -> 120 | U69: 51 | V69: 69 | W69: =X69+Y69 -> 85 | X69: 31 | Y69: 54 | Z69: =AA69+AB69 -> 106 | AA69: 50 | AB69: 56 | AC69: =AD69+AE69 -> 91 | AD69: 44 | AE69: 47 | AF69: =AG69+AH69 -> 94 | AG69: 50 | AH69: 44 | AI69: =AJ69+AK69 -> 73 | AJ69: 33 | AK69: 40 | AL69: =AM69+AN69 -> 57 | AM69: 28 | AN69: 29 | AO69: =AP69+AQ69 -> 89 | AP69: 37 | AQ69: 52 | AR69: =AS69+AT69 -> 61 | AS69: 28 | AT69: 33 | AU69: =AV69+AW69 -> 59 | AV69: 30 | AW69: 29 | AX69: =AY69+AZ69 -> 59 | AY69: 30 | AZ69: 29 | BA69: =BB69+BC69 -> 91 | BB69: 41 | BC69: 50 | BD69: =BE69+BF69 -> 116 | BE69: 52 | BF69: 64 | BG69: =BH69+BI69 -> 98 | BH69: 39 | BI69: 59 | BJ69: =BK69+BL69 -> 48 | BK69: 23 | BL69: 25 | BM69: =BN69+BO69 -> 71 | BN69: 33 | BO69: 38 | BP69: =BQ69+BR69 -> 78 | BQ69: 41 | BR69: 37 | BS69: =BT69+BU69 -> 79 | BT69: 36 | BU69: 43 | BV69: =BW69+BX69 -> 117 | BW69: 44 | BX69: 73 | BY69: =BZ69+CA69 -> 108 | BZ69: 52 | CA69: 56 | CB69: =CC69+CD69 -> 153 | CC69: 81 | CD69: 72 | CE69: =CF69+CG69 -> 70 | CF69: 31 | CG69: 39 | CH69: =CI69+CJ69 -> 63 | CI69: 29 | CJ69: 34 | CK69: =CL69+CM69 -> 94 | CL69: 41 | CM69: 53 | CN69: =CO69+CP69 -> 79 | CO69: 37 | CP69: 42 | CQ69: =CR69+CS69 -> 69 | CR69: 27 | CS69: 42 | CT69: =CU69+CV69 -> 83 | CU69: 31 | CV69: 52 | CW69: =CX69+CY69 -> 79 | CX69: 38 | CY69: 41 | CZ69: =DA69+DB69 -> 52 | DA69: 25 | DB69: 27
A70: 52 | B70: =C70+D70 -> 2788 | C70: =F70+I70+L70+O70+R70+U70+X70+AA70+AD70+AG70+AJ70+AM70+AP70+AS70+AV70+AY70+BB70+BE70+BH70+BK70+BN70+BQ70+BT70+BW70+BZ70+CC70+CF70+CI70+CL70+CO70+CR70+CU70+CX70+DA70 -> 1285 | D70: =G70+J70+M70+P70+S70+V70+Y70+AB70+AE70+AH70+AK70+AN70+AQ70+AT70+AW70+AZ70+BC70+BF70+BI70+BL70+BO70+BR70+BU70+BX70+CA70+CD70+CG70+CJ70+CM70+CP70+CS70+CV70+CY70+DB70 -> 1503 | E70: =F70+G70 -> 125 | F70: 49 | G70: 76 | H70: =I70+J70 -> 107 | I70: 55 | J70: 52 | K70: =L70+M70 -> 87 | L70: 43 | M70: 44 | N70: =O70+P70 -> 96 | O70: 44 | P70: 52 | Q70: =R70+S70 -> 111 | R70: 48 | S70: 63 | T70: =U70+V70 -> 127 | U70: 51 | V70: 76 | W70: =X70+Y70 -> 73 | X70: 35 | Y70: 38 | Z70: =AA70+AB70 -> 86 | AA70: 39 | AB70: 47 | AC70: =AD70+AE70 -> 87 | AD70: 41 | AE70: 46 | AF70: =AG70+AH70 -> 81 | AG70: 40 | AH70: 41 | AI70: =AJ70+AK70 -> 83 | AJ70: 38 | AK70: 45 | AL70: =AM70+AN70 -> 68 | AM70: 30 | AN70: 38 | AO70: =AP70+AQ70 -> 66 | AP70: 31 | AQ70: 35 | AR70: =AS70+AT70 -> 57 | AS70: 22 | AT70: 35 | AU70: =AV70+AW70 -> 63 | AV70: 29 | AW70: 34 | AX70: =AY70+AZ70 -> 56 | AY70: 25 | AZ70: 31 | BA70: =BB70+BC70 -> 95 | BB70: 45 | BC70: 50 | BD70: =BE70+BF70 -> 99 | BE70: 40 | BF70: 59 | BG70: =BH70+BI70 -> 83 | BH70: 39 | BI70: 44 | BJ70: =BK70+BL70 -> 47 | BK70: 24 | BL70: 23 | BM70: =BN70+BO70 -> 81 | BN70: 43 | BO70: 38 | BP70: =BQ70+BR70 -> 80 | BQ70: 41 | BR70: 39 | BS70: =BT70+BU70 -> 67 | BT70: 27 | BU70: 40 | BV70: =BW70+BX70 -> 101 | BW70: 52 | BX70: 49 | BY70: =BZ70+CA70 -> 66 | BZ70: 31 | CA70: 35 | CB70: =CC70+CD70 -> 132 | CC70: 61 | CD70: 71 | CE70: =CF70+CG70 -> 79 | CF70: 39 | CG70: 40 | CH70: =CI70+CJ70 -> 91 | CI70: 37 | CJ70: 54 | CK70: =CL70+CM70 -> 85 | CL70: 46 | CM70: 39 | CN70: =CO70+CP70 -> 68 | CO70: 31 | CP70: 37 | CQ70: =CR70+CS70 -> 60 | CR70: 28 | CS70: 32 | CT70: =CU70+CV70 -> 70 | CU70: 26 | CV70: 44 | CW70: =CX70+CY70 -> 62 | CX70: 31 | CY70: 31 | CZ70: =DA70+DB70 -> 49 | DA70: 24 | DB70: 25
A71: 53 | B71: =C71+D71 -> 2584 | C71: =F71+I71+L71+O71+R71+U71+X71+AA71+AD71+AG71+AJ71+AM71+AP71+AS71+AV71+AY71+BB71+BE71+BH71+BK71+BN71+BQ71+BT71+BW71+BZ71+CC71+CF71+CI71+CL71+CO71+CR71+CU71+CX71+DA71 -> 1145 | D71: =G71+J71+M71+P71+S71+V71+Y71+AB71+AE71+AH71+AK71+AN71+AQ71+AT71+AW71+AZ71+BC71+BF71+BI71+BL71+BO71+BR71+BU71+BX71+CA71+CD71+CG71+CJ71+CM71+CP71+CS71+CV71+CY71+DB71 -> 1439 | E71: =F71+G71 -> 116 | F71: 47 | G71: 69 | H71: =I71+J71 -> 93 | I71: 39 | J71: 54 | K71: =L71+M71 -> 75 | L71: 30 | M71: 45 | N71: =O71+P71 -> 85 | O71: 38 | P71: 47 | Q71: =R71+S71 -> 74 | R71: 26 | S71: 48 | T71: =U71+V71 -> 101 | U71: 53 | V71: 48 | W71: =X71+Y71 -> 70 | X71: 27 | Y71: 43 | Z71: =AA71+AB71 -> 93 | AA71: 39 | AB71: 54 | AC71: =AD71+AE71 -> 62 | AD71: 27 | AE71: 35 | AF71: =AG71+AH71 -> 70 | AG71: 33 | AH71: 37 | AI71: =AJ71+AK71 -> 56 | AJ71: 25 | AK71: 31 | AL71: =AM71+AN71 -> 65 | AM71: 33 | AN71: 32 | AO71: =AP71+AQ71 -> 61 | AP71: 30 | AQ71: 31 | AR71: =AS71+AT71 -> 51 | AS71: 26 | AT71: 25 | AU71: =AV71+AW71 -> 52 | AV71: 25 | AW71: 27 | AX71: =AY71+AZ71 -> 73 | AY71: 28 | AZ71: 45 | BA71: =BB71+BC71 -> 89 | BB71: 34 | BC71: 55 | BD71: =BE71+BF71 -> 106 | BE71: 47 | BF71: 59 | BG71: =BH71+BI71 -> 99 | BH71: 47 | BI71: 52 | BJ71: =BK71+BL71 -> 40 | BK71: 22 | BL71: 18 | BM71: =BN71+BO71 -> 71 | BN71: 38 | BO71: 33 | BP71: =BQ71+BR71 -> 81 | BQ71: 33 | BR71: 48 | BS71: =BT71+BU71 -> 83 | BT71: 37 | BU71: 46 | BV71: =BW71+BX71 -> 83 | BW71: 35 | BX71: 48 | BY71: =BZ71+CA71 -> 74 | BZ71: 28 | CA71: 46 | CB71: =CC71+CD71 -> 132 | CC71: 53 | CD71: 79 | CE71: =CF71+CG71 -> 56 | CF71: 27 | CG71: 29 | CH71: =CI71+CJ71 -> 74 | CI71: 25 | CJ71: 49 | CK71: =CL71+CM71 -> 82 | CL71: 36 | CM71: 46 | CN71: =CO71+CP71 -> 67 | CO71: 32 | CP71: 35 | CQ71: =CR71+CS71 -> 62 | CR71: 33 | CS71: 29 | CT71: =CU71+CV71 -> 87 | CU71: 44 | CV71: 43 | CW71: =CX71+CY71 -> 53 | CX71: 25 | CY71: 28 | CZ71: =DA71+DB71 -> 48 | DA71: 23 | DB71: 25
A72: 54 | B72: =C72+D72 -> 2352 | C72: =F72+I72+L72+O72+R72+U72+X72+AA72+AD72+AG72+AJ72+AM72+AP72+AS72+AV72+AY72+BB72+BE72+BH72+BK72+BN72+BQ72+BT72+BW72+BZ72+CC72+CF72+CI72+CL72+CO72+CR72+CU72+CX72+DA72 -> 1040 | D72: =G72+J72+M72+P72+S72+V72+Y72+AB72+AE72+AH72+AK72+AN72+AQ72+AT72+AW72+AZ72+BC72+BF72+BI72+BL72+BO72+BR72+BU72+BX72+CA72+CD72+CG72+CJ72+CM72+CP72+CS72+CV72+CY72+DB72 -> 1312 | E72: =F72+G72 -> 91 | F72: 39 | G72: 52 | H72: =I72+J72 -> 101 | I72: 44 | J72: 57 | K72: =L72+M72 -> 95 | L72: 45 | M72: 50 | N72: =O72+P72 -> 57 | O72: 22 | P72: 35 | Q72: =R72+S72 -> 66 | R72: 21 | S72: 45 | T72: =U72+V72 -> 102 | U72: 48 | V72: 54 | W72: =X72+Y72 -> 58 | X72: 26 | Y72: 32 | Z72: =AA72+AB72 -> 77 | AA72: 36 | AB72: 41 | AC72: =AD72+AE72 -> 76 | AD72: 29 | AE72: 47 | AF72: =AG72+AH72 -> 86 | AG72: 43 | AH72: 43 | AI72: =AJ72+AK72 -> 62 | AJ72: 28 | AK72: 34 | AL72: =AM72+AN72 -> 54 | AM72: 26 | AN72: 28 | AO72: =AP72+AQ72 -> 63 | AP72: 28 | AQ72: 35 | AR72: =AS72+AT72 -> 54 | AS72: 23 | AT72: 31 | AU72: =AV72+AW72 -> 58 | AV72: 23 | AW72: 35 | AX72: =AY72+AZ72 -> 53 | AY72: 23 | AZ72: 30 | BA72: =BB72+BC72 -> 69 | BB72: 30 | BC72: 39 | BD72: =BE72+BF72 -> 105 | BE72: 44 | BF72: 61 | BG72: =BH72+BI72 -> 77 | BH72: 30 | BI72: 47 | BJ72: =BK72+BL72 -> 32 | BK72: 16 | BL72: 16 | BM72: =BN72+BO72 -> 80 | BN72: 38 | BO72: 42 | BP72: =BQ72+BR72 -> 71 | BQ72: 32 | BR72: 39 | BS72: =BT72+BU72 -> 77 | BT72: 40 | BU72: 37 | BV72: =BW72+BX72 -> 104 | BW72: 52 | BX72: 52 | BY72: =BZ72+CA72 -> 61 | BZ72: 29 | CA72: 32 | CB72: =CC72+CD72 -> 97 | CC72: 45 | CD72: 52 | CE72: =CF72+CG72 -> 42 | CF72: 23 | CG72: 19 | CH72: =CI72+CJ72 -> 51 | CI72: 16 | CJ72: 35 | CK72: =CL72+CM72 -> 90 | CL72: 41 | CM72: 49 | CN72: =CO72+CP72 -> 51 | CO72: 23 | CP72: 28 | CQ72: =CR72+CS72 -> 54 | CR72: 24 | CS72: 30 | CT72: =CU72+CV72 -> 62 | CU72: 25 | CV72: 37 | CW72: =CX72+CY72 -> 41 | CX72: 15 | CY72: 26 | CZ72: =DA72+DB72 -> 35 | DA72: 13 | DB72: 22
A73: 55-59 | B73: =C73+D73 -> 10931 | C73: =F73+I73+L73+O73+R73+U73+X73+AA73+AD73+AG73+AJ73+AM73+AP73+AS73+AV73+AY73+BB73+BE73+BH73+BK73+BN73+BQ73+BT73+BW73+BZ73+CC73+CF73+CI73+CL73+CO73+CR73+CU73+CX73+DA73 -> 4594 | D73: =G73+J73+M73+P73+S73+V73+Y73+AB73+AE73+AH73+AK73+AN73+AQ73+AT73+AW73+AZ73+BC73+BF73+BI73+BL73+BO73+BR73+BU73+BX73+CA73+CD73+CG73+CJ73+CM73+CP73+CS73+CV73+CY73+DB73 -> 6337 | E73: =F73+G73 -> 499 | F73: 226 | G73: 273 | H73: =I73+J73 -> 416 | I73: 167 | J73: 249 | K73: =L73+M73 -> 360 | L73: 146 | M73: 214 | N73: =O73+P73 -> 413 | O73: 173 | P73: 240 | Q73: =R73+S73 -> 331 | R73: 137 | S73: 194 | T73: =U73+V73 -> 431 | U73: 174 | V73: 257 | W73: =X73+Y73 -> 349 | X73: 142 | Y73: 207 | Z73: =AA73+AB73 -> 351 | AA73: 161 | AB73: 190 | AC73: =AD73+AE73 -> 360 | AD73: 146 | AE73: 214 | AF73: =AG73+AH73 -> 367 | AG73: 159 | AH73: 208 | AI73: =AJ73+AK73 -> 306 | AJ73: 131 | AK73: 175 | AL73: =AM73+AN73 -> 275 | AM73: 123 | AN73: 152 | AO73: =AP73+AQ73 -> 230 | AP73: 89 | AQ73: 141 | AR73: =AS73+AT73 -> 242 | AS73: 101 | AT73: 141 | AU73: =AV73+AW73 -> 248 | AV73: 107 | AW73: 141 | AX73: =AY73+AZ73 -> 299 | AY73: 132 | AZ73: 167 | BA73: =BB73+BC73 -> 338 | BB73: 134 | BC73: 204 | BD73: =BE73+BF73 -> 422 | BE73: 170 | BF73: 252 | BG73: =BH73+BI73 -> 386 | BH73: 153 | BI73: 233 | BJ73: =BK73+BL73 -> 183 | BK73: 87 | BL73: 96 | BM73: =BN73+BO73 -> 331 | BN73: 147 | BO73: 184 | BP73: =BQ73+BR73 -> 341 | BQ73: 151 | BR73: 190 | BS73: =BT73+BU73 -> 345 | BT73: 158 | BU73: 187 | BV73: =BW73+BX73 -> 393 | BW73: 155 | BX73: 238 | BY73: =BZ73+CA73 -> 248 | BZ73: 99 | CA73: 149 | CB73: =CC73+CD73 -> 401 | CC73: 162 | CD73: 239 | CE73: =CF73+CG73 -> 248 | CF73: 89 | CG73: 159 | CH73: =CI73+CJ73 -> 272 | CI73: 111 | CJ73: 161 | CK73: =CL73+CM73 -> 300 | CL73: 137 | CM73: 163 | CN73: =CO73+CP73 -> 270 | CO73: 124 | CP73: 146 | CQ73: =CR73+CS73 -> 219 | CR73: 90 | CS73: 129 | CT73: =CU73+CV73 -> 304 | CU73: 138 | CV73: 166 | CW73: =CX73+CY73 -> 237 | CX73: 83 | CY73: 154 | CZ73: =DA73+DB73 -> 216 | DA73: 92 | DB73: 124
A74: 55 | B74: =C74+D74 -> 2432 | C74: =F74+I74+L74+O74+R74+U74+X74+AA74+AD74+AG74+AJ74+AM74+AP74+AS74+AV74+AY74+BB74+BE74+BH74+BK74+BN74+BQ74+BT74+BW74+BZ74+CC74+CF74+CI74+CL74+CO74+CR74+CU74+CX74+DA74 -> 1073 | D74: =G74+J74+M74+P74+S74+V74+Y74+AB74+AE74+AH74+AK74+AN74+AQ74+AT74+AW74+AZ74+BC74+BF74+BI74+BL74+BO74+BR74+BU74+BX74+CA74+CD74+CG74+CJ74+CM74+CP74+CS74+CV74+CY74+DB74 -> 1359 | E74: =F74+G74 -> 100 | F74: 45 | G74: 55 | H74: =I74+J74 -> 87 | I74: 34 | J74: 53 | K74: =L74+M74 -> 86 | L74: 42 | M74: 44 | N74: =O74+P74 -> 84 | O74: 35 | P74: 49 | Q74: =R74+S74 -> 72 | R74: 30 | S74: 42 | T74: =U74+V74 -> 83 | U74: 40 | V74: 43 | W74: =X74+Y74 -> 90 | X74: 39 | Y74: 51 | Z74: =AA74+AB74 -> 102 | AA74: 51 | AB74: 51 | AC74: =AD74+AE74 -> 89 | AD74: 33 | AE74: 56 | AF74: =AG74+AH74 -> 86 | AG74: 34 | AH74: 52 | AI74: =AJ74+AK74 -> 70 | AJ74: 35 | AK74: 35 | AL74: =AM74+AN74 -> 65 | AM74: 32 | AN74: 33 | AO74: =AP74+AQ74 -> 44 | AP74: 15 | AQ74: 29 | AR74: =AS74+AT74 -> 56 | AS74: 25 | AT74: 31 | AU74: =AV74+AW74 -> 52 | AV74: 28 | AW74: 24 | AX74: =AY74+AZ74 -> 57 | AY74: 27 | AZ74: 30 | BA74: =BB74+BC74 -> 72 | BB74: 36 | BC74: 36 | BD74: =BE74+BF74 -> 80 | BE74: 24 | BF74: 56 | BG74: =BH74+BI74 -> 89 | BH74: 41 | BI74: 48 | BJ74: =BK74+BL74 -> 34 | BK74: 15 | BL74: 19 | BM74: =BN74+BO74 -> 76 | BN74: 26 | BO74: 50 | BP74: =BQ74+BR74 -> 69 | BQ74: 33 | BR74: 36 | BS74: =BT74+BU74 -> 84 | BT74: 42 | BU74: 42 | BV74: =BW74+BX74 -> 79 | BW74: 31 | BX74: 48 | BY74: =BZ74+CA74 -> 57 | BZ74: 26 | CA74: 31 | CB74: =CC74+CD74 -> 82 | CC74: 38 | CD74: 44 | CE74: =CF74+CG74 -> 54 | CF74: 19 | CG74: 35 | CH74: =CI74+CJ74 -> 59 | CI74: 27 | CJ74: 32 | CK74: =CL74+CM74 -> 81 | CL74: 43 | CM74: 38 | CN74: =CO74+CP74 -> 61 | CO74: 26 | CP74: 35 | CQ74: =CR74+CS74 -> 56 | CR74: 25 | CS74: 31 | CT74: =CU74+CV74 -> 66 | CU74: 27 | CV74: 39 | CW74: =CX74+CY74 -> 60 | CX74: 26 | CY74: 34 | CZ74: =DA74+DB74 -> 50 | DA74: 23 | DB74: 27
A75: 56 | B75: =C75+D75 -> 2203 | C75: =F75+I75+L75+O75+R75+U75+X75+AA75+AD75+AG75+AJ75+AM75+AP75+AS75+AV75+AY75+BB75+BE75+BH75+BK75+BN75+BQ75+BT75+BW75+BZ75+CC75+CF75+CI75+CL75+CO75+CR75+CU75+CX75+DA75 -> 972 | D75: =G75+J75+M75+P75+S75+V75+Y75+AB75+AE75+AH75+AK75+AN75+AQ75+AT75+AW75+AZ75+BC75+BF75+BI75+BL75+BO75+BR75+BU75+BX75+CA75+CD75+CG75+CJ75+CM75+CP75+CS75+CV75+CY75+DB75 -> 1231 | E75: =F75+G75 -> 101 | F75: 52 | G75: 49 | H75: =I75+J75 -> 85 | I75: 47 | J75: 38 | K75: =L75+M75 -> 81 | L75: 34 | M75: 47 | N75: =O75+P75 -> 79 | O75: 37 | P75: 42 | Q75: =R75+S75 -> 71 | R75: 32 | S75: 39 | T75: =U75+V75 -> 92 | U75: 38 | V75: 54 | W75: =X75+Y75 -> 70 | X75: 29 | Y75: 41 | Z75: =AA75+AB75 -> 68 | AA75: 33 | AB75: 35 | AC75: =AD75+AE75 -> 71 | AD75: 36 | AE75: 35 | AF75: =AG75+AH75 -> 72 | AG75: 32 | AH75: 40 | AI75: =AJ75+AK75 -> 68 | AJ75: 27 | AK75: 41 | AL75: =AM75+AN75 -> 57 | AM75: 25 | AN75: 32 | AO75: =AP75+AQ75 -> 58 | AP75: 24 | AQ75: 34 | AR75: =AS75+AT75 -> 51 | AS75: 25 | AT75: 26 | AU75: =AV75+AW75 -> 50 | AV75: 17 | AW75: 33 | AX75: =AY75+AZ75 -> 53 | AY75: 28 | AZ75: 25 | BA75: =BB75+BC75 -> 75 | BB75: 27 | BC75: 48 | BD75: =BE75+BF75 -> 85 | BE75: 35 | BF75: 50 | BG75: =BH75+BI75 -> 68 | BH75: 25 | BI75: 43 | BJ75: =BK75+BL75 -> 49 | BK75: 21 | BL75: 28 | BM75: =BN75+BO75 -> 76 | BN75: 36 | BO75: 40 | BP75: =BQ75+BR75 -> 63 | BQ75: 30 | BR75: 33 | BS75: =BT75+BU75 -> 67 | BT75: 27 | BU75: 40 | BV75: =BW75+BX75 -> 74 | BW75: 34 | BX75: 40 | BY75: =BZ75+CA75 -> 45 | BZ75: 17 | CA75: 28 | CB75: =CC75+CD75 -> 84 | CC75: 33 | CD75: 51 | CE75: =CF75+CG75 -> 41 | CF75: 14 | CG75: 27 | CH75: =CI75+CJ75 -> 43 | CI75: 22 | CJ75: 21 | CK75: =CL75+CM75 -> 59 | CL75: 26 | CM75: 33 | CN75: =CO75+CP75 -> 64 | CO75: 24 | CP75: 40 | CQ75: =CR75+CS75 -> 40 | CR75: 21 | CS75: 19 | CT75: =CU75+CV75 -> 58 | CU75: 29 | CV75: 29 | CW75: =CX75+CY75 -> 49 | CX75: 19 | CY75: 30 | CZ75: =DA75+DB75 -> 36 | DA75: 16 | DB75: 20
A76: 57 | B76: =C76+D76 -> 2136 | C76: =F76+I76+L76+O76+R76+U76+X76+AA76+AD76+AG76+AJ76+AM76+AP76+AS76+AV76+AY76+BB76+BE76+BH76+BK76+BN76+BQ76+BT76+BW76+BZ76+CC76+CF76+CI76+CL76+CO76+CR76+CU76+CX76+DA76 -> 880 | D76: =G76+J76+M76+P76+S76+V76+Y76+AB76+AE76+AH76+AK76+AN76+AQ76+AT76+AW76+AZ76+BC76+BF76+BI76+BL76+BO76+BR76+BU76+BX76+CA76+CD76+CG76+CJ76+CM76+CP76+CS76+CV76+CY76+DB76 -> 1256 | E76: =F76+G76 -> 96 | F76: 43 | G76: 53 | H76: =I76+J76 -> 87 | I76: 37 | J76: 50 | K76: =L76+M76 -> 58 | L76: 21 | M76: 37 | N76: =O76+P76 -> 88 | O76: 39 | P76: 49 | Q76: =R76+S76 -> 72 | R76: 30 | S76: 42 | T76: =U76+V76 -> 93 | U76: 34 | V76: 59 | W76: =X76+Y76 -> 71 | X76: 27 | Y76: 44 | Z76: =AA76+AB76 -> 50 | AA76: 22 | AB76: 28 | AC76: =AD76+AE76 -> 62 | AD76: 28 | AE76: 34 | AF76: =AG76+AH76 -> 64 | AG76: 26 | AH76: 38 | AI76: =AJ76+AK76 -> 56 | AJ76: 26 | AK76: 30 | AL76: =AM76+AN76 -> 47 | AM76: 17 | AN76: 30 | AO76: =AP76+AQ76 -> 50 | AP76: 17 | AQ76: 33 | AR76: =AS76+AT76 -> 47 | AS76: 15 | AT76: 32 | AU76: =AV76+AW76 -> 48 | AV76: 22 | AW76: 26 | AX76: =AY76+AZ76 -> 70 | AY76: 24 | AZ76: 46 | BA76: =BB76+BC76 -> 63 | BB76: 20 | BC76: 43 | BD76: =BE76+BF76 -> 87 | BE76: 38 | BF76: 49 | BG76: =BH76+BI76 -> 76 | BH76: 27 | BI76: 49 | BJ76: =BK76+BL76 -> 28 | BK76: 15 | BL76: 13 | BM76: =BN76+BO76 -> 69 | BN76: 40 | BO76: 29 | BP76: =BQ76+BR76 -> 74 | BQ76: 28 | BR76: 46 | BS76: =BT76+BU76 -> 53 | BT76: 24 | BU76: 29 | BV76: =BW76+BX76 -> 86 | BW76: 34 | BX76: 52 | BY76: =BZ76+CA76 -> 45 | BZ76: 22 | CA76: 23 | CB76: =CC76+CD76 -> 88 | CC76: 39 | CD76: 49 | CE76: =CF76+CG76 -> 52 | CF76: 19 | CG76: 33 | CH76: =CI76+CJ76 -> 58 | CI76: 19 | CJ76: 39 | CK76: =CL76+CM76 -> 61 | CL76: 24 | CM76: 37 | CN76: =CO76+CP76 -> 46 | CO76: 25 | CP76: 21 | CQ76: =CR76+CS76 -> 45 | CR76: 12 | CS76: 33 | CT76: =CU76+CV76 -> 64 | CU76: 33 | CV76: 31 | CW76: =CX76+CY76 -> 36 | CX76: 10 | CY76: 26 | CZ76: =DA76+DB76 -> 46 | DA76: 23 | DB76: 23
A77: 58 | B77: =C77+D77 -> 2088 | C77: =F77+I77+L77+O77+R77+U77+X77+AA77+AD77+AG77+AJ77+AM77+AP77+AS77+AV77+AY77+BB77+BE77+BH77+BK77+BN77+BQ77+BT77+BW77+BZ77+CC77+CF77+CI77+CL77+CO77+CR77+CU77+CX77+DA77 -> 849 | D77: =G77+J77+M77+P77+S77+V77+Y77+AB77+AE77+AH77+AK77+AN77+AQ77+AT77+AW77+AZ77+BC77+BF77+BI77+BL77+BO77+BR77+BU77+BX77+CA77+CD77+CG77+CJ77+CM77+CP77+CS77+CV77+CY77+DB77 -> 1239 | E77: =F77+G77 -> 102 | F77: 45 | G77: 57 | H77: =I77+J77 -> 76 | I77: 21 | J77: 55 | K77: =L77+M77 -> 72 | L77: 23 | M77: 49 | N77: =O77+P77 -> 84 | O77: 31 | P77: 53 | Q77: =R77+S77 -> 53 | R77: 25 | S77: 28 | T77: =U77+V77 -> 79 | U77: 30 | V77: 49 | W77: =X77+Y77 -> 56 | X77: 28 | Y77: 28 | Z77: =AA77+AB77 -> 57 | AA77: 29 | AB77: 28 | AC77: =AD77+AE77 -> 65 | AD77: 22 | AE77: 43 | AF77: =AG77+AH77 -> 72 | AG77: 34 | AH77: 38 | AI77: =AJ77+AK77 -> 56 | AJ77: 25 | AK77: 31 | AL77: =AM77+AN77 -> 55 | AM77: 23 | AN77: 32 | AO77: =AP77+AQ77 -> 34 | AP77: 17 | AQ77: 17 | AR77: =AS77+AT77 -> 57 | AS77: 23 | AT77: 34 | AU77: =AV77+AW77 -> 41 | AV77: 16 | AW77: 25 | AX77: =AY77+AZ77 -> 65 | AY77: 32 | AZ77: 33 | BA77: =BB77+BC77 -> 62 | BB77: 26 | BC77: 36 | BD77: =BE77+BF77 -> 85 | BE77: 34 | BF77: 51 | BG77: =BH77+BI77 -> 78 | BH77: 32 | BI77: 46 | BJ77: =BK77+BL77 -> 29 | BK77: 15 | BL77: 14 | BM77: =BN77+BO77 -> 55 | BN77: 21 | BO77: 34 | BP77: =BQ77+BR77 -> 71 | BQ77: 29 | BR77: 42 | BS77: =BT77+BU77 -> 77 | BT77: 34 | BU77: 43 | BV77: =BW77+BX77 -> 72 | BW77: 28 | BX77: 44 | BY77: =BZ77+CA77 -> 45 | BZ77: 13 | CA77: 32 | CB77: =CC77+CD77 -> 73 | CC77: 23 | CD77: 50 | CE77: =CF77+CG77 -> 54 | CF77: 22 | CG77: 32 | CH77: =CI77+CJ77 -> 58 | CI77: 23 | CJ77: 35 | CK77: =CL77+CM77 -> 52 | CL77: 23 | CM77: 29 | CN77: =CO77+CP77 -> 49 | CO77: 25 | CP77: 24 | CQ77: =CR77+CS77 -> 48 | CR77: 19 | CS77: 29 | CT77: =CU77+CV77 -> 59 | CU77: 26 | CV77: 33 | CW77: =CX77+CY77 -> 58 | CX77: 20 | CY77: 38 | CZ77: =DA77+DB77 -> 39 | DA77: 12 | DB77: 27
A78: 59 | B78: =C78+D78 -> 2072 | C78: =F78+I78+L78+O78+R78+U78+X78+AA78+AD78+AG78+AJ78+AM78+AP78+AS78+AV78+AY78+BB78+BE78+BH78+BK78+BN78+BQ78+BT78+BW78+BZ78+CC78+CF78+CI78+CL78+CO78+CR78+CU78+CX78+DA78 -> 820 | D78: =G78+J78+M78+P78+S78+V78+Y78+AB78+AE78+AH78+AK78+AN78+AQ78+AT78+AW78+AZ78+BC78+BF78+BI78+BL78+BO78+BR78+BU78+BX78+CA78+CD78+CG78+CJ78+CM78+CP78+CS78+CV78+CY78+DB78 -> 1252 | E78: =F78+G78 -> 100 | F78: 41 | G78: 59 | H78: =I78+J78 -> 81 | I78: 28 | J78: 53 | K78: =L78+M78 -> 63 | L78: 26 | M78: 37 | N78: =O78+P78 -> 78 | O78: 31 | P78: 47 | Q78: =R78+S78 -> 63 | R78: 20 | S78: 43 | T78: =U78+V78 -> 84 | U78: 32 | V78: 52 | W78: =X78+Y78 -> 62 | X78: 19 | Y78: 43 | Z78: =AA78+AB78 -> 74 | AA78: 26 | AB78: 48 | AC78: =AD78+AE78 -> 73 | AD78: 27 | AE78: 46 | AF78: =AG78+AH78 -> 73 | AG78: 33 | AH78: 40 | AI78: =AJ78+AK78 -> 56 | AJ78: 18 | AK78: 38 | AL78: =AM78+AN78 -> 51 | AM78: 26 | AN78: 25 | AO78: =AP78+AQ78 -> 44 | AP78: 16 | AQ78: 28 | AR78: =AS78+AT78 -> 31 | AS78: 13 | AT78: 18 | AU78: =AV78+AW78 -> 57 | AV78: 24 | AW78: 33 | AX78: =AY78+AZ78 -> 54 | AY78: 21 | AZ78: 33 | BA78: =BB78+BC78 -> 66 | BB78: 25 | BC78: 41 | BD78: =BE78+BF78 -> 85 | BE78: 39 | BF78: 46 | BG78: =BH78+BI78 -> 75 | BH78: 28 | BI78: 47 | BJ78: =BK78+BL78 -> 43 | BK78: 21 | BL78: 22 | BM78: =BN78+BO78 -> 55 | BN78: 24 | BO78: 31 | BP78: =BQ78+BR78 -> 64 | BQ78: 31 | BR78: 33 | BS78: =BT78+BU78 -> 64 | BT78: 31 | BU78: 33 | BV78: =BW78+BX78 -> 82 | BW78: 28 | BX78: 54 | BY78: =BZ78+CA78 -> 56 | BZ78: 21 | CA78: 35 | CB78: =CC78+CD78 -> 74 | CC78: 29 | CD78: 45 | CE78: =CF78+CG78 -> 47 | CF78: 15 | CG78: 32 | CH78: =CI78+CJ78 -> 54 | CI78: 20 | CJ78: 34 | CK78: =CL78+CM78 -> 47 | CL78: 21 | CM78: 26 | CN78: =CO78+CP78 -> 50 | CO78: 24 | CP78: 26 | CQ78: =CR78+CS78 -> 30 | CR78: 13 | CS78: 17 | CT78: =CU78+CV78 -> 57 | CU78: 23 | CV78: 34 | CW78: =CX78+CY78 -> 34 | CX78: 8 | CY78: 26 | CZ78: =DA78+DB78 -> 45 | DA78: 18 | DB78: 27
A79: 60-64 | B79: =C79+D79 -> 8950 | C79: =F79+I79+L79+O79+R79+U79+X79+AA79+AD79+AG79+AJ79+AM79+AP79+AS79+AV79+AY79+BB79+BE79+BH79+BK79+BN79+BQ79+BT79+BW79+BZ79+CC79+CF79+CI79+CL79+CO79+CR79+CU79+CX79+DA79 -> 3544 | D79: =G79+J79+M79+P79+S79+V79+Y79+AB79+AE79+AH79+AK79+AN79+AQ79+AT79+AW79+AZ79+BC79+BF79+BI79+BL79+BO79+BR79+BU79+BX79+CA79+CD79+CG79+CJ79+CM79+CP79+CS79+CV79+CY79+DB79 -> 5406 | E79: =F79+G79 -> 373 | F79: 129 | G79: 244 | H79: =I79+J79 -> 365 | I79: 131 | J79: 234 | K79: =L79+M79 -> 316 | L79: 112 | M79: 204 | N79: =O79+P79 -> 339 | O79: 149 | P79: 190 | Q79: =R79+S79 -> 240 | R79: 100 | S79: 140 | T79: =U79+V79 -> 383 | U79: 156 | V79: 227 | W79: =X79+Y79 -> 247 | X79: 95 | Y79: 152 | Z79: =AA79+AB79 -> 265 | AA79: 108 | AB79: 157 | AC79: =AD79+AE79 -> 295 | AD79: 122 | AE79: 173 | AF79: =AG79+AH79 -> 360 | AG79: 147 | AH79: 213 | AI79: =AJ79+AK79 -> 249 | AJ79: 112 | AK79: 137 | AL79: =AM79+AN79 -> 225 | AM79: 86 | AN79: 139 | AO79: =AP79+AQ79 -> 150 | AP79: 58 | AQ79: 92 | AR79: =AS79+AT79 -> 183 | AS79: 85 | AT79: 98 | AU79: =AV79+AW79 -> 174 | AV79: 67 | AW79: 107 | AX79: =AY79+AZ79 -> 286 | AY79: 137 | AZ79: 149 | BA79: =BB79+BC79 -> 303 | BB79: 127 | BC79: 176 | BD79: =BE79+BF79 -> 361 | BE79: 138 | BF79: 223 | BG79: =BH79+BI79 -> 293 | BH79: 123 | BI79: 170 | BJ79: =BK79+BL79 -> 139 | BK79: 55 | BL79: 84 | BM79: =BN79+BO79 -> 255 | BN79: 118 | BO79: 137 | BP79: =BQ79+BR79 -> 261 | BQ79: 114 | BR79: 147 | BS79: =BT79+BU79 -> 252 | BT79: 104 | BU79: 148 | BV79: =BW79+BX79 -> 375 | BW79: 134 | BX79: 241 | BY79: =BZ79+CA79 -> 221 | BZ79: 90 | CA79: 131 | CB79: =CC79+CD79 -> 375 | CC79: 134 | CD79: 241 | CE79: =CF79+CG79 -> 194 | CF79: 82 | CG79: 112 | CH79: =CI79+CJ79 -> 231 | CI79: 80 | CJ79: 151 | CK79: =CL79+CM79 -> 210 | CL79: 88 | CM79: 122 | CN79: =CO79+CP79 -> 201 | CO79: 59 | CP79: 142 | CQ79: =CR79+CS79 -> 169 | CR79: 66 | CS79: 103 | CT79: =CU79+CV79 -> 248 | CU79: 78 | CV79: 170 | CW79: =CX79+CY79 -> 227 | CX79: 87 | CY79: 140 | CZ79: =DA79+DB79 -> 185 | DA79: 73 | DB79: 112
A80: 60 | B80: =C80+D80 -> 1789 | C80: =F80+I80+L80+O80+R80+U80+X80+AA80+AD80+AG80+AJ80+AM80+AP80+AS80+AV80+AY80+BB80+BE80+BH80+BK80+BN80+BQ80+BT80+BW80+BZ80+CC80+CF80+CI80+CL80+CO80+CR80+CU80+CX80+DA80 -> 751 | D80: =G80+J80+M80+P80+S80+V80+Y80+AB80+AE80+AH80+AK80+AN80+AQ80+AT80+AW80+AZ80+BC80+BF80+BI80+BL80+BO80+BR80+BU80+BX80+CA80+CD80+CG80+CJ80+CM80+CP80+CS80+CV80+CY80+DB80 -> 1038 | E80: =F80+G80 -> 74 | F80: 28 | G80: 46 | H80: =I80+J80 -> 65 | I80: 30 | J80: 35 | K80: =L80+M80 -> 64 | L80: 17 | M80: 47 | N80: =O80+P80 -> 65 | O80: 37 | P80: 28 | Q80: =R80+S80 -> 44 | R80: 18 | S80: 26 | T80: =U80+V80 -> 99 | U80: 43 | V80: 56 | W80: =X80+Y80 -> 46 | X80: 26 | Y80: 20 | Z80: =AA80+AB80 -> 60 | AA80: 24 | AB80: 36 | AC80: =AD80+AE80 -> 48 | AD80: 21 | AE80: 27 | AF80: =AG80+AH80 -> 57 | AG80: 20 | AH80: 37 | AI80: =AJ80+AK80 -> 63 | AJ80: 29 | AK80: 34 | AL80: =AM80+AN80 -> 43 | AM80: 17 | AN80: 26 | AO80: =AP80+AQ80 -> 29 | AP80: 12 | AQ80: 17 | AR80: =AS80+AT80 -> 44 | AS80: 25 | AT80: 19 | AU80: =AV80+AW80 -> 36 | AV80: 15 | AW80: 21 | AX80: =AY80+AZ80 -> 61 | AY80: 29 | AZ80: 32 | BA80: =BB80+BC80 -> 63 | BB80: 23 | BC80: 40 | BD80: =BE80+BF80 -> 82 | BE80: 37 | BF80: 45 | BG80: =BH80+BI80 -> 66 | BH80: 32 | BI80: 34 | BJ80: =BK80+BL80 -> 37 | BK80: 16 | BL80: 21 | BM80: =BN80+BO80 -> 57 | BN80: 22 | BO80: 35 | BP80: =BQ80+BR80 -> 55 | BQ80: 27 | BR80: 28 | BS80: =BT80+BU80 -> 54 | BT80: 22 | BU80: 32 | BV80: =BW80+BX80 -> 80 | BW80: 27 | BX80: 53 | BY80: =BZ80+CA80 -> 40 | BZ80: 18 | CA80: 22 | CB80: =CC80+CD80 -> 51 | CC80: 20 | CD80: 31 | CE80: =CF80+CG80 -> 38 | CF80: 15 | CG80: 23 | CH80: =CI80+CJ80 -> 48 | CI80: 13 | CJ80: 35 | CK80: =CL80+CM80 -> 47 | CL80: 20 | CM80: 27 | CN80: =CO80+CP80 -> 32 | CO80: 15 | CP80: 17 | CQ80: =CR80+CS80 -> 30 | CR80: 10 | CS80: 20 | CT80: =CU80+CV80 -> 33 | CU80: 12 | CV80: 21 | CW80: =CX80+CY80 -> 41 | CX80: 15 | CY80: 26 | CZ80: =DA80+DB80 -> 37 | DA80: 16 | DB80: 21
A81: 61 | B81: =C81+D81 -> 1982 | C81: =F81+I81+L81+O81+R81+U81+X81+AA81+AD81+AG81+AJ81+AM81+AP81+AS81+AV81+AY81+BB81+BE81+BH81+BK81+BN81+BQ81+BT81+BW81+BZ81+CC81+CF81+CI81+CL81+CO81+CR81+CU81+CX81+DA81 -> 793 | D81: =G81+J81+M81+P81+S81+V81+Y81+AB81+AE81+AH81+AK81+AN81+AQ81+AT81+AW81+AZ81+BC81+BF81+BI81+BL81+BO81+BR81+BU81+BX81+CA81+CD81+CG81+CJ81+CM81+CP81+CS81+CV81+CY81+DB81 -> 1189 | E81: =F81+G81 -> 94 | F81: 36 | G81: 58 | H81: =I81+J81 -> 84 | I81: 31 | J81: 53 | K81: =L81+M81 -> 79 | L81: 23 | M81: 56 | N81: =O81+P81 -> 76 | O81: 31 | P81: 45 | Q81: =R81+S81 -> 55 | R81: 20 | S81: 35 | T81: =U81+V81 -> 78 | U81: 34 | V81: 44 | W81: =X81+Y81 -> 59 | X81: 21 | Y81: 38 | Z81: =AA81+AB81 -> 55 | AA81: 25 | AB81: 30 | AC81: =AD81+AE81 -> 69 | AD81: 29 | AE81: 40 | AF81: =AG81+AH81 -> 78 | AG81: 35 | AH81: 43 | AI81: =AJ81+AK81 -> 53 | AJ81: 21 | AK81: 32 | AL81: =AM81+AN81 -> 37 | AM81: 14 | AN81: 23 | AO81: =AP81+AQ81 -> 32 | AP81: 15 | AQ81: 17 | AR81: =AS81+AT81 -> 39 | AS81: 16 | AT81: 23 | AU81: =AV81+AW81 -> 45 | AV81: 17 | AW81: 28 | AX81: =AY81+AZ81 -> 61 | AY81: 36 | AZ81: 25 | BA81: =BB81+BC81 -> 54 | BB81: 26 | BC81: 28 | BD81: =BE81+BF81 -> 84 | BE81: 29 | BF81: 55 | BG81: =BH81+BI81 -> 55 | BH81: 19 | BI81: 36 | BJ81: =BK81+BL81 -> 30 | BK81: 17 | BL81: 13 | BM81: =BN81+BO81 -> 49 | BN81: 25 | BO81: 24 | BP81: =BQ81+BR81 -> 60 | BQ81: 24 | BR81: 36 | BS81: =BT81+BU81 -> 55 | BT81: 21 | BU81: 34 | BV81: =BW81+BX81 -> 82 | BW81: 30 | BX81: 52 | BY81: =BZ81+CA81 -> 51 | BZ81: 22 | CA81: 29 | CB81: =CC81+CD81 -> 92 | CC81: 33 | CD81: 59 | CE81: =CF81+CG81 -> 55 | CF81: 25 | CG81: 30 | CH81: =CI81+CJ81 -> 46 | CI81: 18 | CJ81: 28 | CK81: =CL81+CM81 -> 46 | CL81: 24 | CM81: 22 | CN81: =CO81+CP81 -> 40 | CO81: 11 | CP81: 29 | CQ81: =CR81+CS81 -> 42 | CR81: 17 | CS81: 25 | CT81: =CU81+CV81 -> 60 | CU81: 14 | CV81: 46 | CW81: =CX81+CY81 -> 53 | CX81: 19 | CY81: 34 | CZ81: =DA81+DB81 -> 34 | DA81: 15 | DB81: 19
