Workbook
Name Print_Title: #REF!
Name titlee3: #REF!
Name Titles_Printer: #REF!

Sheet Baganuur
A1: БАГАНУУР ДҮҮРГИЙН ХҮН АМЫН ТОО /2026.01.01/
B2: =B7+B13+B19+B26+B27+B28+B29 -> 10821
A3: Нас | B3: Багануур дүүрэг | E3: 1-р хороо | H3: 2-р хороо | K3: 3-р хороо | N3: 4-р хороо | Q3: 5-р хороо
B4: бүгд | C4: эр | D4: эм | E4: бүгд | F4: эр | G4: эм | H4: бүгд | I4: эр | J4: эм | K4: бүгд | L4: эр | M4: эм | N4: бүгд | O4: эр | P4: эм | Q4: бүгд | R4: эр | S4: эм
A5: Өрх | B5: =E5+H5+K5+N5+Q5 -> 8855 | E5: 2622 | H5: 240 | K5: 2306 | N5: 1816 | Q5: 1871
A6: ХҮН АМ | B6: =B7+B13+B19+B25+B31+B37+B43+B49+B55+B61+B67+B73+B79+B85+B91+B97+B103+B109+B115+B121+B127 -> 28949 | C6: =C7+C13+C19+C25+C31+C37+C43+C49+C55+C61+C67+C73+C79+C85+C91+C97+C103+C109+C115+C121+C127 -> 14153 | D6: =D7+D13+D19+D25+D31+D37+D43+D49+D55+D61+D67+D73+D79+D85+D91+D97+D103+D109+D115+D121+D127 -> 14796 | E6: =E7+E13+E19+E25+E31+E37+E43+E49+E55+E61+E67+E73+E79+E85+E91+E97+E103+E109+E115+E121+E127 -> 8516 | F6: =F7+F13+F19+F25+F31+F37+F43+F49+F55+F61+F67+F73+F79+F85+F91+F97+F103+F109+F115+F121+F127 -> 4088 | G6: =G7+G13+G19+G25+G31+G37+G43+G49+G55+G61+G67+G73+G79+G85+G91+G97+G103+G109+G115+G121+G127 -> 4428 | H6: =H7+H13+H19+H25+H31+H37+H43+H49+H55+H61+H67+H73+H79+H85+H91+H97+H103+H109+H115+H121+H127 -> 699 | I6: =I7+I13+I19+I25+I31+I37+I43+I49+I55+I61+I67+I73+I79+I85+I91+I97+I103+I109+I115+I121+I127 -> 357 | ... S6: =S7+S13+S19+S25+S31+S37+S43+S49+S55+S61+S67+S73+S79+S85+S91+S97+S103+S109+S115+S121+S127 -> 3054
A7: 0-4 | B7: =C7+D7 -> 2516 | C7: =F7+I7+L7+O7+R7 -> 1282 | D7: =G7+J7+M7+P7+S7 -> 1234 | E7: =F7+G7 -> 645 | F7: 307 | G7: 338 | H7: =I7+J7 -> 49 | I7: 32 | J7: 17 | K7: =L7+M7 -> 652 | L7: 333 | M7: 319 | N7: =O7+P7 -> 607 | O7: 317 | P7: 290 | Q7: =R7+S7 -> 563 | R7: 293 | S7: 270
A8: 0 | B8: =C8+D8 -> 455 | C8: =F8+I8+L8+O8+R8 -> 230 | D8: =G8+J8+M8+P8+S8 -> 225 | E8: =F8+G8 -> 110 | F8: 54 | G8: 56 | H8: =I8+J8 -> 7 | I8: 5 | J8: 2 | K8: =L8+M8 -> 107 | L8: 53 | M8: 54 | N8: =O8+P8 -> 132 | O8: 71 | P8: 61 | Q8: =R8+S8 -> 99 | R8: 47 | S8: 52
A9: 1 | B9: =C9+D9 -> 455 | C9: =F9+I9+L9+O9+R9 -> 241 | D9: =G9+J9+M9+P9+S9 -> 214 | E9: =F9+G9 -> 127 | F9: 64 | G9: 63 | H9: =I9+J9 -> 6 | I9: 6 | J9: 0 | K9: =L9+M9 -> 114 | L9: 59 | M9: 55 | N9: =O9+P9 -> 102 | O9: 54 | P9: 48 | Q9: =R9+S9 -> 106 | R9: 58 | S9: 48
A10: 2 | B10: =C10+D10 -> 515 | C10: =F10+I10+L10+O10+R10 -> 269 | D10: =G10+J10+M10+P10+S10 -> 246 | E10: =F10+G10 -> 132 | F10: 67 | G10: 65 | H10: =I10+J10 -> 10 | I10: 6 | J10: 4 | K10: =L10+M10 -> 130 | L10: 66 | M10: 64 | N10: =O10+P10 -> 116 | O10: 64 | P10: 52 | Q10: =R10+S10 -> 127 | R10: 66 | S10: 61
A11: 3 | B11: =C11+D11 -> 532 | C11: =F11+I11+L11+O11+R11 -> 272 | D11: =G11+J11+M11+P11+S11 -> 260 | E11: =F11+G11 -> 130 | F11: 57 | G11: 73 | H11: =I11+J11 -> 12 | I11: 9 | J11: 3 | K11: =L11+M11 -> 153 | L11: 81 | M11: 72 | N11: =O11+P11 -> 121 | O11: 60 | P11: 61 | Q11: =R11+S11 -> 116 | R11: 65 | S11: 51
A12: 4 | B12: =C12+D12 -> 559 | C12: =F12+I12+L12+O12+R12 -> 270 | D12: =G12+J12+M12+P12+S12 -> 289 | E12: =F12+G12 -> 146 | F12: 65 | G12: 81 | H12: =I12+J12 -> 14 | I12: 6 | J12: 8 | K12: =L12+M12 -> 148 | L12: 74 | M12: 74 | N12: =O12+P12 -> 136 | O12: 68 | P12: 68 | Q12: =R12+S12 -> 115 | R12: 57 | S12: 58
A13: 5-9 | B13: =C13+D13 -> 2907 | C13: =F13+I13+L13+O13+R13 -> 1504 | D13: =G13+J13+M13+P13+S13 -> 1403 | E13: =F13+G13 -> 875 | F13: 439 | G13: 436 | H13: =I13+J13 -> 56 | I13: 28 | J13: 28 | K13: =L13+M13 -> 785 | L13: 408 | M13: 377 | N13: =O13+P13 -> 611 | O13: 311 | P13: 300 | Q13: =R13+S13 -> 580 | R13: 318 | S13: 262
A14: 5 | B14: =C14+D14 -> 564 | C14: =F14+I14+L14+O14+R14 -> 271 | D14: =G14+J14+M14+P14+S14 -> 293 | E14: =F14+G14 -> 161 | F14: 92 | G14: 69 | H14: =I14+J14 -> 10 | I14: 3 | J14: 7 | K14: =L14+M14 -> 154 | L14: 72 | M14: 82 | N14: =O14+P14 -> 114 | O14: 43 | P14: 71 | Q14: =R14+S14 -> 125 | R14: 61 | S14: 64
A15: 6 | B15: =C15+D15 -> 602 | C15: =F15+I15+L15+O15+R15 -> 320 | D15: =G15+J15+M15+P15+S15 -> 282 | E15: =F15+G15 -> 180 | F15: 81 | G15: 99 | H15: =I15+J15 -> 14 | I15: 9 | J15: 5 | K15: =L15+M15 -> 146 | L15: 78 | M15: 68 | N15: =O15+P15 -> 139 | O15: 81 | P15: 58 | Q15: =R15+S15 -> 123 | R15: 71 | S15: 52
A16: 7 | B16: =C16+D16 -> 631 | C16: =F16+I16+L16+O16+R16 -> 328 | D16: =G16+J16+M16+P16+S16 -> 303 | E16: =F16+G16 -> 199 | F16: 96 | G16: 103 | H16: =I16+J16 -> 12 | I16: 3 | J16: 9 | K16: =L16+M16 -> 178 | L16: 93 | M16: 85 | N16: =O16+P16 -> 120 | O16: 65 | P16: 55 | Q16: =R16+S16 -> 122 | R16: 71 | S16: 51
A17: 8 | B17: =C17+D17 -> 552 | C17: =F17+I17+L17+O17+R17 -> 292 | D17: =G17+J17+M17+P17+S17 -> 260 | E17: =F17+G17 -> 159 | F17: 83 | G17: 76 | H17: =I17+J17 -> 11 | I17: 7 | J17: 4 | K17: =L17+M17 -> 141 | L17: 75 | M17: 66 | N17: =O17+P17 -> 132 | O17: 69 | P17: 63 | Q17: =R17+S17 -> 109 | R17: 58 | S17: 51
A18: 9 | B18: =C18+D18 -> 558 | C18: =F18+I18+L18+O18+R18 -> 293 | D18: =G18+J18+M18+P18+S18 -> 265 | E18: =F18+G18 -> 176 | F18: 87 | G18: 89 | H18: =I18+J18 -> 9 | I18: 6 | J18: 3 | K18: =L18+M18 -> 166 | L18: 90 | M18: 76 | N18: =O18+P18 -> 106 | O18: 53 | P18: 53 | Q18: =R18+S18 -> 101 | R18: 57 | S18: 44
A19: 10-14 | B19: =C19+D19 -> 3197 | C19: =F19+I19+L19+O19+R19 -> 1607 | D19: =G19+J19+M19+P19+S19 -> 1590 | E19: =F19+G19 -> 983 | F19: 509 | G19: 474 | H19: =I19+J19 -> 62 | I19: 34 | J19: 28 | K19: =L19+M19 -> 825 | L19: 404 | M19: 421 | N19: =O19+P19 -> 652 | O19: 330 | P19: 322 | Q19: =R19+S19 -> 675 | R19: 330 | S19: 345
A20: 10 | B20: =C20+D20 -> 601 | C20: =F20+I20+L20+O20+R20 -> 301 | D20: =G20+J20+M20+P20+S20 -> 300 | E20: =F20+G20 -> 208 | F20: 111 | G20: 97 | H20: =I20+J20 -> 10 | I20: 7 | J20: 3 | K20: =L20+M20 -> 135 | L20: 69 | M20: 66 | N20: =O20+P20 -> 133 | O20: 61 | P20: 72 | Q20: =R20+S20 -> 115 | R20: 53 | S20: 62
A21: 11 | B21: =C21+D21 -> 665 | C21: =F21+I21+L21+O21+R21 -> 346 | D21: =G21+J21+M21+P21+S21 -> 319 | E21: =F21+G21 -> 211 | F21: 117 | G21: 94 | H21: =I21+J21 -> 12 | I21: 8 | J21: 4 | K21: =L21+M21 -> 168 | L21: 89 | M21: 79 | N21: =O21+P21 -> 137 | O21: 68 | P21: 69 | Q21: =R21+S21 -> 137 | R21: 64 | S21: 73
A22: 12 | B22: =C22+D22 -> 704 | C22: =F22+I22+L22+O22+R22 -> 360 | D22: =G22+J22+M22+P22+S22 -> 344 | E22: =F22+G22 -> 212 | F22: 113 | G22: 99 | H22: =I22+J22 -> 13 | I22: 6 | J22: 7 | K22: =L22+M22 -> 179 | L22: 81 | M22: 98 | N22: =O22+P22 -> 140 | O22: 71 | P22: 69 | Q22: =R22+S22 -> 160 | R22: 89 | S22: 71
A23: 13 | B23: =C23+D23 -> 634 | C23: =F23+I23+L23+O23+R23 -> 309 | D23: =G23+J23+M23+P23+S23 -> 325 | E23: =F23+G23 -> 182 | F23: 89 | G23: 93 | H23: =I23+J23 -> 10 | I23: 4 | J23: 6 | K23: =L23+M23 -> 172 | L23: 83 | M23: 89 | N23: =O23+P23 -> 132 | O23: 72 | P23: 60 | Q23: =R23+S23 -> 138 | R23: 61 | S23: 77
A24: 14 | B24: =C24+D24 -> 593 | C24: =F24+I24+L24+O24+R24 -> 291 | D24: =G24+J24+M24+P24+S24 -> 302 | E24: =F24+G24 -> 170 | F24: 79 | G24: 91 | H24: =I24+J24 -> 17 | I24: 9 | J24: 8 | K24: =L24+M24 -> 171 | L24: 82 | M24: 89 | N24: =O24+P24 -> 110 | O24: 58 | P24: 52 | Q24: =R24+S24 -> 125 | R24: 63 | S24: 62
A25: 15-19 | B25: =C25+D25 -> 2554 | C25: =F25+I25+L25+O25+R25 -> 1324 | D25: =G25+J25+M25+P25+S25 -> 1230 | E25: =F25+G25 -> 780 | F25: 391 | G25: 389 | H25: =I25+J25 -> 61 | I25: 31 | J25: 30 | K25: =L25+M25 -> 643 | L25: 324 | M25: 319 | N25: =O25+P25 -> 533 | O25: 280 | P25: 253 | Q25: =R25+S25 -> 537 | R25: 298 | S25: 239
A26: 15 | B26: =C26+D26 -> 548 | C26: =F26+I26+L26+O26+R26 -> 299 | D26: =G26+J26+M26+P26+S26 -> 249 | E26: =F26+G26 -> 175 | F26: 92 | G26: 83 | H26: =I26+J26 -> 9 | I26: 6 | J26: 3 | K26: =L26+M26 -> 137 | L26: 69 | M26: 68 | N26: =O26+P26 -> 116 | O26: 65 | P26: 51 | Q26: =R26+S26 -> 111 | R26: 67 | S26: 44
A27: 16 | B27: =C27+D27 -> 626 | C27: =F27+I27+L27+O27+R27 -> 319 | D27: =G27+J27+M27+P27+S27 -> 307 | E27: =F27+G27 -> 192 | F27: 90 | G27: 102 | H27: =I27+J27 -> 22 | I27: 11 | J27: 11 | K27: =L27+M27 -> 160 | L27: 86 | M27: 74 | N27: =O27+P27 -> 133 | O27: 68 | P27: 65 | Q27: =R27+S27 -> 119 | R27: 64 | S27: 55
A28: 17 | B28: =C28+D28 -> 571 | C28: =F28+I28+L28+O28+R28 -> 287 | D28: =G28+J28+M28+P28+S28 -> 284 | E28: =F28+G28 -> 186 | F28: 95 | G28: 91 | H28: =I28+J28 -> 15 | I28: 7 | J28: 8 | K28: =L28+M28 -> 145 | L28: 68 | M28: 77 | N28: =O28+P28 -> 109 | O28: 53 | P28: 56 | Q28: =R28+S28 -> 116 | R28: 64 | S28: 52
A29: 18 | B29: =C29+D29 -> 456 | C29: =F29+I29+L29+O29+R29 -> 227 | D29: =G29+J29+M29+P29+S29 -> 229 | E29: =F29+G29 -> 144 | F29: 75 | G29: 69 | H29: =I29+J29 -> 10 | I29: 3 | J29: 7 | K29: =L29+M29 -> 110 | L29: 47 | M29: 63 | N29: =O29+P29 -> 84 | O29: 48 | P29: 36 | Q29: =R29+S29 -> 108 | R29: 54 | S29: 54
A30: 19 | B30: =C30+D30 -> 353 | C30: =F30+I30+L30+O30+R30 -> 192 | D30: =G30+J30+M30+P30+S30 -> 161 | E30: =F30+G30 -> 83 | F30: 39 | G30: 44 | H30: =I30+J30 -> 5 | I30: 4 | J30: 1 | K30: =L30+M30 -> 91 | L30: 54 | M30: 37 | N30: =O30+P30 -> 91 | O30: 46 | P30: 45 | Q30: =R30+S30 -> 83 | R30: 49 | S30: 34
A31: 20-24 | B31: =C31+D31 -> 1642 | C31: =F31+I31+L31+O31+R31 -> 866 | D31: =G31+J31+M31+P31+S31 -> 776 | E31: =F31+G31 -> 455 | F31: 235 | G31: 220 | H31: =I31+J31 -> 39 | I31: 21 | J31: 18 | K31: =L31+M31 -> 376 | L31: 204 | M31: 172 | N31: =O31+P31 -> 345 | O31: 170 | P31: 175 | Q31: =R31+S31 -> 427 | R31: 236 | S31: 191
A32: 20 | B32: =C32+D32 -> 327 | C32: =F32+I32+L32+O32+R32 -> 165 | D32: =G32+J32+M32+P32+S32 -> 162 | E32: =F32+G32 -> 85 | F32: 36 | G32: 49 | H32: =I32+J32 -> 11 | I32: 5 | J32: 6 | K32: =L32+M32 -> 81 | L32: 49 | M32: 32 | N32: =O32+P32 -> 79 | O32: 33 | P32: 46 | Q32: =R32+S32 -> 71 | R32: 42 | S32: 29
A33: 21 | B33: =C33+D33 -> 344 | C33: =F33+I33+L33+O33+R33 -> 179 | D33: =G33+J33+M33+P33+S33 -> 165 | E33: =F33+G33 -> 101 | F33: 51 | G33: 50 | H33: =I33+J33 -> 8 | I33: 2 | J33: 6 | K33: =L33+M33 -> 80 | L33: 41 | M33: 39 | N33: =O33+P33 -> 59 | O33: 31 | P33: 28 | Q33: =R33+S33 -> 96 | R33: 54 | S33: 42
A34: 22 | B34: =C34+D34 -> 309 | C34: =F34+I34+L34+O34+R34 -> 159 | D34: =G34+J34+M34+P34+S34 -> 150 | E34: =F34+G34 -> 90 | F34: 52 | G34: 38 | H34: =I34+J34 -> 3 | I34: 1 | J34: 2 | K34: =L34+M34 -> 61 | L34: 33 | M34: 28 | N34: =O34+P34 -> 69 | O34: 33 | P34: 36 | Q34: =R34+S34 -> 86 | R34: 40 | S34: 46
A35: 23 | B35: =C35+D35 -> 324 | C35: =F35+I35+L35+O35+R35 -> 176 | D35: =G35+J35+M35+P35+S35 -> 148 | E35: =F35+G35 -> 87 | F35: 48 | G35: 39 | H35: =I35+J35 -> 9 | I35: 6 | J35: 3 | K35: =L35+M35 -> 76 | L35: 35 | M35: 41 | N35: =O35+P35 -> 67 | O35: 39 | P35: 28 | Q35: =R35+S35 -> 85 | R35: 48 | S35: 37
A36: 24 | B36: =C36+D36 -> 338 | C36: =F36+I36+L36+O36+R36 -> 187 | D36: =G36+J36+M36+P36+S36 -> 151 | E36: =F36+G36 -> 92 | F36: 48 | G36: 44 | H36: =I36+J36 -> 8 | I36: 7 | J36: 1 | K36: =L36+M36 -> 78 | L36: 46 | M36: 32 | N36: =O36+P36 -> 71 | O36: 34 | P36: 37 | Q36: =R36+S36 -> 89 | R36: 52 | S36: 37
A37: 25-29 | B37: =C37+D37 -> 1742 | C37: =F37+I37+L37+O37+R37 -> 902 | D37: =G37+J37+M37+P37+S37 -> 840 | E37: =F37+G37 -> 466 | F37: 237 | G37: 229 | H37: =I37+J37 -> 44 | I37: 23 | J37: 21 | K37: =L37+M37 -> 467 | L37: 230 | M37: 237 | N37: =O37+P37 -> 368 | O37: 198 | P37: 170 | Q37: =R37+S37 -> 397 | R37: 214 | S37: 183
A38: 25 | B38: =C38+D38 -> 369 | C38: =F38+I38+L38+O38+R38 -> 209 | D38: =G38+J38+M38+P38+S38 -> 160 | E38: =F38+G38 -> 106 | F38: 62 | G38: 44 | H38: =I38+J38 -> 9 | I38: 6 | J38: 3 | K38: =L38+M38 -> 87 | L38: 48 | M38: 39 | N38: =O38+P38 -> 81 | O38: 48 | P38: 33 | Q38: =R38+S38 -> 86 | R38: 45 | S38: 41
A39: 26 | B39: =C39+D39 -> 339 | C39: =F39+I39+L39+O39+R39 -> 168 | D39: =G39+J39+M39+P39+S39 -> 171 | E39: =F39+G39 -> 103 | F39: 52 | G39: 51 | H39: =I39+J39 -> 10 | I39: 5 | J39: 5 | K39: =L39+M39 -> 83 | L39: 33 | M39: 50 | N39: =O39+P39 -> 70 | O39: 37 | P39: 33 | Q39: =R39+S39 -> 73 | R39: 41 | S39: 32
A40: 27 | B40: =C40+D40 -> 369 | C40: =F40+I40+L40+O40+R40 -> 199 | D40: =G40+J40+M40+P40+S40 -> 170 | E40: =F40+G40 -> 84 | F40: 45 | G40: 39 | H40: =I40+J40 -> 12 | I40: 5 | J40: 7 | K40: =L40+M40 -> 97 | L40: 55 | M40: 42 | N40: =O40+P40 -> 95 | O40: 51 | P40: 44 | Q40: =R40+S40 -> 81 | R40: 43 | S40: 38
...

Sheet Bagahangai
A1: БАГАХАНГАЙ ДҮҮРГИЙН ХҮН АМЫН ТОО /2026.01.01/
B2: =B7+B13+B19+B26+B27+B28+B29 -> 1553
A3: Нас | B3: Багахангай дүүрэг | E3: 1-р хороо | H3: 2-р хороо
B4: бүгд | C4: эр | D4: эм | E4: бүгд | F4: эр | G4: эм | H4: бүгд | I4: эр | J4: эм
A5: Өрх | B5: =E5+H5 -> 1272 | E5: 763 | H5: 509
A6: ХҮН АМ | B6: =B7+B13+B19+B25+B31+B37+B43+B49+B55+B61+B67+B73+B79+B85+B91+B97+B103+B109+B115+B121+B127 -> 4249 | C6: =C7+C13+C19+C25+C31+C37+C43+C49+C55+C61+C67+C73+C79+C85+C91+C97+C103+C109+C115+C121+C127 -> 2180 | D6: =D7+D13+D19+D25+D31+D37+D43+D49+D55+D61+D67+D73+D79+D85+D91+D97+D103+D109+D115+D121+D127 -> 2069 | E6: =E7+E13+E19+E25+E31+E37+E43+E49+E55+E61+E67+E73+E79+E85+E91+E97+E103+E109+E115+E121+E127 -> 2571 | F6: =F7+F13+F19+F25+F31+F37+F43+F49+F55+F61+F67+F73+F79+F85+F91+F97+F103+F109+F115+F121+F127 -> 1329 | G6: =G7+G13+G19+G25+G31+G37+G43+G49+G55+G61+G67+G73+G79+G85+G91+G97+G103+G109+G115+G121+G127 -> 1242 | H6: =H7+H13+H19+H25+H31+H37+H43+H49+H55+H61+H67+H73+H79+H85+H91+H97+H103+H109+H115+H121+H127 -> 1678 | I6: =I7+I13+I19+I25+I31+I37+I43+I49+I55+I61+I67+I73+I79+I85+I91+I97+I103+I109+I115+I121+I127 -> 851 | J6: =J7+J13+J19+J25+J31+J37+J43+J49+J55+J61+J67+J73+J79+J85+J91+J97+J103+J109+J115+J121+J127 -> 827
A7: 0-4 | B7: =C7+D7 -> 384 | C7: =F7+I7 -> 204 | D7: =G7+J7 -> 180 | E7: =F7+G7 -> 256 | F7: 142 | G7: 114 | H7: =I7+J7 -> 128 | I7: 62 | J7: 66
A8: 0 | B8: =C8+D8 -> 75 | C8: =F8+I8 -> 43 | D8: =G8+J8 -> 32 | E8: =F8+G8 -> 51 | F8: 28 | G8: 23 | H8: =I8+J8 -> 24 | I8: 15 | J8: 9
A9: 1 | B9: =C9+D9 -> 79 | C9: =F9+I9 -> 41 | D9: =G9+J9 -> 38 | E9: =F9+G9 -> 55 | F9: 30 | G9: 25 | H9: =I9+J9 -> 24 | I9: 11 | J9: 13
A10: 2 | B10: =C10+D10 -> 63 | C10: =F10+I10 -> 26 | D10: =G10+J10 -> 37 | E10: =F10+G10 -> 42 | F10: 19 | G10: 23 | H10: =I10+J10 -> 21 | I10: 7 | J10: 14
A11: 3 | B11: =C11+D11 -> 79 | C11: =F11+I11 -> 45 | D11: =G11+J11 -> 34 | E11: =F11+G11 -> 51 | F11: 31 | G11: 20 | H11: =I11+J11 -> 28 | I11: 14 | J11: 14
A12: 4 | B12: =C12+D12 -> 88 | C12: =F12+I12 -> 49 | D12: =G12+J12 -> 39 | E12: =F12+G12 -> 57 | F12: 34 | G12: 23 | H12: =I12+J12 -> 31 | I12: 15 | J12: 16
A13: 5-9 | B13: =C13+D13 -> 457 | C13: =F13+I13 -> 219 | D13: =G13+J13 -> 238 | E13: =F13+G13 -> 267 | F13: 125 | G13: 142 | H13: =I13+J13 -> 190 | I13: 94 | J13: 96
A14: 5 | B14: =C14+D14 -> 88 | C14: =F14+I14 -> 40 | D14: =G14+J14 -> 48 | E14: =F14+G14 -> 50 | F14: 19 | G14: 31 | H14: =I14+J14 -> 38 | I14: 21 | J14: 17
A15: 6 | B15: =C15+D15 -> 91 | C15: =F15+I15 -> 41 | D15: =G15+J15 -> 50 | E15: =F15+G15 -> 53 | F15: 24 | G15: 29 | H15: =I15+J15 -> 38 | I15: 17 | J15: 21
A16: 7 | B16: =C16+D16 -> 98 | C16: =F16+I16 -> 46 | D16: =G16+J16 -> 52 | E16: =F16+G16 -> 62 | F16: 29 | G16: 33 | H16: =I16+J16 -> 36 | I16: 17 | J16: 19
A17: 8 | B17: =C17+D17 -> 93 | C17: =F17+I17 -> 47 | D17: =G17+J17 -> 46 | E17: =F17+G17 -> 46 | F17: 24 | G17: 22 | H17: =I17+J17 -> 47 | I17: 23 | J17: 24
A18: 9 | B18: =C18+D18 -> 87 | C18: =F18+I18 -> 45 | D18: =G18+J18 -> 42 | E18: =F18+G18 -> 56 | F18: 29 | G18: 27 | H18: =I18+J18 -> 31 | I18: 16 | J18: 15
A19: 10-14 | B19: =C19+D19 -> 440 | C19: =F19+I19 -> 220 | D19: =G19+J19 -> 220 | E19: =F19+G19 -> 273 | F19: 139 | G19: 134 | H19: =I19+J19 -> 167 | I19: 81 | J19: 86
A20: 10 | B20: =C20+D20 -> 85 | C20: =F20+I20 -> 41 | D20: =G20+J20 -> 44 | E20: =F20+G20 -> 53 | F20: 30 | G20: 23 | H20: =I20+J20 -> 32 | I20: 11 | J20: 21
A21: 11 | B21: =C21+D21 -> 99 | C21: =F21+I21 -> 51 | D21: =G21+J21 -> 48 | E21: =F21+G21 -> 60 | F21: 29 | G21: 31 | H21: =I21+J21 -> 39 | I21: 22 | J21: 17
A22: 12 | B22: =C22+D22 -> 93 | C22: =F22+I22 -> 48 | D22: =G22+J22 -> 45 | E22: =F22+G22 -> 62 | F22: 32 | G22: 30 | H22: =I22+J22 -> 31 | I22: 16 | J22: 15
A23: 13 | B23: =C23+D23 -> 81 | C23: =F23+I23 -> 39 | D23: =G23+J23 -> 42 | E23: =F23+G23 -> 54 | F23: 28 | G23: 26 | H23: =I23+J23 -> 27 | I23: 11 | J23: 16
A24: 14 | B24: =C24+D24 -> 82 | C24: =F24+I24 -> 41 | D24: =G24+J24 -> 41 | E24: =F24+G24 -> 44 | F24: 20 | G24: 24 | H24: =I24+J24 -> 38 | I24: 21 | J24: 17
A25: 15-19 | B25: =C25+D25 -> 329 | C25: =F25+I25 -> 189 | D25: =G25+J25 -> 140 | E25: =F25+G25 -> 193 | F25: 111 | G25: 82 | H25: =I25+J25 -> 136 | I25: 78 | J25: 58
A26: 15 | B26: =C26+D26 -> 73 | C26: =F26+I26 -> 43 | D26: =G26+J26 -> 30 | E26: =F26+G26 -> 43 | F26: 24 | G26: 19 | H26: =I26+J26 -> 30 | I26: 19 | J26: 11
A27: 16 | B27: =C27+D27 -> 67 | C27: =F27+I27 -> 33 | D27: =G27+J27 -> 34 | E27: =F27+G27 -> 45 | F27: 23 | G27: 22 | H27: =I27+J27 -> 22 | I27: 10 | J27: 12
A28: 17 | B28: =C28+D28 -> 73 | C28: =F28+I28 -> 43 | D28: =G28+J28 -> 30 | E28: =F28+G28 -> 46 | F28: 26 | G28: 20 | H28: =I28+J28 -> 27 | I28: 17 | J28: 10
A29: 18 | B29: =C29+D29 -> 59 | C29: =F29+I29 -> 35 | D29: =G29+J29 -> 24 | E29: =F29+G29 -> 32 | F29: 19 | G29: 13 | H29: =I29+J29 -> 27 | I29: 16 | J29: 11
A30: 19 | B30: =C30+D30 -> 57 | C30: =F30+I30 -> 35 | D30: =G30+J30 -> 22 | E30: =F30+G30 -> 27 | F30: 19 | G30: 8 | H30: =I30+J30 -> 30 | I30: 16 | J30: 14
A31: 20-24 | B31: =C31+D31 -> 234 | C31: =F31+I31 -> 129 | D31: =G31+J31 -> 105 | E31: =F31+G31 -> 137 | F31: 71 | G31: 66 | H31: =I31+J31 -> 97 | I31: 58 | J31: 39
A32: 20 | B32: =C32+D32 -> 48 | C32: =F32+I32 -> 25 | D32: =G32+J32 -> 23 | E32: =F32+G32 -> 29 | F32: 13 | G32: 16 | H32: =I32+J32 -> 19 | I32: 12 | J32: 7
A33: 21 | B33: =C33+D33 -> 49 | C33: =F33+I33 -> 30 | D33: =G33+J33 -> 19 | E33: =F33+G33 -> 31 | F33: 17 | G33: 14 | H33: =I33+J33 -> 18 | I33: 13 | J33: 5
A34: 22 | B34: =C34+D34 -> 41 | C34: =F34+I34 -> 23 | D34: =G34+J34 -> 18 | E34: =F34+G34 -> 20 | F34: 10 | G34: 10 | H34: =I34+J34 -> 21 | I34: 13 | J34: 8
A35: 23 | B35: =C35+D35 -> 45 | C35: =F35+I35 -> 26 | D35: =G35+J35 -> 19 | E35: =F35+G35 -> 25 | F35: 14 | G35: 11 | H35: =I35+J35 -> 20 | I35: 12 | J35: 8
A36: 24 | B36: =C36+D36 -> 51 | C36: =F36+I36 -> 25 | D36: =G36+J36 -> 26 | E36: =F36+G36 -> 32 | F36: 17 | G36: 15 | H36: =I36+J36 -> 19 | I36: 8 | J36: 11
A37: 25-29 | B37: =C37+D37 -> 268 | C37: =F37+I37 -> 147 | D37: =G37+J37 -> 121 | E37: =F37+G37 -> 160 | F37: 83 | G37: 77 | H37: =I37+J37 -> 108 | I37: 64 | J37: 44
A38: 25 | B38: =C38+D38 -> 63 | C38: =F38+I38 -> 35 | D38: =G38+J38 -> 28 | E38: =F38+G38 -> 33 | F38: 15 | G38: 18 | H38: =I38+J38 -> 30 | I38: 20 | J38: 10
A39: 26 | B39: =C39+D39 -> 64 | C39: =F39+I39 -> 37 | D39: =G39+J39 -> 27 | E39: =F39+G39 -> 41 | F39: 24 | G39: 17 | H39: =I39+J39 -> 23 | I39: 13 | J39: 10
A40: 27 | B40: =C40+D40 -> 54 | C40: =F40+I40 -> 27 | D40: =G40+J40 -> 27 | E40: =F40+G40 -> 33 | F40: 13 | G40: 20 | H40: =I40+J40 -> 21 | I40: 14 | J40: 7
...

Sheet Bayangol
A1: БАЯНГОЛ ДҮҮРГИЙН ХҮН АМЫН ТОО /2026.01.01/
B2: =B7+B13+B19+B26+B27+B28+B29 -> 98574
A3: Нас | B3: Баянгол дүүрэг | E3: 1-р хороо | H3: 2-р хороо | K3: 3-р хороо | N3: 4-р хороо | Q3: 5-р хороо | T3: 6-р хороо | W3: 7-р хороо | Z3: 8-р хороо | AC3: 9-р хороо | AF3: 10-р хороо | AI3: 11-р хороо | AL3: 12-р хороо | AO3: 13-р хороо | AR3: 14-р хороо | AU3: 15-р хороо | AX3: 16-р хороо | BA3: 17-р хороо | BD3: 18-р хороо | BG3: 19-р хороо | BJ3: 20-р хороо | BM3: 21-р хороо | BP3: 22-р хороо | BS3: 23-р хороо | BV3: 24-р хороо | BY3: 25-р хороо | CB3: 26-р хороо | CE3: 27-р хороо | CH3: 28-р хороо | CK3: 29-р хороо | CN3: 30-р хороо | CQ3: 31-р хороо | CT3: 32-р хороо | CW3: 33-р хороо | CZ3: 34-р хороо
B4: Бүгд | C4: Эр | D4: Эм | E4: Бүгд | F4: Эр | G4: Эм | H4: Бүгд | I4: Эр | J4: Эм | K4: Бүгд | L4: Эр | M4: Эм | N4: Бүгд | O4: Эр | P4: Эм | Q4: Бүгд | R4: Эр | S4: Эм | T4: Бүгд | U4: Эр | V4: Эм | W4: Бүгд | X4: Эр | Y4: Эм | Z4: Бүгд | AA4: Эр | AB4: Эм | AC4: Бүгд | AD4: Эр | AE4: Эм | AF4: Бүгд | AG4: Эр | AH4: Эм | AI4: Бүгд | AJ4: Эр | AK4: Эм | AL4: Бүгд | AM4: Эр | AN4: Эм | AO4: Бүгд | AP4: Эр | AQ4: Эм | AR4: Бүгд | AS4: Эр | AT4: Эм | AU4: Бүгд | AV4: Эр | AW4: Эм | AX4: Бүгд | AY4: Эр | AZ4: Эм | BA4: Бүгд | BB4: Эр | BC4: Эм | BD4: Бүгд | BE4: Эр | BF4: Эм | BG4: Бүгд | BH4: Эр | BI4: Эм | BJ4: Бүгд | BK4: Эр | BL4: Эм | BM4: Бүгд | BN4: Эр | BO4: Эм | BP4: Бүгд | BQ4: Эр | BR4: Эм | BS4: Бүгд | BT4: Эр | BU4: Эм | BV4: Бүгд | BW4: Эр | BX4: Эм | BY4: Бүгд | BZ4: Эр | CA4: Эм | CB4: Бүгд | CC4: Эр | CD4: Эм | CE4: Бүгд | CF4: Эр | CG4: Эм | CH4: Бүгд | CI4: Эр | CJ4: Эм | CK4: Бүгд | CL4: Эр | CM4: Эм | CN4: Бүгд | CO4: Эр | CP4: Эм | CQ4: Бүгд | CR4: Эр | CS4: Эм | CT4: Бүгд | CU4: Эр | CV4: Эм | CW4: Бүгд | CX4: Эр | CY4: Эм | CZ4: Бүгд | DA4: Эр | DB4: Эм
A5: Өрх | B5: =E5+H5+K5+N5+Q5+T5+W5+Z5+AC5+AF5+AI5+AL5+AO5+AR5+AU5+AX5+BA5+BD5+BG5+BJ5+BM5+BP5+BS5+BV5+BY5+CB5+CE5+CH5+CK5+CN5+CQ5+CT5+CW5+CZ5 -> 71792 | E5: 2638 | H5: 2612 | K5: 2030 | N5: 1923 | Q5: 2309 | T5: 3037 | W5: 1809 | Z5: 2148 | AC5: 2556 | AF5: 2103 | AI5: 1733 | AL5: 1542 | AO5: 1195 | AR5: 1157 | AU5: 1210 | AX5: 1469 | BA5: 2167 | BD5: 2694 | BG5: 1909 | BJ5: 984 | BM5: 2052 | BP5: 1888 | BS5: 1679 | BV5: 4699 | BY5: 2109 | CB5: 5147 | CE5: 1489 | CH5: 2039 | CK5: 2725 | CN5: 1767 | CQ5: 1846 | CT5: 1988 | CW5: 1918 | CZ5: 1221
A6: ХҮН АМ | B6: =E6+H6+K6+N6+Q6+T6+W6+Z6+AC6+AF6+AI6+AL6+AO6+AR6+AU6+AX6+BA6+BD6+BG6+BJ6+BM6+BP6+BS6+BV6+BY6+CB6+CE6+CH6+CK6+CN6+CQ6+CT6+CW6+CZ6 -> 254710 | C6: =F6+I6+L6+O6+R6+U6+X6+AA6+AD6+AG6+AJ6+AM6+AP6+AS6+AV6+AY6+BB6+BE6+BH6+BK6+BN6+BQ6+BT6+BW6+BZ6+CC6+CF6+CI6+CL6+CO6+CR6+CU6+CX6+DA6 -> 120522 | D6: =G6+J6+M6+P6+S6+V6+Y6+AB6+AE6+AH6+AK6+AN6+AQ6+AT6+AW6+AZ6+BC6+BF6+BI6+BL6+BO6+BR6+BU6+BX6+CA6+CD6+CG6+CJ6+CM6+CP6+CS6+CV6+CY6+DB6 -> 134188 | E6: =E7+E13+E19+E25+E31+E37+E43+E49+E55+E61+E67+E73+E79+E85+E91+E97+E103+E109+E115+E121+E127 -> 9265 | F6: =F7+F13+F19+F25+F31+F37+F43+F49+F55+F61+F67+F73+F79+F85+F91+F97+F103+F109+F115+F121+F127 -> 4316 | G6: =G7+G13+G19+G25+G31+G37+G43+G49+G55+G61+G67+G73+G79+G85+G91+G97+G103+G109+G115+G121+G127 -> 4949 | H6: =H7+H13+H19+H25+H31+H37+H43+H49+H55+H61+H67+H73+H79+H85+H91+H97+H103+H109+H115+H121+H127 -> 9256 | I6: =I7+I13+I19+I25+I31+I37+I43+I49+I55+I61+I67+I73+I79+I85+I91+I97+I103+I109+I115+I121+I127 -> 4299 | J6: =J7+J13+J19+J25+J31+J37+J43+J49+J55+J61+J67+J73+J79+J85+J91+J97+J103+J109+J115+J121+J127 -> 4957 | K6: =K7+K13+K19+K25+K31+K37+K43+K49+K55+K61+K67+K73+K79+K85+K91+K97+K103+K109+K115+K121+K127 -> 7327 | L6: =L7+L13+L19+L25+L31+L37+L43+L49+L55+L61+L67+L73+L79+L85+L91+L97+L103+L109+L115+L121+L127 -> 3471 | ... DB6: =DB7+DB13+DB19+DB25+DB31+DB37+DB43+DB49+DB55+DB61+DB67+DB73+DB79+DB85+DB91+DB97+DB103+DB109+DB115+DB121+DB127 -> 2321
A7: 0-4 | B7: =C7+D7 -> 22077 | C7: =F7+I7+L7+O7+R7+U7+X7+AA7+AD7+AG7+AJ7+AM7+AP7+AS7+AV7+AY7+BB7+BE7+BH7+BK7+BN7+BQ7+BT7+BW7+BZ7+CC7+CF7+CI7+CL7+CO7+CR7+CU7+CX7+DA7 -> 11337 | D7: =G7+J7+M7+P7+S7+V7+Y7+AB7+AE7+AH7+AK7+AN7+AQ7+AT7+AW7+AZ7+BC7+BF7+BI7+BL7+BO7+BR7+BU7+BX7+CA7+CD7+CG7+CJ7+CM7+CP7+CS7+CV7+CY7+DB7 -> 10740 | E7: =F7+G7 -> 674 | F7: 338 | G7: 336 | H7: =I7+J7 -> 779 | I7: 381 | J7: 398 | K7: =L7+M7 -> 514 | L7: 272 | M7: 242 | N7: =O7+P7 -> 551 | O7: 288 | P7: 263 | Q7: =R7+S7 -> 642 | R7: 333 | S7: 309 | T7: =U7+V7 -> 766 | U7: 409 | V7: 357 | W7: =X7+Y7 -> 518 | X7: 249 | Y7: 269 | Z7: =AA7+AB7 -> 685 | AA7: 341 | AB7: 344 | AC7: =AD7+AE7 -> 890 | AD7: 471 | AE7: 419 | AF7: =AG7+AH7 -> 648 | AG7: 322 | AH7: 326 | AI7: =AJ7+AK7 -> 584 | AJ7: 308 | AK7: 276 | AL7: =AM7+AN7 -> 418 | AM7: 220 | AN7: 198 | AO7: =AP7+AQ7 -> 335 | AP7: 172 | AQ7: 163 | AR7: =AS7+AT7 -> 277 | AS7: 149 | AT7: 128 | AU7: =AV7+AW7 -> 360 | AV7: 183 | AW7: 177 | AX7: =AY7+AZ7 -> 325 | AY7: 180 | AZ7: 145 | BA7: =BB7+BC7 -> 567 | BB7: 273 | BC7: 294 | BD7: =BE7+BF7 -> 780 | BE7: 396 | BF7: 384 | BG7: =BH7+BI7 -> 573 | BH7: 282 | BI7: 291 | BJ7: =BK7+BL7 -> 277 | BK7: 150 | BL7: 127 | BM7: =BN7+BO7 -> 619 | BN7: 330 | BO7: 289 | BP7: =BQ7+BR7 -> 663 | BQ7: 347 | BR7: 316 | BS7: =BT7+BU7 -> 517 | BT7: 278 | BU7: 239 | BV7: =BW7+BX7 -> 1854 | BW7: 934 | BX7: 920 | BY7: =BZ7+CA7 -> 712 | BZ7: 371 | CA7: 341 | CB7: =CC7+CD7 -> 1815 | CC7: 932 | CD7: 883 | CE7: =CF7+CG7 -> 512 | CF7: 277 | CG7: 235 | CH7: =CI7+CJ7 -> 677 | CI7: 358 | CJ7: 319 | CK7: =CL7+CM7 -> 966 | CL7: 489 | CM7: 477 | CN7: =CO7+CP7 -> 469 | CO7: 226 | CP7: 243 | CQ7: =CR7+CS7 -> 605 | CR7: 280 | CS7: 325 | CT7: =CU7+CV7 -> 593 | CU7: 316 | CV7: 277 | CW7: =CX7+CY7 -> 597 | CX7: 308 | CY7: 289 | CZ7: =DA7+DB7 -> 315 | DA7: 174 | DB7: 141
A8: 0 | B8: =C8+D8 -> 3817 | C8: =F8+I8+L8+O8+R8+U8+X8+AA8+AD8+AG8+AJ8+AM8+AP8+AS8+AV8+AY8+BB8+BE8+BH8+BK8+BN8+BQ8+BT8+BW8+BZ8+CC8+CF8+CI8+CL8+CO8+CR8+CU8+CX8+DA8 -> 2008 | D8: =G8+J8+M8+P8+S8+V8+Y8+AB8+AE8+AH8+AK8+AN8+AQ8+AT8+AW8+AZ8+BC8+BF8+BI8+BL8+BO8+BR8+BU8+BX8+CA8+CD8+CG8+CJ8+CM8+CP8+CS8+CV8+CY8+DB8 -> 1809 | E8: =F8+G8 -> 114 | F8: 66 | G8: 48 | H8: =I8+J8 -> 139 | I8: 75 | J8: 64 | K8: =L8+M8 -> 86 | L8: 44 | M8: 42 | N8: =O8+P8 -> 104 | O8: 53 | P8: 51 | Q8: =R8+S8 -> 118 | R8: 62 | S8: 56 | T8: =U8+V8 -> 133 | U8: 75 | V8: 58 | W8: =X8+Y8 -> 86 | X8: 36 | Y8: 50 | Z8: =AA8+AB8 -> 126 | AA8: 59 | AB8: 67 | AC8: =AD8+AE8 -> 135 | AD8: 75 | AE8: 60 | AF8: =AG8+AH8 -> 119 | AG8: 65 | AH8: 54 | AI8: =AJ8+AK8 -> 111 | AJ8: 50 | AK8: 61 | AL8: =AM8+AN8 -> 70 | AM8: 42 | AN8: 28 | AO8: =AP8+AQ8 -> 70 | AP8: 37 | AQ8: 33 | AR8: =AS8+AT8 -> 51 | AS8: 26 | AT8: 25 | AU8: =AV8+AW8 -> 66 | AV8: 36 | AW8: 30 | AX8: =AY8+AZ8 -> 56 | AY8: 29 | AZ8: 27 | BA8: =BB8+BC8 -> 86 | BB8: 47 | BC8: 39 | BD8: =BE8+BF8 -> 137 | BE8: 71 | BF8: 66 | BG8: =BH8+BI8 -> 100 | BH8: 45 | BI8: 55 | BJ8: =BK8+BL8 -> 53 | BK8: 27 | BL8: 26 | BM8: =BN8+BO8 -> 108 | BN8: 58 | BO8: 50 | BP8: =BQ8+BR8 -> 115 | BQ8: 61 | BR8: 54 | BS8: =BT8+BU8 -> 78 | BT8: 47 | BU8: 31 | BV8: =BW8+BX8 -> 297 | BW8: 150 | BX8: 147 | BY8: =BZ8+CA8 -> 123 | BZ8: 67 | CA8: 56 | CB8: =CC8+CD8 -> 281 | CC8: 164 | CD8: 117 | CE8: =CF8+CG8 -> 93 | CF8: 51 | CG8: 42 | CH8: =CI8+CJ8 -> 132 | CI8: 64 | CJ8: 68 | CK8: =CL8+CM8 -> 163 | CL8: 82 | CM8: 81 | CN8: =CO8+CP8 -> 75 | CO8: 37 | CP8: 38 | CQ8: =CR8+CS8 -> 102 | CR8: 48 | CS8: 54 | CT8: =CU8+CV8 -> 109 | CU8: 60 | CV8: 49 | CW8: =CX8+CY8 -> 122 | CX8: 70 | CY8: 52 | CZ8: =DA8+DB8 -> 59 | DA8: 29 | DB8: 30
A9: 1 | B9: =C9+D9 -> 4004 | C9: =F9+I9+L9+O9+R9+U9+X9+AA9+AD9+AG9+AJ9+AM9+AP9+AS9+AV9+AY9+BB9+BE9+BH9+BK9+BN9+BQ9+BT9+BW9+BZ9+CC9+CF9+CI9+CL9+CO9+CR9+CU9+CX9+DA9 -> 2104 | D9: =G9+J9+M9+P9+S9+V9+Y9+AB9+AE9+AH9+AK9+AN9+AQ9+AT9+AW9+AZ9+BC9+BF9+BI9+BL9+BO9+BR9+BU9+BX9+CA9+CD9+CG9+CJ9+CM9+CP9+CS9+CV9+CY9+DB9 -> 1900 | E9: =F9+G9 -> 128 | F9: 64 | G9: 64 | H9: =I9+J9 -> 145 | I9: 59 | J9: 86 | K9: =L9+M9 -> 110 | L9: 67 | M9: 43 | N9: =O9+P9 -> 98 | O9: 59 | P9: 39 | Q9: =R9+S9 -> 108 | R9: 57 | S9: 51 | T9: =U9+V9 -> 141 | U9: 73 | V9: 68 | W9: =X9+Y9 -> 79 | X9: 40 | Y9: 39 | Z9: =AA9+AB9 -> 117 | AA9: 53 | AB9: 64 | AC9: =AD9+AE9 -> 177 | AD9: 97 | AE9: 80 | AF9: =AG9+AH9 -> 117 | AG9: 49 | AH9: 68 | AI9: =AJ9+AK9 -> 103 | AJ9: 63 | AK9: 40 | AL9: =AM9+AN9 -> 75 | AM9: 43 | AN9: 32 | AO9: =AP9+AQ9 -> 58 | AP9: 28 | AQ9: 30 | AR9: =AS9+AT9 -> 51 | AS9: 25 | AT9: 26 | AU9: =AV9+AW9 -> 53 | AV9: 26 | AW9: 27 | AX9: =AY9+AZ9 -> 70 | AY9: 41 | AZ9: 29 | BA9: =BB9+BC9 -> 94 | BB9: 50 | BC9: 44 | BD9: =BE9+BF9 -> 126 | BE9: 69 | BF9: 57 | BG9: =BH9+BI9 -> 119 | BH9: 58 | BI9: 61 | BJ9: =BK9+BL9 -> 46 | BK9: 30 | BL9: 16 | BM9: =BN9+BO9 -> 116 | BN9: 56 | BO9: 60 | BP9: =BQ9+BR9 -> 123 | BQ9: 71 | BR9: 52 | BS9: =BT9+BU9 -> 94 | BT9: 60 | BU9: 34 | BV9: =BW9+BX9 -> 382 | BW9: 208 | BX9: 174 | BY9: =BZ9+CA9 -> 148 | BZ9: 81 | CA9: 67 | CB9: =CC9+CD9 -> 315 | CC9: 166 | CD9: 149 | CE9: =CF9+CG9 -> 81 | CF9: 45 | CG9: 36 | CH9: =CI9+CJ9 -> 126 | CI9: 63 | CJ9: 63 | CK9: =CL9+CM9 -> 178 | CL9: 85 | CM9: 93 | CN9: =CO9+CP9 -> 77 | CO9: 37 | CP9: 40 | CQ9: =CR9+CS9 -> 102 | CR9: 47 | CS9: 55 | CT9: =CU9+CV9 -> 116 | CU9: 62 | CV9: 54 | CW9: =CX9+CY9 -> 89 | CX9: 47 | CY9: 42 | CZ9: =DA9+DB9 -> 42 | DA9: 25 | DB9: 17
A10: 2 | B10: =C10+D10 -> 4425 | C10: =F10+I10+L10+O10+R10+U10+X10+AA10+AD10+AG10+AJ10+AM10+AP10+AS10+AV10+AY10+BB10+BE10+BH10+BK10+BN10+BQ10+BT10+BW10+BZ10+CC10+CF10+CI10+CL10+CO10+CR10+CU10+CX10+DA10 -> 2248 | D10: =G10+J10+M10+P10+S10+V10+Y10+AB10+AE10+AH10+AK10+AN10+AQ10+AT10+AW10+AZ10+BC10+BF10+BI10+BL10+BO10+BR10+BU10+BX10+CA10+CD10+CG10+CJ10+CM10+CP10+CS10+CV10+CY10+DB10 -> 2177 | E10: =F10+G10 -> 122 | F10: 64 | G10: 58 | H10: =I10+J10 -> 168 | I10: 88 | J10: 80 | K10: =L10+M10 -> 97 | L10: 50 | M10: 47 | N10: =O10+P10 -> 96 | O10: 39 | P10: 57 | Q10: =R10+S10 -> 124 | R10: 65 | S10: 59 | T10: =U10+V10 -> 145 | U10: 83 | V10: 62 | W10: =X10+Y10 -> 119 | X10: 55 | Y10: 64 | Z10: =AA10+AB10 -> 133 | AA10: 74 | AB10: 59 | AC10: =AD10+AE10 -> 191 | AD10: 92 | AE10: 99 | AF10: =AG10+AH10 -> 127 | AG10: 60 | AH10: 67 | AI10: =AJ10+AK10 -> 117 | AJ10: 60 | AK10: 57 | AL10: =AM10+AN10 -> 81 | AM10: 37 | AN10: 44 | AO10: =AP10+AQ10 -> 54 | AP10: 22 | AQ10: 32 | AR10: =AS10+AT10 -> 44 | AS10: 25 | AT10: 19 | AU10: =AV10+AW10 -> 70 | AV10: 32 | AW10: 38 | AX10: =AY10+AZ10 -> 55 | AY10: 41 | AZ10: 14 | BA10: =BB10+BC10 -> 118 | BB10: 50 | BC10: 68 | BD10: =BE10+BF10 -> 154 | BE10: 75 | BF10: 79 | BG10: =BH10+BI10 -> 101 | BH10: 50 | BI10: 51 | BJ10: =BK10+BL10 -> 46 | BK10: 27 | BL10: 19 | BM10: =BN10+BO10 -> 117 | BN10: 62 | BO10: 55 | BP10: =BQ10+BR10 -> 139 | BQ10: 76 | BR10: 63 | BS10: =BT10+BU10 -> 100 | BT10: 46 | BU10: 54 | BV10: =BW10+BX10 -> 367 | BW10: 179 | BX10: 188 | BY10: =BZ10+CA10 -> 148 | BZ10: 81 | CA10: 67 | CB10: =CC10+CD10 -> 381 | CC10: 183 | CD10: 198 | CE10: =CF10+CG10 -> 111 | CF10: 56 | CG10: 55 | CH10: =CI10+CJ10 -> 135 | CI10: 73 | CJ10: 62 | CK10: =CL10+CM10 -> 208 | CL10: 113 | CM10: 95 | CN10: =CO10+CP10 -> 105 | CO10: 49 | CP10: 56 | CQ10: =CR10+CS10 -> 146 | CR10: 76 | CS10: 70 | CT10: =CU10+CV10 -> 102 | CU10: 59 | CV10: 43 | CW10: =CX10+CY10 -> 133 | CX10: 69 | CY10: 64 | CZ10: =DA10+DB10 -> 71 | DA10: 37 | DB10: 34
A11: 3 | B11: =C11+D11 -> 4631 | C11: =F11+I11+L11+O11+R11+U11+X11+AA11+AD11+AG11+AJ11+AM11+AP11+AS11+AV11+AY11+BB11+BE11+BH11+BK11+BN11+BQ11+BT11+BW11+BZ11+CC11+CF11+CI11+CL11+CO11+CR11+CU11+CX11+DA11 -> 2386 | D11: =G11+J11+M11+P11+S11+V11+Y11+AB11+AE11+AH11+AK11+AN11+AQ11+AT11+AW11+AZ11+BC11+BF11+BI11+BL11+BO11+BR11+BU11+BX11+CA11+CD11+CG11+CJ11+CM11+CP11+CS11+CV11+CY11+DB11 -> 2245 | E11: =F11+G11 -> 132 | F11: 57 | G11: 75 | H11: =I11+J11 -> 152 | I11: 75 | J11: 77 | K11: =L11+M11 -> 102 | L11: 52 | M11: 50 | N11: =O11+P11 -> 122 | O11: 61 | P11: 61 | Q11: =R11+S11 -> 128 | R11: 62 | S11: 66 | T11: =U11+V11 -> 157 | U11: 80 | V11: 77 | W11: =X11+Y11 -> 113 | X11: 61 | Y11: 52 | Z11: =AA11+AB11 -> 144 | AA11: 72 | AB11: 72 | AC11: =AD11+AE11 -> 193 | AD11: 115 | AE11: 78 | AF11: =AG11+AH11 -> 142 | AG11: 72 | AH11: 70 | AI11: =AJ11+AK11 -> 119 | AJ11: 68 | AK11: 51 | AL11: =AM11+AN11 -> 91 | AM11: 50 | AN11: 41 | AO11: =AP11+AQ11 -> 84 | AP11: 49 | AQ11: 35 | AR11: =AS11+AT11 -> 54 | AS11: 33 | AT11: 21 | AU11: =AV11+AW11 -> 80 | AV11: 42 | AW11: 38 | AX11: =AY11+AZ11 -> 74 | AY11: 37 | AZ11: 37 | BA11: =BB11+BC11 -> 114 | BB11: 54 | BC11: 60 | BD11: =BE11+BF11 -> 161 | BE11: 79 | BF11: 82 | BG11: =BH11+BI11 -> 122 | BH11: 64 | BI11: 58 | BJ11: =BK11+BL11 -> 65 | BK11: 31 | BL11: 34 | BM11: =BN11+BO11 -> 144 | BN11: 86 | BO11: 58 | BP11: =BQ11+BR11 -> 138 | BQ11: 70 | BR11: 68 | BS11: =BT11+BU11 -> 111 | BT11: 55 | BU11: 56 | BV11: =BW11+BX11 -> 401 | BW11: 198 | BX11: 203 | BY11: =BZ11+CA11 -> 158 | BZ11: 77 | CA11: 81 | CB11: =CC11+CD11 -> 350 | CC11: 175 | CD11: 175 | CE11: =CF11+CG11 -> 109 | CF11: 57 | CG11: 52 | CH11: =CI11+CJ11 -> 141 | CI11: 84 | CJ11: 57 | CK11: =CL11+CM11 -> 180 | CL11: 99 | CM11: 81 | CN11: =CO11+CP11 -> 107 | CO11: 52 | CP11: 55 | CQ11: =CR11+CS11 -> 122 | CR11: 47 | CS11: 75 | CT11: =CU11+CV11 -> 123 | CU11: 59 | CV11: 64 | CW11: =CX11+CY11 -> 125 | CX11: 70 | CY11: 55 | CZ11: =DA11+DB11 -> 73 | DA11: 43 | DB11: 30
A12: 4 | B12: =C12+D12 -> 5200 | C12: =F12+I12+L12+O12+R12+U12+X12+AA12+AD12+AG12+AJ12+AM12+AP12+AS12+AV12+AY12+BB12+BE12+BH12+BK12+BN12+BQ12+BT12+BW12+BZ12+CC12+CF12+CI12+CL12+CO12+CR12+CU12+CX12+DA12 -> 2591 | D12: =G12+J12+M12+P12+S12+V12+Y12+AB12+AE12+AH12+AK12+AN12+AQ12+AT12+AW12+AZ12+BC12+BF12+BI12+BL12+BO12+BR12+BU12+BX12+CA12+CD12+CG12+CJ12+CM12+CP12+CS12+CV12+CY12+DB12 -> 2609 | E12: =F12+G12 -> 178 | F12: 87 | G12: 91 | H12: =I12+J12 -> 175 | I12: 84 | J12: 91 | K12: =L12+M12 -> 119 | L12: 59 | M12: 60 | N12: =O12+P12 -> 131 | O12: 76 | P12: 55 | Q12: =R12+S12 -> 164 | R12: 87 | S12: 77 | T12: =U12+V12 -> 190 | U12: 98 | V12: 92 | W12: =X12+Y12 -> 121 | X12: 57 | Y12: 64 | Z12: =AA12+AB12 -> 165 | AA12: 83 | AB12: 82 | AC12: =AD12+AE12 -> 194 | AD12: 92 | AE12: 102 | AF12: =AG12+AH12 -> 143 | AG12: 76 | AH12: 67 | AI12: =AJ12+AK12 -> 134 | AJ12: 67 | AK12: 67 | AL12: =AM12+AN12 -> 101 | AM12: 48 | AN12: 53 | AO12: =AP12+AQ12 -> 69 | AP12: 36 | AQ12: 33 | AR12: =AS12+AT12 -> 77 | AS12: 40 | AT12: 37 | AU12: =AV12+AW12 -> 91 | AV12: 47 | AW12: 44 | AX12: =AY12+AZ12 -> 70 | AY12: 32 | AZ12: 38 | BA12: =BB12+BC12 -> 155 | BB12: 72 | BC12: 83 | BD12: =BE12+BF12 -> 202 | BE12: 102 | BF12: 100 | BG12: =BH12+BI12 -> 131 | BH12: 65 | BI12: 66 | BJ12: =BK12+BL12 -> 67 | BK12: 35 | BL12: 32 | BM12: =BN12+BO12 -> 134 | BN12: 68 | BO12: 66 | BP12: =BQ12+BR12 -> 148 | BQ12: 69 | BR12: 79 | BS12: =BT12+BU12 -> 134 | BT12: 70 | BU12: 64 | BV12: =BW12+BX12 -> 407 | BW12: 199 | BX12: 208 | BY12: =BZ12+CA12 -> 135 | BZ12: 65 | CA12: 70 | CB12: =CC12+CD12 -> 488 | CC12: 244 | CD12: 244 | CE12: =CF12+CG12 -> 118 | CF12: 68 | CG12: 50 | CH12: =CI12+CJ12 -> 143 | CI12: 74 | CJ12: 69 | CK12: =CL12+CM12 -> 237 | CL12: 110 | CM12: 127 | CN12: =CO12+CP12 -> 105 | CO12: 51 | CP12: 54 | CQ12: =CR12+CS12 -> 133 | CR12: 62 | CS12: 71 | CT12: =CU12+CV12 -> 143 | CU12: 76 | CV12: 67 | CW12: =CX12+CY12 -> 128 | CX12: 52 | CY12: 76 | CZ12: =DA12+DB12 -> 70 | DA12: 40 | DB12: 30
A13: 5-9 | B13: =C13+D13 -> 29306 | C13: =F13+I13+L13+O13+R13+U13+X13+AA13+AD13+AG13+AJ13+AM13+AP13+AS13+AV13+AY13+BB13+BE13+BH13+BK13+BN13+BQ13+BT13+BW13+BZ13+CC13+CF13+CI13+CL13+CO13+CR13+CU13+CX13+DA13 -> 15023 | D13: =G13+J13+M13+P13+S13+V13+Y13+AB13+AE13+AH13+AK13+AN13+AQ13+AT13+AW13+AZ13+BC13+BF13+BI13+BL13+BO13+BR13+BU13+BX13+CA13+CD13+CG13+CJ13+CM13+CP13+CS13+CV13+CY13+DB13 -> 14283 | E13: =F13+G13 -> 971 | F13: 494 | G13: 477 | H13: =I13+J13 -> 970 | I13: 507 | J13: 463 | K13: =L13+M13 -> 722 | L13: 381 | M13: 341 | N13: =O13+P13 -> 850 | O13: 445 | P13: 405 | Q13: =R13+S13 -> 869 | R13: 430 | S13: 439 | T13: =U13+V13 -> 1061 | U13: 560 | V13: 501 | W13: =X13+Y13 -> 763 | X13: 387 | Y13: 376 | Z13: =AA13+AB13 -> 885 | AA13: 458 | AB13: 427 | AC13: =AD13+AE13 -> 963 | AD13: 482 | AE13: 481 | AF13: =AG13+AH13 -> 836 | AG13: 432 | AH13: 404 | AI13: =AJ13+AK13 -> 664 | AJ13: 357 | AK13: 307 | AL13: =AM13+AN13 -> 557 | AM13: 271 | AN13: 286 | AO13: =AP13+AQ13 -> 502 | AP13: 255 | AQ13: 247 | AR13: =AS13+AT13 -> 384 | AS13: 197 | AT13: 187 | AU13: =AV13+AW13 -> 485 | AV13: 260 | AW13: 225 | AX13: =AY13+AZ13 -> 451 | AY13: 230 | AZ13: 221 | BA13: =BB13+BC13 -> 844 | BB13: 404 | BC13: 440 | BD13: =BE13+BF13 -> 1156 | BE13: 599 | BF13: 557 | BG13: =BH13+BI13 -> 852 | BH13: 461 | BI13: 391 | BJ13: =BK13+BL13 -> 321 | BK13: 177 | BL13: 144 | BM13: =BN13+BO13 -> 717 | BN13: 345 | BO13: 372 | BP13: =BQ13+BR13 -> 766 | BQ13: 369 | BR13: 397 | BS13: =BT13+BU13 -> 616 | BT13: 299 | BU13: 317 | BV13: =BW13+BX13 -> 1993 | BW13: 1022 | BX13: 971 | BY13: =BZ13+CA13 -> 872 | BZ13: 465 | CA13: 407 | CB13: =CC13+CD13 -> 2816 | CC13: 1423 | CD13: 1393 | CE13: =CF13+CG13 -> 943 | CF13: 481 | CG13: 462 | CH13: =CI13+CJ13 -> 824 | CI13: 439 | CJ13: 385 | CK13: =CL13+CM13 -> 1219 | CL13: 607 | CM13: 612 | CN13: =CO13+CP13 -> 646 | CO13: 346 | CP13: 300 | CQ13: =CR13+CS13 -> 749 | CR13: 371 | CS13: 378 | CT13: =CU13+CV13 -> 873 | CU13: 451 | CV13: 422 | CW13: =CX13+CY13 -> 717 | CX13: 372 | CY13: 345 | CZ13: =DA13+DB13 -> 449 | DA13: 246 | DB13: 203
A14: 5 | B14: =C14+D14 -> 5583 | C14: =F14+I14+L14+O14+R14+U14+X14+AA14+AD14+AG14+AJ14+AM14+AP14+AS14+AV14+AY14+BB14+BE14+BH14+BK14+BN14+BQ14+BT14+BW14+BZ14+CC14+CF14+CI14+CL14+CO14+CR14+CU14+CX14+DA14 -> 2884 | D14: =G14+J14+M14+P14+S14+V14+Y14+AB14+AE14+AH14+AK14+AN14+AQ14+AT14+AW14+AZ14+BC14+BF14+BI14+BL14+BO14+BR14+BU14+BX14+CA14+CD14+CG14+CJ14+CM14+CP14+CS14+CV14+CY14+DB14 -> 2699 | E14: =F14+G14 -> 174 | F14: 92 | G14: 82 | H14: =I14+J14 -> 173 | I14: 100 | J14: 73 | K14: =L14+M14 -> 131 | L14: 75 | M14: 56 | N14: =O14+P14 -> 151 | O14: 74 | P14: 77 | Q14: =R14+S14 -> 140 | R14: 69 | S14: 71 | T14: =U14+V14 -> 202 | U14: 99 | V14: 103 | W14: =X14+Y14 -> 133 | X14: 81 | Y14: 52 | Z14: =AA14+AB14 -> 169 | AA14: 81 | AB14: 88 | AC14: =AD14+AE14 -> 202 | AD14: 99 | AE14: 103 | AF14: =AG14+AH14 -> 164 | AG14: 88 | AH14: 76 | AI14: =AJ14+AK14 -> 114 | AJ14: 66 | AK14: 48 | AL14: =AM14+AN14 -> 101 | AM14: 49 | AN14: 52 | AO14: =AP14+AQ14 -> 94 | AP14: 44 | AQ14: 50 | AR14: =AS14+AT14 -> 78 | AS14: 43 | AT14: 35 | AU14: =AV14+AW14 -> 100 | AV14: 59 | AW14: 41 | AX14: =AY14+AZ14 -> 76 | AY14: 41 | AZ14: 35 | BA14: =BB14+BC14 -> 154 | BB14: 73 | BC14: 81 | BD14: =BE14+BF14 -> 226 | BE14: 122 | BF14: 104 | BG14: =BH14+BI14 -> 158 | BH14: 71 | BI14: 87 | BJ14: =BK14+BL14 -> 73 | BK14: 37 | BL14: 36 | BM14: =BN14+BO14 -> 143 | BN14: 73 | BO14: 70 | BP14: =BQ14+BR14 -> 156 | BQ14: 72 | BR14: 84 | BS14: =BT14+BU14 -> 118 | BT14: 51 | BU14: 67 | BV14: =BW14+BX14 -> 445 | BW14: 220 | BX14: 225 | BY14: =BZ14+CA14 -> 201 | BZ14: 99 | CA14: 102 | CB14: =CC14+CD14 -> 503 | CC14: 282 | CD14: 221 | CE14: =CF14+CG14 -> 157 | CF14: 81 | CG14: 76 | CH14: =CI14+CJ14 -> 170 | CI14: 84 | CJ14: 86 | CK14: =CL14+CM14 -> 234 | CL14: 112 | CM14: 122 | CN14: =CO14+CP14 -> 121 | CO14: 68 | CP14: 53 | CQ14: =CR14+CS14 -> 130 | CR14: 65 | CS14: 65 | CT14: =CU14+CV14 -> 162 | CU14: 86 | CV14: 76 | CW14: =CX14+CY14 -> 156 | CX14: 85 | CY14: 71 | CZ14: =DA14+DB14 -> 74 | DA14: 43 | DB14: 31
A15: 6 | B15: =C15+D15 -> 6026 | C15: =F15+I15+L15+O15+R15+U15+X15+AA15+AD15+AG15+AJ15+AM15+AP15+AS15+AV15+AY15+BB15+BE15+BH15+BK15+BN15+BQ15+BT15+BW15+BZ15+CC15+CF15+CI15+CL15+CO15+CR15+CU15+CX15+DA15 -> 3072 | D15: =G15+J15+M15+P15+S15+V15+Y15+AB15+AE15+AH15+AK15+AN15+AQ15+AT15+AW15+AZ15+BC15+BF15+BI15+BL15+BO15+BR15+BU15+BX15+CA15+CD15+CG15+CJ15+CM15+CP15+CS15+CV15+CY15+DB15 -> 2954 | E15: =F15+G15 -> 176 | F15: 87 | G15: 89 | H15: =I15+J15 -> 193 | I15: 101 | J15: 92 | K15: =L15+M15 -> 154 | L15: 75 | M15: 79 | N15: =O15+P15 -> 183 | O15: 87 | P15: 96 | Q15: =R15+S15 -> 175 | R15: 86 | S15: 89 | T15: =U15+V15 -> 219 | U15: 110 | V15: 109 | W15: =X15+Y15 -> 141 | X15: 65 | Y15: 76 | Z15: =AA15+AB15 -> 184 | AA15: 112 | AB15: 72 | AC15: =AD15+AE15 -> 203 | AD15: 99 | AE15: 104 | AF15: =AG15+AH15 -> 171 | AG15: 82 | AH15: 89 | AI15: =AJ15+AK15 -> 142 | AJ15: 73 | AK15: 69 | AL15: =AM15+AN15 -> 121 | AM15: 56 | AN15: 65 | AO15: =AP15+AQ15 -> 106 | AP15: 58 | AQ15: 48 | AR15: =AS15+AT15 -> 80 | AS15: 46 | AT15: 34 | AU15: =AV15+AW15 -> 92 | AV15: 48 | AW15: 44 | AX15: =AY15+AZ15 -> 89 | AY15: 46 | AZ15: 43 | BA15: =BB15+BC15 -> 166 | BB15: 82 | BC15: 84 | BD15: =BE15+BF15 -> 232 | BE15: 124 | BF15: 108 | BG15: =BH15+BI15 -> 174 | BH15: 92 | BI15: 82 | BJ15: =BK15+BL15 -> 62 | BK15: 35 | BL15: 27 | BM15: =BN15+BO15 -> 154 | BN15: 78 | BO15: 76 | BP15: =BQ15+BR15 -> 152 | BQ15: 70 | BR15: 82 | BS15: =BT15+BU15 -> 128 | BT15: 73 | BU15: 55 | BV15: =BW15+BX15 -> 394 | BW15: 206 | BX15: 188 | BY15: =BZ15+CA15 -> 171 | BZ15: 90 | CA15: 81 | CB15: =CC15+CD15 -> 606 | CC15: 281 | CD15: 325 | CE15: =CF15+CG15 -> 210 | CF15: 101 | CG15: 109 | CH15: =CI15+CJ15 -> 156 | CI15: 79 | CJ15: 77 | CK15: =CL15+CM15 -> 298 | CL15: 161 | CM15: 137 | CN15: =CO15+CP15 -> 126 | CO15: 77 | CP15: 49 | CQ15: =CR15+CS15 -> 140 | CR15: 66 | CS15: 74 | CT15: =CU15+CV15 -> 180 | CU15: 95 | CV15: 85 | CW15: =CX15+CY15 -> 147 | CX15: 77 | CY15: 70 | CZ15: =DA15+DB15 -> 101 | DA15: 54 | DB15: 47
A16: 7 | B16: =C16+D16 -> 5897 | C16: =F16+I16+L16+O16+R16+U16+X16+AA16+AD16+AG16+AJ16+AM16+AP16+AS16+AV16+AY16+BB16+BE16+BH16+BK16+BN16+BQ16+BT16+BW16+BZ16+CC16+CF16+CI16+CL16+CO16+CR16+CU16+CX16+DA16 -> 3033 | D16: =G16+J16+M16+P16+S16+V16+Y16+AB16+AE16+AH16+AK16+AN16+AQ16+AT16+AW16+AZ16+BC16+BF16+BI16+BL16+BO16+BR16+BU16+BX16+CA16+CD16+CG16+CJ16+CM16+CP16+CS16+CV16+CY16+DB16 -> 2864 | E16: =F16+G16 -> 207 | F16: 112 | G16: 95 | H16: =I16+J16 -> 210 | I16: 104 | J16: 106 | K16: =L16+M16 -> 145 | L16: 65 | M16: 80 | N16: =O16+P16 -> 169 | O16: 101 | P16: 68 | Q16: =R16+S16 -> 189 | R16: 88 | S16: 101 | T16: =U16+V16 -> 210 | U16: 128 | V16: 82 | W16: =X16+Y16 -> 161 | X16: 80 | Y16: 81 | Z16: =AA16+AB16 -> 180 | AA16: 98 | AB16: 82 | AC16: =AD16+AE16 -> 174 | AD16: 99 | AE16: 75 | AF16: =AG16+AH16 -> 160 | AG16: 84 | AH16: 76 | AI16: =AJ16+AK16 -> 141 | AJ16: 80 | AK16: 61 | AL16: =AM16+AN16 -> 104 | AM16: 49 | AN16: 55 | AO16: =AP16+AQ16 -> 96 | AP16: 47 | AQ16: 49 | AR16: =AS16+AT16 -> 64 | AS16: 32 | AT16: 32 | AU16: =AV16+AW16 -> 99 | AV16: 48 | AW16: 51 | AX16: =AY16+AZ16 -> 87 | AY16: 40 | AZ16: 47 | BA16: =BB16+BC16 -> 170 | BB16: 82 | BC16: 88 | BD16: =BE16+BF16 -> 239 | BE16: 118 | BF16: 121 | BG16: =BH16+BI16 -> 186 | BH16: 103 | BI16: 83 | BJ16: =BK16+BL16 -> 63 | BK16: 34 | BL16: 29 | BM16: =BN16+BO16 -> 139 | BN16: 53 | BO16: 86 | BP16: =BQ16+BR16 -> 160 | BQ16: 79 | BR16: 81 | BS16: =BT16+BU16 -> 110 | BT16: 51 | BU16: 59 | BV16: =BW16+BX16 -> 394 | BW16: 208 | BX16: 186 | BY16: =BZ16+CA16 -> 187 | BZ16: 101 | CA16: 86 | CB16: =CC16+CD16 -> 562 | CC16: 278 | CD16: 284 | CE16: =CF16+CG16 -> 211 | CF16: 111 | CG16: 100 | CH16: =CI16+CJ16 -> 158 | CI16: 87 | CJ16: 71 | CK16: =CL16+CM16 -> 235 | CL16: 120 | CM16: 115 | CN16: =CO16+CP16 -> 136 | CO16: 68 | CP16: 68 | CQ16: =CR16+CS16 -> 145 | CR16: 73 | CS16: 72 | CT16: =CU16+CV16 -> 193 | CU16: 102 | CV16: 91 | CW16: =CX16+CY16 -> 134 | CX16: 68 | CY16: 66 | CZ16: =DA16+DB16 -> 79 | DA16: 42 | DB16: 37
A17: 8 | B17: =C17+D17 -> 5647 | C17: =F17+I17+L17+O17+R17+U17+X17+AA17+AD17+AG17+AJ17+AM17+AP17+AS17+AV17+AY17+BB17+BE17+BH17+BK17+BN17+BQ17+BT17+BW17+BZ17+CC17+CF17+CI17+CL17+CO17+CR17+CU17+CX17+DA17 -> 2930 | D17: =G17+J17+M17+P17+S17+V17+Y17+AB17+AE17+AH17+AK17+AN17+AQ17+AT17+AW17+AZ17+BC17+BF17+BI17+BL17+BO17+BR17+BU17+BX17+CA17+CD17+CG17+CJ17+CM17+CP17+CS17+CV17+CY17+DB17 -> 2717 | E17: =F17+G17 -> 188 | F17: 89 | G17: 99 | H17: =I17+J17 -> 187 | I17: 97 | J17: 90 | K17: =L17+M17 -> 128 | L17: 74 | M17: 54 | N17: =O17+P17 -> 167 | O17: 86 | P17: 81 | Q17: =R17+S17 -> 186 | R17: 96 | S17: 90 | T17: =U17+V17 -> 199 | U17: 104 | V17: 95 | W17: =X17+Y17 -> 155 | X17: 67 | Y17: 88 | Z17: =AA17+AB17 -> 172 | AA17: 84 | AB17: 88 | AC17: =AD17+AE17 -> 173 | AD17: 81 | AE17: 92 | AF17: =AG17+AH17 -> 167 | AG17: 88 | AH17: 79 | AI17: =AJ17+AK17 -> 144 | AJ17: 70 | AK17: 74 | AL17: =AM17+AN17 -> 113 | AM17: 54 | AN17: 59 | AO17: =AP17+AQ17 -> 90 | AP17: 50 | AQ17: 40 | AR17: =AS17+AT17 -> 68 | AS17: 41 | AT17: 27 | AU17: =AV17+AW17 -> 97 | AV17: 55 | AW17: 42 | AX17: =AY17+AZ17 -> 91 | AY17: 48 | AZ17: 43 | BA17: =BB17+BC17 -> 177 | BB17: 84 | BC17: 93 | BD17: =BE17+BF17 -> 234 | BE17: 129 | BF17: 105 | BG17: =BH17+BI17 -> 166 | BH17: 94 | BI17: 72 | BJ17: =BK17+BL17 -> 62 | BK17: 34 | BL17: 28 | BM17: =BN17+BO17 -> 130 | BN17: 67 | BO17: 63 | BP17: =BQ17+BR17 -> 152 | BQ17: 70 | BR17: 82 | BS17: =BT17+BU17 -> 126 | BT17: 61 | BU17: 65 | BV17: =BW17+BX17 -> 364 | BW17: 201 | BX17: 163 | BY17: =BZ17+CA17 -> 133 | BZ17: 72 | CA17: 61 | CB17: =CC17+CD17 -> 552 | CC17: 295 | CD17: 257 | CE17: =CF17+CG17 -> 165 | CF17: 84 | CG17: 81 | CH17: =CI17+CJ17 -> 174 | CI17: 104 | CJ17: 70 | CK17: =CL17+CM17 -> 224 | CL17: 99 | CM17: 125 | CN17: =CO17+CP17 -> 127 | CO17: 65 | CP17: 62 | CQ17: =CR17+CS17 -> 144 | CR17: 70 | CS17: 74 | CT17: =CU17+CV17 -> 168 | CU17: 90 | CV17: 78 | CW17: =CX17+CY17 -> 130 | CX17: 73 | CY17: 57 | CZ17: =DA17+DB17 -> 94 | DA17: 54 | DB17: 40
A18: 9 | B18: =C18+D18 -> 6153 | C18: =F18+I18+L18+O18+R18+U18+X18+AA18+AD18+AG18+AJ18+AM18+AP18+AS18+AV18+AY18+BB18+BE18+BH18+BK18+BN18+BQ18+BT18+BW18+BZ18+CC18+CF18+CI18+CL18+CO18+CR18+CU18+CX18+DA18 -> 3104 | D18: =G18+J18+M18+P18+S18+V18+Y18+AB18+AE18+AH18+AK18+AN18+AQ18+AT18+AW18+AZ18+BC18+BF18+BI18+BL18+BO18+BR18+BU18+BX18+CA18+CD18+CG18+CJ18+CM18+CP18+CS18+CV18+CY18+DB18 -> 3049 | E18: =F18+G18 -> 226 | F18: 114 | G18: 112 | H18: =I18+J18 -> 207 | I18: 105 | J18: 102 | K18: =L18+M18 -> 164 | L18: 92 | M18: 72 | N18: =O18+P18 -> 180 | O18: 97 | P18: 83 | Q18: =R18+S18 -> 179 | R18: 91 | S18: 88 | T18: =U18+V18 -> 231 | U18: 119 | V18: 112 | W18: =X18+Y18 -> 173 | X18: 94 | Y18: 79 | Z18: =AA18+AB18 -> 180 | AA18: 83 | AB18: 97 | AC18: =AD18+AE18 -> 211 | AD18: 104 | AE18: 107 | AF18: =AG18+AH18 -> 174 | AG18: 90 | AH18: 84 | AI18: =AJ18+AK18 -> 123 | AJ18: 68 | AK18: 55 | AL18: =AM18+AN18 -> 118 | AM18: 63 | AN18: 55 | AO18: =AP18+AQ18 -> 116 | AP18: 56 | AQ18: 60 | AR18: =AS18+AT18 -> 94 | AS18: 35 | AT18: 59 | AU18: =AV18+AW18 -> 97 | AV18: 50 | AW18: 47 | AX18: =AY18+AZ18 -> 108 | AY18: 55 | AZ18: 53 | BA18: =BB18+BC18 -> 177 | BB18: 83 | BC18: 94 | BD18: =BE18+BF18 -> 225 | BE18: 106 | BF18: 119 | BG18: =BH18+BI18 -> 168 | BH18: 101 | BI18: 67 | BJ18: =BK18+BL18 -> 61 | BK18: 37 | BL18: 24 | BM18: =BN18+BO18 -> 151 | BN18: 74 | BO18: 77 | BP18: =BQ18+BR18 -> 146 | BQ18: 78 | BR18: 68 | BS18: =BT18+BU18 -> 134 | BT18: 63 | BU18: 71 | BV18: =BW18+BX18 -> 396 | BW18: 187 | BX18: 209 | BY18: =BZ18+CA18 -> 180 | BZ18: 103 | CA18: 77 | CB18: =CC18+CD18 -> 593 | CC18: 287 | CD18: 306 | CE18: =CF18+CG18 -> 200 | CF18: 104 | CG18: 96 | CH18: =CI18+CJ18 -> 166 | CI18: 85 | CJ18: 81 | CK18: =CL18+CM18 -> 228 | CL18: 115 | CM18: 113 | CN18: =CO18+CP18 -> 136 | CO18: 68 | CP18: 68 | CQ18: =CR18+CS18 -> 190 | CR18: 97 | CS18: 93 | CT18: =CU18+CV18 -> 170 | CU18: 78 | CV18: 92 | CW18: =CX18+CY18 -> 150 | CX18: 69 | CY18: 81 | CZ18: =DA18+DB18 -> 101 | DA18: 53 | DB18: 48
A19: 10-14 | B19: =C19+D19 -> 30103 | C19: =F19+I19+L19+O19+R19+U19+X19+AA19+AD19+AG19+AJ19+AM19+AP19+AS19+AV19+AY19+BB19+BE19+BH19+BK19+BN19+BQ19+BT19+BW19+BZ19+CC19+CF19+CI19+CL19+CO19+CR19+CU19+CX19+DA19 -> 15354 | D19: =G19+J19+M19+P19+S19+V19+Y19+AB19+AE19+AH19+AK19+AN19+AQ19+AT19+AW19+AZ19+BC19+BF19+BI19+BL19+BO19+BR19+BU19+BX19+CA19+CD19+CG19+CJ19+CM19+CP19+CS19+CV19+CY19+DB19 -> 14749 | E19: =F19+G19 -> 1068 | F19: 538 | G19: 530 | H19: =I19+J19 -> 986 | I19: 514 | J19: 472 | K19: =L19+M19 -> 796 | L19: 415 | M19: 381 | N19: =O19+P19 -> 912 | O19: 478 | P19: 434 | Q19: =R19+S19 -> 979 | R19: 476 | S19: 503 | T19: =U19+V19 -> 1179 | U19: 606 | V19: 573 | W19: =X19+Y19 -> 876 | X19: 435 | Y19: 441 | Z19: =AA19+AB19 -> 963 | AA19: 480 | AB19: 483 | AC19: =AD19+AE19 -> 884 | AD19: 454 | AE19: 430 | AF19: =AG19+AH19 -> 911 | AG19: 483 | AH19: 428 | AI19: =AJ19+AK19 -> 701 | AJ19: 361 | AK19: 340 | AL19: =AM19+AN19 -> 603 | AM19: 308 | AN19: 295 | AO19: =AP19+AQ19 -> 579 | AP19: 288 | AQ19: 291 | AR19: =AS19+AT19 -> 441 | AS19: 205 | AT19: 236 | AU19: =AV19+AW19 -> 543 | AV19: 281 | AW19: 262 | AX19: =AY19+AZ19 -> 427 | AY19: 216 | AZ19: 211 | BA19: =BB19+BC19 -> 959 | BB19: 492 | BC19: 467 | BD19: =BE19+BF19 -> 1264 | BE19: 625 | BF19: 639 | BG19: =BH19+BI19 -> 907 | BH19: 448 | BI19: 459 | BJ19: =BK19+BL19 -> 303 | BK19: 178 | BL19: 125 | BM19: =BN19+BO19 -> 689 | BN19: 344 | BO19: 345 | BP19: =BQ19+BR19 -> 763 | BQ19: 386 | BR19: 377 | BS19: =BT19+BU19 -> 610 | BT19: 312 | BU19: 298 | BV19: =BW19+BX19 -> 1771 | BW19: 885 | BX19: 886 | BY19: =BZ19+CA19 -> 827 | BZ19: 439 | CA19: 388 | CB19: =CC19+CD19 -> 2587 | CC19: 1327 | CD19: 1260 | CE19: =CF19+CG19 -> 901 | CF19: 476 | CG19: 425 | CH19: =CI19+CJ19 -> 803 | CI19: 403 | CJ19: 400 | CK19: =CL19+CM19 -> 1137 | CL19: 578 | CM19: 559 | CN19: =CO19+CP19 -> 689 | CO19: 355 | CP19: 334 | CQ19: =CR19+CS19 -> 796 | CR19: 390 | CS19: 406 | CT19: =CU19+CV19 -> 969 | CU19: 508 | CV19: 461 | CW19: =CX19+CY19 -> 776 | CX19: 416 | CY19: 360 | CZ19: =DA19+DB19 -> 504 | DA19: 254 | DB19: 250
A20: 10 | B20: =C20+D20 -> 6337 | C20: =F20+I20+L20+O20+R20+U20+X20+AA20+AD20+AG20+AJ20+AM20+AP20+AS20+AV20+AY20+BB20+BE20+BH20+BK20+BN20+BQ20+BT20+BW20+BZ20+CC20+CF20+CI20+CL20+CO20+CR20+CU20+CX20+DA20 -> 3244 | D20: =G20+J20+M20+P20+S20+V20+Y20+AB20+AE20+AH20+AK20+AN20+AQ20+AT20+AW20+AZ20+BC20+BF20+BI20+BL20+BO20+BR20+BU20+BX20+CA20+CD20+CG20+CJ20+CM20+CP20+CS20+CV20+CY20+DB20 -> 3093 | E20: =F20+G20 -> 198 | F20: 104 | G20: 94 | H20: =I20+J20 -> 211 | I20: 111 | J20: 100 | K20: =L20+M20 -> 171 | L20: 87 | M20: 84 | N20: =O20+P20 -> 191 | O20: 92 | P20: 99 | Q20: =R20+S20 -> 190 | R20: 87 | S20: 103 | T20: =U20+V20 -> 248 | U20: 123 | V20: 125 | W20: =X20+Y20 -> 186 | X20: 98 | Y20: 88 | Z20: =AA20+AB20 -> 206 | AA20: 99 | AB20: 107 | AC20: =AD20+AE20 -> 176 | AD20: 83 | AE20: 93 | AF20: =AG20+AH20 -> 207 | AG20: 122 | AH20: 85 | AI20: =AJ20+AK20 -> 157 | AJ20: 82 | AK20: 75 | AL20: =AM20+AN20 -> 141 | AM20: 78 | AN20: 63 | AO20: =AP20+AQ20 -> 109 | AP20: 61 | AQ20: 48 | AR20: =AS20+AT20 -> 95 | AS20: 34 | AT20: 61 | AU20: =AV20+AW20 -> 110 | AV20: 51 | AW20: 59 | AX20: =AY20+AZ20 -> 83 | AY20: 46 | AZ20: 37 | BA20: =BB20+BC20 -> 207 | BB20: 102 | BC20: 105 | BD20: =BE20+BF20 -> 258 | BE20: 118 | BF20: 140 | BG20: =BH20+BI20 -> 168 | BH20: 76 | BI20: 92 | BJ20: =BK20+BL20 -> 54 | BK20: 36 | BL20: 18 | BM20: =BN20+BO20 -> 153 | BN20: 70 | BO20: 83 | BP20: =BQ20+BR20 -> 165 | BQ20: 90 | BR20: 75 | BS20: =BT20+BU20 -> 124 | BT20: 63 | BU20: 61 | BV20: =BW20+BX20 -> 406 | BW20: 205 | BX20: 201 | BY20: =BZ20+CA20 -> 169 | BZ20: 101 | CA20: 68 | CB20: =CC20+CD20 -> 603 | CC20: 312 | CD20: 291 | CE20: =CF20+CG20 -> 190 | CF20: 106 | CG20: 84 | CH20: =CI20+CJ20 -> 172 | CI20: 82 | CJ20: 90 | CK20: =CL20+CM20 -> 220 | CL20: 115 | CM20: 105 | CN20: =CO20+CP20 -> 131 | CO20: 74 | CP20: 57 | CQ20: =CR20+CS20 -> 175 | CR20: 87 | CS20: 88 | CT20: =CU20+CV20 -> 189 | CU20: 105 | CV20: 84 | CW20: =CX20+CY20 -> 163 | CX20: 84 | CY20: 79 | CZ20: =DA20+DB20 -> 111 | DA20: 60 | DB20: 51
A21: 11 | B21: =C21+D21 -> 6560 | C21: =F21+I21+L21+O21+R21+U21+X21+AA21+AD21+AG21+AJ21+AM21+AP21+AS21+AV21+AY21+BB21+BE21+BH21+BK21+BN21+BQ21+BT21+BW21+BZ21+CC21+CF21+CI21+CL21+CO21+CR21+CU21+CX21+DA21 -> 3306 | D21: =G21+J21+M21+P21+S21+V21+Y21+AB21+AE21+AH21+AK21+AN21+AQ21+AT21+AW21+AZ21+BC21+BF21+BI21+BL21+BO21+BR21+BU21+BX21+CA21+CD21+CG21+CJ21+CM21+CP21+CS21+CV21+CY21+DB21 -> 3254 | E21: =F21+G21 -> 236 | F21: 126 | G21: 110 | H21: =I21+J21 -> 227 | I21: 126 | J21: 101 | K21: =L21+M21 -> 162 | L21: 79 | M21: 83 | N21: =O21+P21 -> 201 | O21: 106 | P21: 95 | Q21: =R21+S21 -> 227 | R21: 105 | S21: 122 | T21: =U21+V21 -> 230 | U21: 128 | V21: 102 | W21: =X21+Y21 -> 182 | X21: 86 | Y21: 96 | Z21: =AA21+AB21 -> 229 | AA21: 110 | AB21: 119 | AC21: =AD21+AE21 -> 194 | AD21: 101 | AE21: 93 | AF21: =AG21+AH21 -> 181 | AG21: 97 | AH21: 84 | AI21: =AJ21+AK21 -> 127 | AJ21: 60 | AK21: 67 | AL21: =AM21+AN21 -> 108 | AM21: 50 | AN21: 58 | AO21: =AP21+AQ21 -> 111 | AP21: 45 | AQ21: 66 | AR21: =AS21+AT21 -> 116 | AS21: 55 | AT21: 61 | AU21: =AV21+AW21 -> 128 | AV21: 70 | AW21: 58 | AX21: =AY21+AZ21 -> 83 | AY21: 36 | AZ21: 47 | BA21: =BB21+BC21 -> 220 | BB21: 111 | BC21: 109 | BD21: =BE21+BF21 -> 249 | BE21: 115 | BF21: 134 | BG21: =BH21+BI21 -> 203 | BH21: 109 | BI21: 94 | BJ21: =BK21+BL21 -> 74 | BK21: 44 | BL21: 30 | BM21: =BN21+BO21 -> 139 | BN21: 79 | BO21: 60 | BP21: =BQ21+BR21 -> 167 | BQ21: 85 | BR21: 82 | BS21: =BT21+BU21 -> 136 | BT21: 72 | BU21: 64 | BV21: =BW21+BX21 -> 381 | BW21: 192 | BX21: 189 | BY21: =BZ21+CA21 -> 176 | BZ21: 89 | CA21: 87 | CB21: =CC21+CD21 -> 610 | CC21: 315 | CD21: 295 | CE21: =CF21+CG21 -> 211 | CF21: 103 | CG21: 108 | CH21: =CI21+CJ21 -> 190 | CI21: 85 | CJ21: 105 | CK21: =CL21+CM21 -> 269 | CL21: 120 | CM21: 149 | CN21: =CO21+CP21 -> 161 | CO21: 82 | CP21: 79 | CQ21: =CR21+CS21 -> 173 | CR21: 80 | CS21: 93 | CT21: =CU21+CV21 -> 202 | CU21: 106 | CV21: 96 | CW21: =CX21+CY21 -> 157 | CX21: 91 | CY21: 66 | CZ21: =DA21+DB21 -> 100 | DA21: 48 | DB21: 52
A22: 12 | B22: =C22+D22 -> 6081 | C22: =F22+I22+L22+O22+R22+U22+X22+AA22+AD22+AG22+AJ22+AM22+AP22+AS22+AV22+AY22+BB22+BE22+BH22+BK22+BN22+BQ22+BT22+BW22+BZ22+CC22+CF22+CI22+CL22+CO22+CR22+CU22+CX22+DA22 -> 3197 | D22: =G22+J22+M22+P22+S22+V22+Y22+AB22+AE22+AH22+AK22+AN22+AQ22+AT22+AW22+AZ22+BC22+BF22+BI22+BL22+BO22+BR22+BU22+BX22+CA22+CD22+CG22+CJ22+CM22+CP22+CS22+CV22+CY22+DB22 -> 2884 | E22: =F22+G22 -> 233 | F22: 119 | G22: 114 | H22: =I22+J22 -> 210 | I22: 102 | J22: 108 | K22: =L22+M22 -> 151 | L22: 85 | M22: 66 | N22: =O22+P22 -> 183 | O22: 100 | P22: 83 | Q22: =R22+S22 -> 191 | R22: 114 | S22: 77 | T22: =U22+V22 -> 238 | U22: 130 | V22: 108 | W22: =X22+Y22 -> 174 | X22: 88 | Y22: 86 | Z22: =AA22+AB22 -> 172 | AA22: 91 | AB22: 81 | AC22: =AD22+AE22 -> 174 | AD22: 85 | AE22: 89 | AF22: =AG22+AH22 -> 209 | AG22: 116 | AH22: 93 | AI22: =AJ22+AK22 -> 140 | AJ22: 87 | AK22: 53 | AL22: =AM22+AN22 -> 128 | AM22: 58 | AN22: 70 | AO22: =AP22+AQ22 -> 130 | AP22: 66 | AQ22: 64 | AR22: =AS22+AT22 -> 90 | AS22: 44 | AT22: 46 | AU22: =AV22+AW22 -> 117 | AV22: 65 | AW22: 52 | AX22: =AY22+AZ22 -> 92 | AY22: 47 | AZ22: 45 | BA22: =BB22+BC22 -> 197 | BB22: 108 | BC22: 89 | BD22: =BE22+BF22 -> 238 | BE22: 127 | BF22: 111 | BG22: =BH22+BI22 -> 175 | BH22: 88 | BI22: 87 | BJ22: =BK22+BL22 -> 65 | BK22: 34 | BL22: 31 | BM22: =BN22+BO22 -> 124 | BN22: 69 | BO22: 55 | BP22: =BQ22+BR22 -> 144 | BQ22: 74 | BR22: 70 | BS22: =BT22+BU22 -> 120 | BT22: 52 | BU22: 68 | BV22: =BW22+BX22 -> 376 | BW22: 183 | BX22: 193 | BY22: =BZ22+CA22 -> 188 | BZ22: 99 | CA22: 89 | CB22: =CC22+CD22 -> 512 | CC22: 282 | CD22: 230 | CE22: =CF22+CG22 -> 192 | CF22: 101 | CG22: 91 | CH22: =CI22+CJ22 -> 139 | CI22: 86 | CJ22: 53 | CK22: =CL22+CM22 -> 253 | CL22: 126 | CM22: 127 | CN22: =CO22+CP22 -> 124 | CO22: 67 | CP22: 57 | CQ22: =CR22+CS22 -> 147 | CR22: 67 | CS22: 80 | CT22: =CU22+CV22 -> 209 | CU22: 106 | CV22: 103 | CW22: =CX22+CY22 -> 145 | CX22: 80 | CY22: 65 | CZ22: =DA22+DB22 -> 101 | DA22: 51 | DB22: 50
A23: 13 | B23: =C23+D23 -> 5958 | C23: =F23+I23+L23+O23+R23+U23+X23+AA23+AD23+AG23+AJ23+AM23+AP23+AS23+AV23+AY23+BB23+BE23+BH23+BK23+BN23+BQ23+BT23+BW23+BZ23+CC23+CF23+CI23+CL23+CO23+CR23+CU23+CX23+DA23 -> 2973 | D23: =G23+J23+M23+P23+S23+V23+Y23+AB23+AE23+AH23+AK23+AN23+AQ23+AT23+AW23+AZ23+BC23+BF23+BI23+BL23+BO23+BR23+BU23+BX23+CA23+CD23+CG23+CJ23+CM23+CP23+CS23+CV23+CY23+DB23 -> 2985 | E23: =F23+G23 -> 211 | F23: 96 | G23: 115 | H23: =I23+J23 -> 181 | I23: 102 | J23: 79 | K23: =L23+M23 -> 157 | L23: 81 | M23: 76 | N23: =O23+P23 -> 170 | O23: 87 | P23: 83 | Q23: =R23+S23 -> 186 | R23: 85 | S23: 101 | T23: =U23+V23 -> 256 | U23: 115 | V23: 141 | W23: =X23+Y23 -> 183 | X23: 80 | Y23: 103 | Z23: =AA23+AB23 -> 197 | AA23: 94 | AB23: 103 | AC23: =AD23+AE23 -> 162 | AD23: 90 | AE23: 72 | AF23: =AG23+AH23 -> 154 | AG23: 66 | AH23: 88 | AI23: =AJ23+AK23 -> 143 | AJ23: 66 | AK23: 77 | AL23: =AM23+AN23 -> 108 | AM23: 57 | AN23: 51 | AO23: =AP23+AQ23 -> 118 | AP23: 59 | AQ23: 59 | AR23: =AS23+AT23 -> 76 | AS23: 40 | AT23: 36 | AU23: =AV23+AW23 -> 107 | AV23: 59 | AW23: 48 | AX23: =AY23+AZ23 -> 100 | AY23: 55 | AZ23: 45 | BA23: =BB23+BC23 -> 173 | BB23: 91 | BC23: 82 | BD23: =BE23+BF23 -> 280 | BE23: 138 | BF23: 142 | BG23: =BH23+BI23 -> 198 | BH23: 100 | BI23: 98 | BJ23: =BK23+BL23 -> 59 | BK23: 31 | BL23: 28 | BM23: =BN23+BO23 -> 158 | BN23: 73 | BO23: 85 | BP23: =BQ23+BR23 -> 144 | BQ23: 71 | BR23: 73 | BS23: =BT23+BU23 -> 119 | BT23: 67 | BU23: 52 | BV23: =BW23+BX23 -> 343 | BW23: 167 | BX23: 176 | BY23: =BZ23+CA23 -> 171 | BZ23: 88 | CA23: 83 | CB23: =CC23+CD23 -> 468 | CC23: 220 | CD23: 248 | CE23: =CF23+CG23 -> 172 | CF23: 99 | CG23: 73 | CH23: =CI23+CJ23 -> 169 | CI23: 84 | CJ23: 85 | CK23: =CL23+CM23 -> 221 | CL23: 115 | CM23: 106 | CN23: =CO23+CP23 -> 148 | CO23: 72 | CP23: 76 | CQ23: =CR23+CS23 -> 161 | CR23: 82 | CS23: 79 | CT23: =CU23+CV23 -> 184 | CU23: 90 | CV23: 94 | CW23: =CX23+CY23 -> 181 | CX23: 103 | CY23: 78 | CZ23: =DA23+DB23 -> 100 | DA23: 50 | DB23: 50
A24: 14 | B24: =C24+D24 -> 5167 | C24: =F24+I24+L24+O24+R24+U24+X24+AA24+AD24+AG24+AJ24+AM24+AP24+AS24+AV24+AY24+BB24+BE24+BH24+BK24+BN24+BQ24+BT24+BW24+BZ24+CC24+CF24+CI24+CL24+CO24+CR24+CU24+CX24+DA24 -> 2634 | D24: =G24+J24+M24+P24+S24+V24+Y24+AB24+AE24+AH24+AK24+AN24+AQ24+AT24+AW24+AZ24+BC24+BF24+BI24+BL24+BO24+BR24+BU24+BX24+CA24+CD24+CG24+CJ24+CM24+CP24+CS24+CV24+CY24+DB24 -> 2533 | E24: =F24+G24 -> 190 | F24: 93 | G24: 97 | H24: =I24+J24 -> 157 | I24: 73 | J24: 84 | K24: =L24+M24 -> 155 | L24: 83 | M24: 72 | N24: =O24+P24 -> 167 | O24: 93 | P24: 74 | Q24: =R24+S24 -> 185 | R24: 85 | S24: 100 | T24: =U24+V24 -> 207 | U24: 110 | V24: 97 | W24: =X24+Y24 -> 151 | X24: 83 | Y24: 68 | Z24: =AA24+AB24 -> 159 | AA24: 86 | AB24: 73 | AC24: =AD24+AE24 -> 178 | AD24: 95 | AE24: 83 | AF24: =AG24+AH24 -> 160 | AG24: 82 | AH24: 78 | AI24: =AJ24+AK24 -> 134 | AJ24: 66 | AK24: 68 | AL24: =AM24+AN24 -> 118 | AM24: 65 | AN24: 53 | AO24: =AP24+AQ24 -> 111 | AP24: 57 | AQ24: 54 | AR24: =AS24+AT24 -> 64 | AS24: 32 | AT24: 32 | AU24: =AV24+AW24 -> 81 | AV24: 36 | AW24: 45 | AX24: =AY24+AZ24 -> 69 | AY24: 32 | AZ24: 37 | BA24: =BB24+BC24 -> 162 | BB24: 80 | BC24: 82 | BD24: =BE24+BF24 -> 239 | BE24: 127 | BF24: 112 | BG24: =BH24+BI24 -> 163 | BH24: 75 | BI24: 88 | BJ24: =BK24+BL24 -> 51 | BK24: 33 | BL24: 18 | BM24: =BN24+BO24 -> 115 | BN24: 53 | BO24: 62 | BP24: =BQ24+BR24 -> 143 | BQ24: 66 | BR24: 77 | BS24: =BT24+BU24 -> 111 | BT24: 58 | BU24: 53 | BV24: =BW24+BX24 -> 265 | BW24: 138 | BX24: 127 | BY24: =BZ24+CA24 -> 123 | BZ24: 62 | CA24: 61 | CB24: =CC24+CD24 -> 394 | CC24: 198 | CD24: 196 | CE24: =CF24+CG24 -> 136 | CF24: 67 | CG24: 69 | CH24: =CI24+CJ24 -> 133 | CI24: 66 | CJ24: 67 | CK24: =CL24+CM24 -> 174 | CL24: 102 | CM24: 72 | CN24: =CO24+CP24 -> 125 | CO24: 60 | CP24: 65 | CQ24: =CR24+CS24 -> 140 | CR24: 74 | CS24: 66 | CT24: =CU24+CV24 -> 185 | CU24: 101 | CV24: 84 | CW24: =CX24+CY24 -> 130 | CX24: 58 | CY24: 72 | CZ24: =DA24+DB24 -> 92 | DA24: 45 | DB24: 47
A25: 15-19 | B25: =C25+D25 -> 19419 | C25: =F25+I25+L25+O25+R25+U25+X25+AA25+AD25+AG25+AJ25+AM25+AP25+AS25+AV25+AY25+BB25+BE25+BH25+BK25+BN25+BQ25+BT25+BW25+BZ25+CC25+CF25+CI25+CL25+CO25+CR25+CU25+CX25+DA25 -> 9767 | D25: =G25+J25+M25+P25+S25+V25+Y25+AB25+AE25+AH25+AK25+AN25+AQ25+AT25+AW25+AZ25+BC25+BF25+BI25+BL25+BO25+BR25+BU25+BX25+CA25+CD25+CG25+CJ25+CM25+CP25+CS25+CV25+CY25+DB25 -> 9652 | E25: =F25+G25 -> 710 | F25: 373 | G25: 337 | H25: =I25+J25 -> 707 | I25: 333 | J25: 374 | K25: =L25+M25 -> 545 | L25: 287 | M25: 258 | N25: =O25+P25 -> 638 | O25: 329 | P25: 309 | Q25: =R25+S25 -> 653 | R25: 341 | S25: 312 | T25: =U25+V25 -> 864 | U25: 403 | V25: 461 | W25: =X25+Y25 -> 537 | X25: 280 | Y25: 257 | Z25: =AA25+AB25 -> 654 | AA25: 318 | AB25: 336 | AC25: =AD25+AE25 -> 607 | AD25: 312 | AE25: 295 | AF25: =AG25+AH25 -> 584 | AG25: 300 | AH25: 284 | AI25: =AJ25+AK25 -> 499 | AJ25: 260 | AK25: 239 | AL25: =AM25+AN25 -> 422 | AM25: 217 | AN25: 205 | AO25: =AP25+AQ25 -> 363 | AP25: 162 | AQ25: 201 | AR25: =AS25+AT25 -> 325 | AS25: 167 | AT25: 158 | AU25: =AV25+AW25 -> 409 | AV25: 212 | AW25: 197 | AX25: =AY25+AZ25 -> 345 | AY25: 183 | AZ25: 162 | BA25: =BB25+BC25 -> 633 | BB25: 332 | BC25: 301 | BD25: =BE25+BF25 -> 802 | BE25: 404 | BF25: 398 | BG25: =BH25+BI25 -> 594 | BH25: 287 | BI25: 307 | BJ25: =BK25+BL25 -> 209 | BK25: 104 | BL25: 105 | BM25: =BN25+BO25 -> 519 | BN25: 246 | BO25: 273 | BP25: =BQ25+BR25 -> 559 | BQ25: 276 | BR25: 283 | BS25: =BT25+BU25 -> 484 | BT25: 255 | BU25: 229 | BV25: =BW25+BX25 -> 904 | BW25: 429 | BX25: 475 | BY25: =BZ25+CA25 -> 503 | BZ25: 248 | CA25: 255 | CB25: =CC25+CD25 -> 1332 | CC25: 694 | CD25: 638 | CE25: =CF25+CG25 -> 500 | CF25: 263 | CG25: 237 | CH25: =CI25+CJ25 -> 479 | CI25: 246 | CJ25: 233 | CK25: =CL25+CM25 -> 705 | CL25: 347 | CM25: 358 | CN25: =CO25+CP25 -> 468 | CO25: 250 | CP25: 218 | CQ25: =CR25+CS25 -> 450 | CR25: 210 | CS25: 240 | CT25: =CU25+CV25 -> 595 | CU25: 284 | CV25: 311 | CW25: =CX25+CY25 -> 455 | CX25: 243 | CY25: 212 | CZ25: =DA25+DB25 -> 366 | DA25: 172 | DB25: 194
